BEGIN:VCALENDAR
VERSION:2.0
PRODID:-//Brahman Event - ECPv6.15.15//NONSGML v1.0//EN
CALSCALE:GREGORIAN
METHOD:PUBLISH
X-WR-CALNAME:Brahman Event
X-ORIGINAL-URL:https://brahmanevent.com
X-WR-CALDESC:Events for Brahman Event
REFRESH-INTERVAL;VALUE=DURATION:PT1H
X-Robots-Tag:noindex
X-PUBLISHED-TTL:PT1H
BEGIN:VTIMEZONE
TZID:America/Chicago
BEGIN:DAYLIGHT
TZOFFSETFROM:-0600
TZOFFSETTO:-0500
TZNAME:CDT
DTSTART:20250309T080000
END:DAYLIGHT
BEGIN:STANDARD
TZOFFSETFROM:-0500
TZOFFSETTO:-0600
TZNAME:CST
DTSTART:20251102T070000
END:STANDARD
BEGIN:DAYLIGHT
TZOFFSETFROM:-0600
TZOFFSETTO:-0500
TZNAME:CDT
DTSTART:20260308T080000
END:DAYLIGHT
BEGIN:STANDARD
TZOFFSETFROM:-0500
TZOFFSETTO:-0600
TZNAME:CST
DTSTART:20261101T070000
END:STANDARD
BEGIN:DAYLIGHT
TZOFFSETFROM:-0600
TZOFFSETTO:-0500
TZNAME:CDT
DTSTART:20270314T080000
END:DAYLIGHT
BEGIN:STANDARD
TZOFFSETFROM:-0500
TZOFFSETTO:-0600
TZNAME:CST
DTSTART:20271107T070000
END:STANDARD
END:VTIMEZONE
BEGIN:VEVENT
DTSTART;VALUE=DATE:20260501
DTEND;VALUE=DATE:20260502
DTSTAMP:20260421T140958
CREATED:20251120T214435Z
LAST-MODIFIED:20251120T214435Z
UID:10001155-1777593600-1777679999@brahmanevent.com
SUMMARY:AJBA All American Ownership Deadline
DESCRIPTION:Perry GeorgiaAJBA All American Ownership Deadline
URL:https://brahmanevent.com/event/ajba-all-american-ownership-deadline/
LOCATION:Perry Georgia\, Perry\, GA\, United States
CATEGORIES:Other
ATTACH;FMTTYPE=image/png:https://brahmanevent.com/wp-content/uploads/brahman-event-feature-image.png
GEO:32.4582065;-83.7315723
END:VEVENT
BEGIN:VEVENT
DTSTART;TZID=America/Chicago:20260501T080000
DTEND;TZID=America/Chicago:20260501T170000
DTSTAMP:20260421T140958
CREATED:20251120T214133Z
LAST-MODIFIED:20260318T170125Z
UID:10001154-1777622400-1777654800@brahmanevent.com
SUMMARY:EBBA Expo Showmanship Classic
DESCRIPTION:Perry GeorgiaMake plans to attend the EBBA Expo Showmanship Classic! For more information\, click here.
URL:https://brahmanevent.com/event/ebba-expo-showmanship-classic/
LOCATION:Perry Georgia\, Perry\, GA\, United States
CATEGORIES:Clinic,Junior Shows
ATTACH;FMTTYPE=image/png:https://brahmanevent.com/wp-content/uploads/EBBA.png
GEO:32.4582065;-83.7315723
END:VEVENT
BEGIN:VEVENT
DTSTART;TZID=America/Chicago:20260501T080000
DTEND;TZID=America/Chicago:20260503T170000
DTSTAMP:20260421T140958
CREATED:20251031T184543Z
LAST-MODIFIED:20260318T171428Z
UID:10001110-1777622400-1777827600@brahmanevent.com
SUMMARY:EBBA Extravaganza and Bonanza Open Brahman Show
DESCRIPTION:Perry GeorgiaMake sure to make plans to attend the EBBA Extravaganza and Bonanza Open Brahman Show! \nEntry Deadlines \n04/15 - Regular Pricing Entry Deadline \n04/27 - Online Entries Close at Midnight (EDT). \nTo enter or learn more about the show\, click here.
URL:https://brahmanevent.com/event/ebba-extravaganza-open-brahman-show/
LOCATION:Perry Georgia\, Perry\, GA\, United States
CATEGORIES:Open Shows
ATTACH;FMTTYPE=image/jpeg:https://brahmanevent.com/wp-content/uploads/639401752_1553300016804145_2155190368276997490_n.jpg
GEO:32.4582065;-83.7315723
END:VEVENT
END:VCALENDAR