BEGIN:VCALENDAR
VERSION:2.0
PRODID:-//Brahman Event - ECPv6.15.15//NONSGML v1.0//EN
CALSCALE:GREGORIAN
METHOD:PUBLISH
X-ORIGINAL-URL:https://brahmanevent.com
X-WR-CALDESC:Events for Brahman Event
REFRESH-INTERVAL;VALUE=DURATION:PT1H
X-Robots-Tag:noindex
X-PUBLISHED-TTL:PT1H
BEGIN:VTIMEZONE
TZID:America/Chicago
BEGIN:DAYLIGHT
TZOFFSETFROM:-0600
TZOFFSETTO:-0500
TZNAME:CDT
DTSTART:20220313T080000
END:DAYLIGHT
BEGIN:STANDARD
TZOFFSETFROM:-0500
TZOFFSETTO:-0600
TZNAME:CST
DTSTART:20221106T070000
END:STANDARD
BEGIN:DAYLIGHT
TZOFFSETFROM:-0600
TZOFFSETTO:-0500
TZNAME:CDT
DTSTART:20230312T080000
END:DAYLIGHT
BEGIN:STANDARD
TZOFFSETFROM:-0500
TZOFFSETTO:-0600
TZNAME:CST
DTSTART:20231105T070000
END:STANDARD
BEGIN:DAYLIGHT
TZOFFSETFROM:-0600
TZOFFSETTO:-0500
TZNAME:CDT
DTSTART:20240310T080000
END:DAYLIGHT
BEGIN:STANDARD
TZOFFSETFROM:-0500
TZOFFSETTO:-0600
TZNAME:CST
DTSTART:20241103T070000
END:STANDARD
BEGIN:DAYLIGHT
TZOFFSETFROM:-0600
TZOFFSETTO:-0500
TZNAME:CDT
DTSTART:20250309T080000
END:DAYLIGHT
BEGIN:STANDARD
TZOFFSETFROM:-0500
TZOFFSETTO:-0600
TZNAME:CST
DTSTART:20251102T070000
END:STANDARD
BEGIN:DAYLIGHT
TZOFFSETFROM:-0600
TZOFFSETTO:-0500
TZNAME:CDT
DTSTART:20260308T080000
END:DAYLIGHT
BEGIN:STANDARD
TZOFFSETFROM:-0500
TZOFFSETTO:-0600
TZNAME:CST
DTSTART:20261101T070000
END:STANDARD
END:VTIMEZONE
BEGIN:VEVENT
DTSTART;TZID=America/Chicago:20250502T080000
DTEND;TZID=America/Chicago:20250504T170000
DTSTAMP:20260421T155914
CREATED:20250214T203019Z
LAST-MODIFIED:20250214T203019Z
UID:10000957-1746172800-1746378000@brahmanevent.com
SUMMARY:2025 EBBA Extravaganza-Bonanza "Exbo"
DESCRIPTION:Perry GeorgiaMake plans to attend the 2025 EBBA Extravaganza-Bonanza "Exbo"! \nEntries can be submitted through the Showman App page - coming soon! \nFriday\, May 2nd - ExBo Showmanship Classic \nJudge: David Daniel Jr. \nSaturday\, May 3rd - EBBA Extravaganza Open Brahman Show \nJudge: Larry Barthle \nSunday\, May 4th - EBBA Bonanza Open Brahman Show \nJudge: Dr. John Rayfield
URL:https://brahmanevent.com/event/2025-ebba-extravaganza-bonanza-exbo/
LOCATION:Perry Georgia\, Perry\, GA\, United States
CATEGORIES:Junior Shows,Open Shows
ATTACH;FMTTYPE=image/jpeg:https://brahmanevent.com/wp-content/uploads/IMG_6452.jpg
GEO:32.4582065;-83.7315723
END:VEVENT
BEGIN:VEVENT
DTSTART;TZID=America/Chicago:20240503T080000
DTEND;TZID=America/Chicago:20240505T170000
DTSTAMP:20260421T155914
CREATED:20240115T223634Z
LAST-MODIFIED:20240327T194726Z
UID:10000598-1714723200-1714928400@brahmanevent.com
SUMMARY:EBBA Extravaganza & Bonanza
DESCRIPTION:Perry GeorgiaMake plans to attend the EBBA Extravaganza & Bonanza! \nEntry Deadline is April 4th to avoid late fees\, subsitutions can be made until April 22nd at no charge. \nShow Check-In: \nDate: Friday\, May 3rd\, 2024 \nTime: Noon to 6 PM \nAll cattle must be in place by 8 PM. \nSaturday check-in for Sunday’s Bonanza Open Show is available upon request. \nFriday Schedule: \n12pm-4pm - Junior Judging Contest & Clinic \n5pm - Showmanship Contest - Judge: Alex Pittman \nSaturday Schedule: \n8am - EBBA Extravaganza Open Show - Judge: David Miller \n6pm - ABBA 100 Years Celebration Banquet \nSunday Schedule: \n8am - Cowboy Church Service \n9am - EBBA Bonanza Open Show - Judge: Dr. Joe Paschal
URL:https://brahmanevent.com/event/ebba-extravaganza-bonanza/
LOCATION:Perry Georgia\, Perry\, GA\, United States
CATEGORIES:Open Shows
ATTACH;FMTTYPE=image/jpeg:https://brahmanevent.com/wp-content/uploads/WhatsApp-Image-2024-03-27-at-13.14.45_f3ff4bb0.jpg
GEO:32.4582065;-83.7315723
END:VEVENT
BEGIN:VEVENT
DTSTART;TZID=America/Chicago:20230521T080000
DTEND;TZID=America/Chicago:20230521T170000
DTSTAMP:20260421T155914
CREATED:20230113T191033Z
LAST-MODIFIED:20230113T191205Z
UID:10000236-1684656000-1684688400@brahmanevent.com
SUMMARY:Eastern Brahman Extravaganza Jackpot Open Show
DESCRIPTION:Perry GeorgiaMake plans to attend the Eastern Brahman Extravaganza Jackpot Open Show!
URL:https://brahmanevent.com/event/eastern-brahman-extravaganza-jackpot-open-show/
LOCATION:Perry Georgia\, Perry\, GA\, United States
CATEGORIES:Open Shows
ATTACH;FMTTYPE=image/jpeg:https://brahmanevent.com/wp-content/uploads/EBBA-Extravganza-ad.jpg
GEO:32.4582065;-83.7315723
END:VEVENT
BEGIN:VEVENT
DTSTART;TZID=America/Chicago:20230520T080000
DTEND;TZID=America/Chicago:20230520T170000
DTSTAMP:20260421T155914
CREATED:20220823T162202Z
LAST-MODIFIED:20230424T143854Z
UID:10000260-1684569600-1684602000@brahmanevent.com
SUMMARY:EBBA Extravaganza Open Show
DESCRIPTION:Perry GeorgiaMake plans to attend the EBBA Extravaganza Open Show
URL:https://brahmanevent.com/event/ebba-extravaganza-open-show/
LOCATION:Perry Georgia\, Perry\, GA\, United States
CATEGORIES:Open Shows
ATTACH;FMTTYPE=image/jpeg:https://brahmanevent.com/wp-content/uploads/deadline.jpg
GEO:32.4582065;-83.7315723
END:VEVENT
END:VCALENDAR