BEGIN:VCALENDAR
VERSION:2.0
PRODID:-//Brahman Event - ECPv6.15.15//NONSGML v1.0//EN
CALSCALE:GREGORIAN
METHOD:PUBLISH
X-ORIGINAL-URL:https://brahmanevent.com
X-WR-CALDESC:Events for Brahman Event
REFRESH-INTERVAL;VALUE=DURATION:PT1H
X-Robots-Tag:noindex
X-PUBLISHED-TTL:PT1H
BEGIN:VTIMEZONE
TZID:America/Chicago
BEGIN:DAYLIGHT
TZOFFSETFROM:-0600
TZOFFSETTO:-0500
TZNAME:CDT
DTSTART:20220313T080000
END:DAYLIGHT
BEGIN:STANDARD
TZOFFSETFROM:-0500
TZOFFSETTO:-0600
TZNAME:CST
DTSTART:20221106T070000
END:STANDARD
BEGIN:DAYLIGHT
TZOFFSETFROM:-0600
TZOFFSETTO:-0500
TZNAME:CDT
DTSTART:20230312T080000
END:DAYLIGHT
BEGIN:STANDARD
TZOFFSETFROM:-0500
TZOFFSETTO:-0600
TZNAME:CST
DTSTART:20231105T070000
END:STANDARD
BEGIN:DAYLIGHT
TZOFFSETFROM:-0600
TZOFFSETTO:-0500
TZNAME:CDT
DTSTART:20240310T080000
END:DAYLIGHT
BEGIN:STANDARD
TZOFFSETFROM:-0500
TZOFFSETTO:-0600
TZNAME:CST
DTSTART:20241103T070000
END:STANDARD
END:VTIMEZONE
BEGIN:VEVENT
DTSTART;TZID=America/Chicago:20230916T080000
DTEND;TZID=America/Chicago:20230916T170000
DTSTAMP:20260421T081356
CREATED:20230530T181047Z
LAST-MODIFIED:20230530T181328Z
UID:10000406-1694851200-1694883600@brahmanevent.com
SUMMARY:Oklahoma State Fair Open Brahman Show
DESCRIPTION:Oklahoma Youth ExpoMake plans to attend the Oklahoma State Fair Open Brahman Show!
URL:https://brahmanevent.com/event/oklahoma-state-fair-open-brahman-show/
LOCATION:Oklahoma Youth Expo\, 21 Land Rush Street\, Oklahoma\, OK\, 73107\, United States
CATEGORIES:Open Shows
ATTACH;FMTTYPE=image/png:https://brahmanevent.com/wp-content/uploads/2021/12/Brahman-Event-logo.png
GEO:35.4650254;-97.5688536
X-APPLE-STRUCTURED-LOCATION;VALUE=URI;X-ADDRESS=Oklahoma Youth Expo 21 Land Rush Street Oklahoma OK 73107 United States;X-APPLE-RADIUS=500;X-TITLE=21 Land Rush Street:geo:-97.5688536,35.4650254
END:VEVENT
BEGIN:VEVENT
DTSTART;TZID=America/Chicago:20230916T080000
DTEND;TZID=America/Chicago:20230916T170000
DTSTAMP:20260421T081356
CREATED:20230530T180830Z
LAST-MODIFIED:20230530T180831Z
UID:10000405-1694851200-1694883600@brahmanevent.com
SUMMARY:Oklahoma State Fair Junior Brahman Show
DESCRIPTION:Oklahoma Youth ExpoMake plans to attend the Oklahoma State Fair Junior Brahman Show!
URL:https://brahmanevent.com/event/oklahoma-state-fair-junior-brahman-show/
LOCATION:Oklahoma Youth Expo\, 21 Land Rush Street\, Oklahoma\, OK\, 73107\, United States
CATEGORIES:Junior Shows
ATTACH;FMTTYPE=image/png:https://brahmanevent.com/wp-content/uploads/2021/12/Brahman-Event-logo.png
GEO:35.4650254;-97.5688536
X-APPLE-STRUCTURED-LOCATION;VALUE=URI;X-ADDRESS=Oklahoma Youth Expo 21 Land Rush Street Oklahoma OK 73107 United States;X-APPLE-RADIUS=500;X-TITLE=21 Land Rush Street:geo:-97.5688536,35.4650254
END:VEVENT
END:VCALENDAR