BEGIN:VCALENDAR
VERSION:2.0
PRODID:-//Brahman Event - ECPv6.15.15//NONSGML v1.0//EN
CALSCALE:GREGORIAN
METHOD:PUBLISH
X-ORIGINAL-URL:https://brahmanevent.com
X-WR-CALDESC:Events for Brahman Event
REFRESH-INTERVAL;VALUE=DURATION:PT1H
X-Robots-Tag:noindex
X-PUBLISHED-TTL:PT1H
BEGIN:VTIMEZONE
TZID:America/Chicago
BEGIN:DAYLIGHT
TZOFFSETFROM:-0600
TZOFFSETTO:-0500
TZNAME:CDT
DTSTART:20250309T080000
END:DAYLIGHT
BEGIN:STANDARD
TZOFFSETFROM:-0500
TZOFFSETTO:-0600
TZNAME:CST
DTSTART:20251102T070000
END:STANDARD
BEGIN:DAYLIGHT
TZOFFSETFROM:-0600
TZOFFSETTO:-0500
TZNAME:CDT
DTSTART:20260308T080000
END:DAYLIGHT
BEGIN:STANDARD
TZOFFSETFROM:-0500
TZOFFSETTO:-0600
TZNAME:CST
DTSTART:20261101T070000
END:STANDARD
BEGIN:DAYLIGHT
TZOFFSETFROM:-0600
TZOFFSETTO:-0500
TZNAME:CDT
DTSTART:20270314T080000
END:DAYLIGHT
BEGIN:STANDARD
TZOFFSETFROM:-0500
TZOFFSETTO:-0600
TZNAME:CST
DTSTART:20271107T070000
END:STANDARD
END:VTIMEZONE
BEGIN:VEVENT
DTSTART;VALUE=DATE:20260622
DTEND;VALUE=DATE:20260626
DTSTAMP:20260422T064900
CREATED:20251121T182933Z
LAST-MODIFIED:20260318T173543Z
UID:10001166-1782086400-1782431999@brahmanevent.com
SUMMARY:Florida Cattlemen's Assoc. Annual Convention
DESCRIPTION:Marco Island\, FLMake plans to attend the Florida Cattlemen's Assoc. Annual Convention! \n\nMonday\, June 22\, 202610 a.m.-6 p.m. Registration1 p.m. Sweetheart Contestant Meeting2-10 p.m. Trade Show Exhibitor Move-In \n3-6 p.m. Silent Auction Drop-off6-8 p.m. FCLA Graduation/YCC Tour Reunion Reception \n8 p.m.-12 a.m. Lobby Bar Entertainment \nTuesday\, June 23\, 20268 a.m.-5 p.m. Registration \n8 a.m. Reserved Table Sales Open8 a.m.-12 p.m. Trade Show Exhibitor Move-In8:30 a.m.-12:30 p.m. FCA Exec. Committee Mtg. & Lunch \n9 a.m.-1 p.m. Silent Auction Drop-off9:30 a.m. FCW Exec. Committee Meeting & Lunch10 a.m. Florida Grazing Lands Coalition Meeting1 p.m. Sweetheart Power Point Presentations1-6 p.m. Silent Auction Opens1 p.m. Opening General Session2 p.m. Committee Meetings - Block 1 \n               Agricultural Research & Education \n               Allied Meeting (Mandatory for all Trade Show Exhibitors) \n               Animal Health & Inspection \n               Membership Committee/FCCA Meeting \n               Historical Council \n3 p.m. Committee Meetings - Block 2 \n               Environmental\, Private Lands Mgmt. \n               Marketing\, Grading & Food Policy \n               Public Relations2-4 p.m. JFCA Check-in & Stockman's Challenge2 p.m. FCW Welcoming Reception/Ice Cream Social4 p.m. Allied Members’  Trade Show Opening Reception4-8 p.m. Trade Show Open (Cash Bar in Show Area) \n5-6 p.m. Sweetheart Reunion6-8 p.m. FCW Officers\, Past Pres.\, & Chair Reception8 p.m. Big Loop Dummy Roping & King of the Reach \n8 p.m.-12 a.m. Lobby Bar Entertainment \n\n\nWednesday\, June 24\, 20267 a.m. FCA BOD/General Membership Meeting8 a.m.-4 p.m. Registration8 a.m. -9 p.m. Silent Auction Open9-11:30 a.m. FCW BOD/General Membership Meeting9-11 a.m. JFCA General Session/Business Meeting12 p.m. Youth Appreciation Luncheon 1-4:30 p.m. Trade Show Open4:30-7:30 p.m. Trade Show Exhibitor Move-Out5 p.m. Cattlemen’s Reception6 p.m. Cattlemen’s Supper8 p.m. NCBA PAC & FL Cow PAC Bull Sale Auction \n              (immediately following Supper)8 p.m.-11 p.m. Junior Dance9:15 p.m. Silent Auction Closes (item pick-up)           (immediately following Bull Sale)9 p.m. Concert and Dance \nThursday\, June 25\, 20267 a.m. FCA Past Presidents/Exec. Committee Breakfast8:30 a.m. FCW Membership Breakfast8 a.m.-12p.m. Registration \n9 a.m. Florida Brahman Breeders Assoc. Membership Meeting10 a.m. Golf Tournament11 a.m. Volleyball Tournament \n3:30 p.m. Movie Screening: World Without Cows6 p.m. President’s Reception7 p.m. Cattlemen’s Banquet (dress: Evening Attire)8 p.m.-11 p.m.  Junior Dance9 p.m. Concert and Dance \n\n\nSchedule and meeting times subject to change
URL:https://brahmanevent.com/event/florida-cattlemens-assoc-annual-convention-3/
LOCATION:Marco Island\, FL\, Marco Island\, FL\, United States
CATEGORIES:Conventions
ATTACH;FMTTYPE=image/jpeg:https://brahmanevent.com/wp-content/uploads/2026-Convention-Packet_Page_01-scaled.jpg
GEO:25.9397412;-81.7075355
X-APPLE-STRUCTURED-LOCATION;VALUE=URI;X-ADDRESS=Marco Island FL Marco Island FL United States;X-APPLE-RADIUS=500;X-TITLE=Marco Island:geo:-81.7075355,25.9397412
END:VEVENT
END:VCALENDAR