BEGIN:VCALENDAR
VERSION:2.0
PRODID:-//Brahman Event - ECPv6.15.15//NONSGML v1.0//EN
CALSCALE:GREGORIAN
METHOD:PUBLISH
X-WR-CALNAME:Brahman Event
X-ORIGINAL-URL:https://brahmanevent.com
X-WR-CALDESC:Events for Brahman Event
REFRESH-INTERVAL;VALUE=DURATION:PT1H
X-Robots-Tag:noindex
X-PUBLISHED-TTL:PT1H
BEGIN:VTIMEZONE
TZID:America/Chicago
BEGIN:DAYLIGHT
TZOFFSETFROM:-0600
TZOFFSETTO:-0500
TZNAME:CDT
DTSTART:20230312T080000
END:DAYLIGHT
BEGIN:STANDARD
TZOFFSETFROM:-0500
TZOFFSETTO:-0600
TZNAME:CST
DTSTART:20231105T070000
END:STANDARD
BEGIN:DAYLIGHT
TZOFFSETFROM:-0600
TZOFFSETTO:-0500
TZNAME:CDT
DTSTART:20240310T080000
END:DAYLIGHT
BEGIN:STANDARD
TZOFFSETFROM:-0500
TZOFFSETTO:-0600
TZNAME:CST
DTSTART:20241103T070000
END:STANDARD
BEGIN:DAYLIGHT
TZOFFSETFROM:-0600
TZOFFSETTO:-0500
TZNAME:CDT
DTSTART:20250309T080000
END:DAYLIGHT
BEGIN:STANDARD
TZOFFSETFROM:-0500
TZOFFSETTO:-0600
TZNAME:CST
DTSTART:20251102T070000
END:STANDARD
BEGIN:DAYLIGHT
TZOFFSETFROM:-0600
TZOFFSETTO:-0500
TZNAME:CDT
DTSTART:20260308T080000
END:DAYLIGHT
BEGIN:STANDARD
TZOFFSETFROM:-0500
TZOFFSETTO:-0600
TZNAME:CST
DTSTART:20261101T070000
END:STANDARD
BEGIN:DAYLIGHT
TZOFFSETFROM:-0600
TZOFFSETTO:-0500
TZNAME:CDT
DTSTART:20270314T080000
END:DAYLIGHT
BEGIN:STANDARD
TZOFFSETFROM:-0500
TZOFFSETTO:-0600
TZNAME:CST
DTSTART:20271107T070000
END:STANDARD
END:VTIMEZONE
BEGIN:VEVENT
DTSTART;TZID=America/Chicago:20260125T080000
DTEND;TZID=America/Chicago:20260125T170000
DTSTAMP:20260425T183810
CREATED:20251018T173750Z
LAST-MODIFIED:20251119T153224Z
UID:10001086-1769328000-1769360400@brahmanevent.com
SUMMARY:South Florida Fair Jr. Brahman Show
DESCRIPTION:South Florida FairMake sure to make it to The South Florida Fair Jr. Brahman Show!
URL:https://brahmanevent.com/event/south-florida-fair-jr-brahman-show/
LOCATION:West Palm Florida\, West Palm\, FL\, United States
CATEGORIES:Junior Shows
ATTACH;FMTTYPE=image/png:https://brahmanevent.com/wp-content/uploads/brahman-event-feature-image.png
ORGANIZER;CN="South Florida Fair":MAILTO: bettye@southfloridafair.com
GEO:26.7153424;-80.0533746
END:VEVENT
BEGIN:VEVENT
DTSTART;TZID=America/Chicago:20260124T080000
DTEND;TZID=America/Chicago:20260124T170000
DTSTAMP:20260425T183810
CREATED:20251017T141534Z
LAST-MODIFIED:20251017T141534Z
UID:10001085-1769241600-1769274000@brahmanevent.com
SUMMARY:South Florida Fair Open Brahman Show
DESCRIPTION:South Florida FairMake sure to make it to the South Florida Fair Open Brahman Show!
URL:https://brahmanevent.com/event/south-florida-fair-open-brahman-show-4/
LOCATION:West Palm Florida\, West Palm\, FL\, United States
CATEGORIES:Open Shows
ATTACH;FMTTYPE=image/png:https://brahmanevent.com/wp-content/uploads/brahman-event-feature-image.png
ORGANIZER;CN="South Florida Fair":MAILTO: bettye@southfloridafair.com
GEO:26.7153424;-80.0533746
END:VEVENT
BEGIN:VEVENT
DTSTART;TZID=America/Chicago:20250126T080000
DTEND;TZID=America/Chicago:20250126T170000
DTSTAMP:20260425T183810
CREATED:20241024T174506Z
LAST-MODIFIED:20250113T182019Z
UID:10000785-1737878400-1737910800@brahmanevent.com
SUMMARY:South Florida Fair - Junior Brahman Show
DESCRIPTION:South Florida FairMake plans to attend the South Florida Fair - Junior Brahman Show! For more information\, click here. \nArrival/Check-In: Friday\, January 24\, 2025 • 1-4 p.m.\nOpen Show Schedule\nSaturday\, January 25\, 2025 • 4 p.m. \nYouth Show Schedule\nSunday\, January 26\, 2025\nShow starts one hour following Open Dairy Goat Show
URL:https://brahmanevent.com/event/2025-sff-junior-brahman-show/
LOCATION:South Florida Fair\, 9067 Southern Boulevard\, West Palm Beach\, FL\, 33411\, United States
CATEGORIES:Junior Shows
ATTACH;FMTTYPE=image/png:https://brahmanevent.com/wp-content/uploads/SouthFloridaFair.png
ORGANIZER;CN="South Florida Fair":MAILTO: bettye@southfloridafair.com
GEO:26.6841617;-80.1889232
X-APPLE-STRUCTURED-LOCATION;VALUE=URI;X-ADDRESS=South Florida Fair 9067 Southern Boulevard West Palm Beach FL 33411 United States;X-APPLE-RADIUS=500;X-TITLE=9067 Southern Boulevard:geo:-80.1889232,26.6841617
END:VEVENT
BEGIN:VEVENT
DTSTART;TZID=America/Chicago:20250125T080000
DTEND;TZID=America/Chicago:20250125T170000
DTSTAMP:20260425T183810
CREATED:20241024T174301Z
LAST-MODIFIED:20250113T181633Z
UID:10000784-1737792000-1737824400@brahmanevent.com
SUMMARY:South Florida Fair - Open Brahman Show
DESCRIPTION:South Florida FairMake plans to attend the South Florida Fair - Open Brahman Show! For more information\, click here. \nArrival/Check-In: Friday\, January 24\, 2025 • 1-4 p.m.\nOpen Show Schedule\nSaturday\, January 25\, 2025 • 4 p.m. \nYouth Show Schedule\nSunday\, January 26\, 2025\nShow starts one hour following Open Dairy Goat Show
URL:https://brahmanevent.com/event/2025-sff-open-brahman-show/
LOCATION:South Florida Fair\, 9067 Southern Boulevard\, West Palm Beach\, FL\, 33411\, United States
CATEGORIES:Open Shows
ATTACH;FMTTYPE=image/png:https://brahmanevent.com/wp-content/uploads/SouthFloridaFair.png
ORGANIZER;CN="South Florida Fair":MAILTO: bettye@southfloridafair.com
GEO:26.6841617;-80.1889232
X-APPLE-STRUCTURED-LOCATION;VALUE=URI;X-ADDRESS=South Florida Fair 9067 Southern Boulevard West Palm Beach FL 33411 United States;X-APPLE-RADIUS=500;X-TITLE=9067 Southern Boulevard:geo:-80.1889232,26.6841617
END:VEVENT
BEGIN:VEVENT
DTSTART;TZID=America/Chicago:20240121T080000
DTEND;TZID=America/Chicago:20240121T170000
DTSTAMP:20260425T183810
CREATED:20231003T193946Z
LAST-MODIFIED:20231003T193947Z
UID:10000484-1705824000-1705856400@brahmanevent.com
SUMMARY:South Florida Fair Junior Brahman Show
DESCRIPTION:South Florida FairMake plans to attend the 2024 South Florida Fair Junior Brahman Show! Click here to view the current schedule.
URL:https://brahmanevent.com/event/south-florida-fair-junior-brahman-show-4/
LOCATION:South Florida Fair\, 9067 Southern Boulevard\, West Palm Beach\, FL\, 33411\, United States
CATEGORIES:Junior Shows
ATTACH;FMTTYPE=image/jpeg:https://brahmanevent.com/wp-content/uploads/SFF-Logo.jpg
ORGANIZER;CN="South Florida Fair":MAILTO: bettye@southfloridafair.com
GEO:26.6841617;-80.1889232
X-APPLE-STRUCTURED-LOCATION;VALUE=URI;X-ADDRESS=South Florida Fair 9067 Southern Boulevard West Palm Beach FL 33411 United States;X-APPLE-RADIUS=500;X-TITLE=9067 Southern Boulevard:geo:-80.1889232,26.6841617
END:VEVENT
BEGIN:VEVENT
DTSTART;TZID=America/Chicago:20240120T080000
DTEND;TZID=America/Chicago:20240120T170000
DTSTAMP:20260425T183810
CREATED:20231003T193516Z
LAST-MODIFIED:20231003T193544Z
UID:10000483-1705737600-1705770000@brahmanevent.com
SUMMARY:South Florida Fair Open Brahman Show
DESCRIPTION:South Florida FairMake plans to attend the 2024 South Florida Fair Open Brahman Show! Click here to view the current schedule.
URL:https://brahmanevent.com/event/south-florida-fair-open-brahman-show-3/
LOCATION:South Florida Fair\, 9067 Southern Boulevard\, West Palm Beach\, FL\, 33411\, United States
CATEGORIES:Open Shows
ATTACH;FMTTYPE=image/jpeg:https://brahmanevent.com/wp-content/uploads/SFF-Logo.jpg
ORGANIZER;CN="South Florida Fair":MAILTO: bettye@southfloridafair.com
GEO:26.6841617;-80.1889232
X-APPLE-STRUCTURED-LOCATION;VALUE=URI;X-ADDRESS=South Florida Fair 9067 Southern Boulevard West Palm Beach FL 33411 United States;X-APPLE-RADIUS=500;X-TITLE=9067 Southern Boulevard:geo:-80.1889232,26.6841617
END:VEVENT
END:VCALENDAR