BEGIN:VCALENDAR
VERSION:2.0
PRODID:-//Brahman Event - ECPv6.15.15//NONSGML v1.0//EN
CALSCALE:GREGORIAN
METHOD:PUBLISH
X-ORIGINAL-URL:https://brahmanevent.com
X-WR-CALDESC:Events for Brahman Event
REFRESH-INTERVAL;VALUE=DURATION:PT1H
X-Robots-Tag:noindex
X-PUBLISHED-TTL:PT1H
BEGIN:VTIMEZONE
TZID:America/Chicago
BEGIN:DAYLIGHT
TZOFFSETFROM:-0600
TZOFFSETTO:-0500
TZNAME:CDT
DTSTART:20210314T080000
END:DAYLIGHT
BEGIN:STANDARD
TZOFFSETFROM:-0500
TZOFFSETTO:-0600
TZNAME:CST
DTSTART:20211107T070000
END:STANDARD
BEGIN:DAYLIGHT
TZOFFSETFROM:-0600
TZOFFSETTO:-0500
TZNAME:CDT
DTSTART:20220313T080000
END:DAYLIGHT
BEGIN:STANDARD
TZOFFSETFROM:-0500
TZOFFSETTO:-0600
TZNAME:CST
DTSTART:20221106T070000
END:STANDARD
BEGIN:DAYLIGHT
TZOFFSETFROM:-0600
TZOFFSETTO:-0500
TZNAME:CDT
DTSTART:20230312T080000
END:DAYLIGHT
BEGIN:STANDARD
TZOFFSETFROM:-0500
TZOFFSETTO:-0600
TZNAME:CST
DTSTART:20231105T070000
END:STANDARD
BEGIN:DAYLIGHT
TZOFFSETFROM:-0600
TZOFFSETTO:-0500
TZNAME:CDT
DTSTART:20240310T080000
END:DAYLIGHT
BEGIN:STANDARD
TZOFFSETFROM:-0500
TZOFFSETTO:-0600
TZNAME:CST
DTSTART:20241103T070000
END:STANDARD
BEGIN:DAYLIGHT
TZOFFSETFROM:-0600
TZOFFSETTO:-0500
TZNAME:CDT
DTSTART:20250309T080000
END:DAYLIGHT
BEGIN:STANDARD
TZOFFSETFROM:-0500
TZOFFSETTO:-0600
TZNAME:CST
DTSTART:20251102T070000
END:STANDARD
BEGIN:DAYLIGHT
TZOFFSETFROM:-0600
TZOFFSETTO:-0500
TZNAME:CDT
DTSTART:20260308T080000
END:DAYLIGHT
BEGIN:STANDARD
TZOFFSETFROM:-0500
TZOFFSETTO:-0600
TZNAME:CST
DTSTART:20261101T070000
END:STANDARD
END:VTIMEZONE
BEGIN:VEVENT
DTSTART;TZID=America/Chicago:20250823T080000
DTEND;TZID=America/Chicago:20250823T170000
DTSTAMP:20260425T150704
CREATED:20241209T175108Z
LAST-MODIFIED:20250611T211307Z
UID:10000894-1755936000-1755968400@brahmanevent.com
SUMMARY:2025 Southern Invitational Registered Brahman and F1 Sale
DESCRIPTION:Philip GilstrapMake plans to bid in the Southern Invitational Registered Brahman and F1 Sale! For more information\, click HERE
URL:https://brahmanevent.com/event/2025-southern-invitational-registered-brahman-f1-sale/
LOCATION:South Alabama Stockyards\, 268 County Road 552\, Troy\, AL\, United States
CATEGORIES:Best Cattle Sales,Sales
ATTACH;FMTTYPE=image/jpeg:https://brahmanevent.com/wp-content/uploads/2025-Southern_Invitational_V2-2.jpg
ORGANIZER;CN="Philip Gilstrap":MAILTO:PGDDFARM@Bellsouth.net
GEO:31.8440768;-85.9027981
X-APPLE-STRUCTURED-LOCATION;VALUE=URI;X-ADDRESS=South Alabama Stockyards 268 County Road 552 Troy AL United States;X-APPLE-RADIUS=500;X-TITLE=268 County Road 552:geo:-85.9027981,31.8440768
END:VEVENT
BEGIN:VEVENT
DTSTART;TZID=America/Chicago:20250822T080000
DTEND;TZID=America/Chicago:20250825T190000
DTSTAMP:20260425T150704
CREATED:20241209T175500Z
LAST-MODIFIED:20250115T150254Z
UID:10000895-1755849600-1756148400@brahmanevent.com
SUMMARY:2025 Southern Invitational Frozen Genetics Online Sale
DESCRIPTION:Philip GilstrapMake plans to bid in the Southern Invitational Frozen Genetics Online Sale! For more information\, click HERE
URL:https://brahmanevent.com/event/southern-invitational-frozen-genetics-online-sale-2025/
LOCATION:Best Cattle Sales\, United States
CATEGORIES:Best Cattle Sales,Online Events,Sales
ATTACH;FMTTYPE=image/jpeg:https://brahmanevent.com/wp-content/uploads/2025-Calendar-small_Page_02.jpg
ORGANIZER;CN="Philip Gilstrap":MAILTO:PGDDFARM@Bellsouth.net
GEO:37.09024;-95.712891
END:VEVENT
BEGIN:VEVENT
DTSTART;TZID=America/Chicago:20240413T080000
DTEND;TZID=America/Chicago:20240413T170000
DTSTAMP:20260425T150704
CREATED:20230814T163725Z
LAST-MODIFIED:20231211T223215Z
UID:10000460-1712995200-1713027600@brahmanevent.com
SUMMARY:7th Annual Southern Classic Registered Brahman and F1 Female Sale
DESCRIPTION:Philip GilstrapMake plans to bid in the 7th Annual Southern Classic Registered Brahman and F1 Female Sale!
URL:https://brahmanevent.com/event/7th-annual-southern-classic-registered-brahman-and-f1-female-sale/
LOCATION:Best Cattle Sales\, United States
CATEGORIES:Best Cattle Sales
ATTACH;FMTTYPE=image/jpeg:https://brahmanevent.com/wp-content/uploads/bkgd_SouthernClassic-Nov23-V2-2024.jpg
ORGANIZER;CN="Philip Gilstrap":MAILTO:PGDDFARM@Bellsouth.net
GEO:37.09024;-95.712891
END:VEVENT
BEGIN:VEVENT
DTSTART;TZID=America/Chicago:20220827T130000
DTEND;TZID=America/Chicago:20220827T130000
DTSTAMP:20260425T150704
CREATED:20220217T193849Z
LAST-MODIFIED:20220725T151052Z
UID:10000179-1661605200-1661605200@brahmanevent.com
SUMMARY:Southern Invitational Sale
DESCRIPTION:Philip GilstrapMake plans to bid in the 2022 Southern Invitational Sale! \nThe Southern Invitational Frozen Genetic Online Sale will close August 29th! Visit www.bestcattlesales.com to learn more \nWe recommend checking with the event or organization website or Facebook page for additional or updated information.
URL:https://brahmanevent.com/event/southern-invitational-sale/
LOCATION:South Alabama Stockyards\, 268 County Road 552\, Troy\, AL\, United States
CATEGORIES:Sales
ATTACH;FMTTYPE=image/jpeg:https://brahmanevent.com/wp-content/uploads/SouthernInvitational_v5.jpg
ORGANIZER;CN="Philip Gilstrap":MAILTO:PGDDFARM@Bellsouth.net
GEO:31.8440768;-85.9027981
X-APPLE-STRUCTURED-LOCATION;VALUE=URI;X-ADDRESS=South Alabama Stockyards 268 County Road 552 Troy AL United States;X-APPLE-RADIUS=500;X-TITLE=268 County Road 552:geo:-85.9027981,31.8440768
END:VEVENT
END:VCALENDAR