BEGIN:VCALENDAR
VERSION:2.0
PRODID:-//Brahman Event - ECPv6.15.15//NONSGML v1.0//EN
CALSCALE:GREGORIAN
METHOD:PUBLISH
X-WR-CALNAME:Brahman Event
X-ORIGINAL-URL:https://brahmanevent.com
X-WR-CALDESC:Events for Brahman Event
REFRESH-INTERVAL;VALUE=DURATION:PT1H
X-Robots-Tag:noindex
X-PUBLISHED-TTL:PT1H
BEGIN:VTIMEZONE
TZID:America/Chicago
BEGIN:DAYLIGHT
TZOFFSETFROM:-0600
TZOFFSETTO:-0500
TZNAME:CDT
DTSTART:20230312T080000
END:DAYLIGHT
BEGIN:STANDARD
TZOFFSETFROM:-0500
TZOFFSETTO:-0600
TZNAME:CST
DTSTART:20231105T070000
END:STANDARD
BEGIN:DAYLIGHT
TZOFFSETFROM:-0600
TZOFFSETTO:-0500
TZNAME:CDT
DTSTART:20240310T080000
END:DAYLIGHT
BEGIN:STANDARD
TZOFFSETFROM:-0500
TZOFFSETTO:-0600
TZNAME:CST
DTSTART:20241103T070000
END:STANDARD
BEGIN:DAYLIGHT
TZOFFSETFROM:-0600
TZOFFSETTO:-0500
TZNAME:CDT
DTSTART:20250309T080000
END:DAYLIGHT
BEGIN:STANDARD
TZOFFSETFROM:-0500
TZOFFSETTO:-0600
TZNAME:CST
DTSTART:20251102T070000
END:STANDARD
BEGIN:DAYLIGHT
TZOFFSETFROM:-0600
TZOFFSETTO:-0500
TZNAME:CDT
DTSTART:20260308T080000
END:DAYLIGHT
BEGIN:STANDARD
TZOFFSETFROM:-0500
TZOFFSETTO:-0600
TZNAME:CST
DTSTART:20261101T070000
END:STANDARD
BEGIN:DAYLIGHT
TZOFFSETFROM:-0600
TZOFFSETTO:-0500
TZNAME:CDT
DTSTART:20270314T080000
END:DAYLIGHT
BEGIN:STANDARD
TZOFFSETFROM:-0500
TZOFFSETTO:-0600
TZNAME:CST
DTSTART:20271107T070000
END:STANDARD
END:VTIMEZONE
BEGIN:VEVENT
DTSTART;TZID=America/Chicago:20260206T080000
DTEND;TZID=America/Chicago:20260206T170000
DTSTAMP:20260421T055527
CREATED:20251103T153534Z
LAST-MODIFIED:20251103T153534Z
UID:10001122-1770364800-1770397200@brahmanevent.com
SUMMARY:Florida State Fair Jr. Brahman Show
DESCRIPTION:Florida State FairBe sure to make plans for the Florida State Fair Jr. Brahman Show!
URL:https://brahmanevent.com/event/florida-state-fair-jr-brahman-show/
LOCATION:Florida State Fair\, 4800 U.S. 301\, Tampa\, FL\, 33610\, United States
CATEGORIES:Junior Shows
ATTACH;FMTTYPE=image/jpeg:https://brahmanevent.com/wp-content/uploads/Florida-state-fair.jpg
ORGANIZER;CN="Florida State Fair":MAILTO:Lynann.Hudson@freshfromflorida.com
GEO:27.9906714;-82.3626466
X-APPLE-STRUCTURED-LOCATION;VALUE=URI;X-ADDRESS=Florida State Fair 4800 U.S. 301 Tampa FL 33610 United States;X-APPLE-RADIUS=500;X-TITLE=4800 U.S. 301:geo:-82.3626466,27.9906714
END:VEVENT
BEGIN:VEVENT
DTSTART;TZID=America/Chicago:20260205T080000
DTEND;TZID=America/Chicago:20260205T170000
DTSTAMP:20260421T055527
CREATED:20251103T152127Z
LAST-MODIFIED:20251222T160513Z
UID:10001121-1770278400-1770310800@brahmanevent.com
SUMMARY:Florida State Fair Open Brahman Show
DESCRIPTION:Florida State FairBe sure to make plans for the Florida State Fair Open Brahman Show!
URL:https://brahmanevent.com/event/florida-state-fair-open-brahman-show-3/
LOCATION:Florida State Fair\, 4800 U.S. 301\, Tampa\, FL\, 33610\, United States
CATEGORIES:Open Shows
ATTACH;FMTTYPE=image/jpeg:https://brahmanevent.com/wp-content/uploads/Florida-state-fair.jpg
ORGANIZER;CN="Florida State Fair":MAILTO:Lynann.Hudson@freshfromflorida.com
GEO:27.9906714;-82.3626466
X-APPLE-STRUCTURED-LOCATION;VALUE=URI;X-ADDRESS=Florida State Fair 4800 U.S. 301 Tampa FL 33610 United States;X-APPLE-RADIUS=500;X-TITLE=4800 U.S. 301:geo:-82.3626466,27.9906714
END:VEVENT
BEGIN:VEVENT
DTSTART;TZID=America/Chicago:20250207T080000
DTEND;TZID=America/Chicago:20250207T170000
DTSTAMP:20260421T055527
CREATED:20241024T180753Z
LAST-MODIFIED:20250114T163053Z
UID:10000789-1738915200-1738947600@brahmanevent.com
SUMMARY:2025 Florida State Fair - Junior Brahman Show.
DESCRIPTION:Florida State FairMake plans to attend the Florida State Fair - Junior Brahman Show. For more information\, click here.
URL:https://brahmanevent.com/event/2025-florida-state-fair-junior-brahman-show/
LOCATION:Florida State Fair\, 4800 U.S. 301\, Tampa\, FL\, 33610\, United States
CATEGORIES:Junior Shows
ATTACH;FMTTYPE=image/png:https://brahmanevent.com/wp-content/uploads/FloridaStateFair-Dark-Blue-Logo.png
ORGANIZER;CN="Florida State Fair":MAILTO:Lynann.Hudson@freshfromflorida.com
GEO:27.9906714;-82.3626466
X-APPLE-STRUCTURED-LOCATION;VALUE=URI;X-ADDRESS=Florida State Fair 4800 U.S. 301 Tampa FL 33610 United States;X-APPLE-RADIUS=500;X-TITLE=4800 U.S. 301:geo:-82.3626466,27.9906714
END:VEVENT
BEGIN:VEVENT
DTSTART;TZID=America/Chicago:20250206T080000
DTEND;TZID=America/Chicago:20250206T170000
DTSTAMP:20260421T055527
CREATED:20241024T180635Z
LAST-MODIFIED:20250114T163032Z
UID:10000788-1738828800-1738861200@brahmanevent.com
SUMMARY:2025 Florida State Fair - Open Brahman Show
DESCRIPTION:Florida State FairMake plans to attend the Florida State Fair - Open Brahman Show! For more information\, click here.
URL:https://brahmanevent.com/event/2025-florida-state-fair-open-brahman-show/
LOCATION:Florida State Fair\, 4800 U.S. 301\, Tampa\, FL\, 33610\, United States
CATEGORIES:Open Shows
ATTACH;FMTTYPE=image/png:https://brahmanevent.com/wp-content/uploads/FloridaStateFair-Dark-Blue-Logo.png
ORGANIZER;CN="Florida State Fair":MAILTO:Lynann.Hudson@freshfromflorida.com
GEO:27.9906714;-82.3626466
X-APPLE-STRUCTURED-LOCATION;VALUE=URI;X-ADDRESS=Florida State Fair 4800 U.S. 301 Tampa FL 33610 United States;X-APPLE-RADIUS=500;X-TITLE=4800 U.S. 301:geo:-82.3626466,27.9906714
END:VEVENT
BEGIN:VEVENT
DTSTART;TZID=America/Chicago:20240209T080000
DTEND;TZID=America/Chicago:20240209T170000
DTSTAMP:20260421T055527
CREATED:20231014T144148Z
LAST-MODIFIED:20231014T144148Z
UID:10000537-1707465600-1707498000@brahmanevent.com
SUMMARY:2024 Florida State Fair Junior Show
DESCRIPTION:Florida State FairMake plans to attend the 2024 Florida State Fair Junior Show! Click here to learn more.
URL:https://brahmanevent.com/event/2024-florida-state-fair-junior-show/
LOCATION:Florida State Fair\, 4800 U.S. 301\, Tampa\, FL\, 33610\, United States
CATEGORIES:Junior Shows
ATTACH;FMTTYPE=image/png:https://brahmanevent.com/wp-content/uploads/FloridaStateFair-Dark-Blue-Logo.png
ORGANIZER;CN="Florida State Fair":MAILTO:Lynann.Hudson@freshfromflorida.com
GEO:27.9906714;-82.3626466
X-APPLE-STRUCTURED-LOCATION;VALUE=URI;X-ADDRESS=Florida State Fair 4800 U.S. 301 Tampa FL 33610 United States;X-APPLE-RADIUS=500;X-TITLE=4800 U.S. 301:geo:-82.3626466,27.9906714
END:VEVENT
BEGIN:VEVENT
DTSTART;TZID=America/Chicago:20240208T080000
DTEND;TZID=America/Chicago:20240208T170000
DTSTAMP:20260421T055527
CREATED:20231014T143930Z
LAST-MODIFIED:20231014T143931Z
UID:10000536-1707379200-1707411600@brahmanevent.com
SUMMARY:2024 Florida State Fair Open Show
DESCRIPTION:Florida State FairMake plans to attend the 2024 Florida State Fair Open Show! Click here to learn more.
URL:https://brahmanevent.com/event/2024-florida-state-fair-open-show/
LOCATION:Florida State Fair\, 4800 U.S. 301\, Tampa\, FL\, 33610\, United States
CATEGORIES:Open Shows
ATTACH;FMTTYPE=image/png:https://brahmanevent.com/wp-content/uploads/FloridaStateFair-Dark-Blue-Logo.png
ORGANIZER;CN="Florida State Fair":MAILTO:Lynann.Hudson@freshfromflorida.com
GEO:27.9906714;-82.3626466
X-APPLE-STRUCTURED-LOCATION;VALUE=URI;X-ADDRESS=Florida State Fair 4800 U.S. 301 Tampa FL 33610 United States;X-APPLE-RADIUS=500;X-TITLE=4800 U.S. 301:geo:-82.3626466,27.9906714
END:VEVENT
END:VCALENDAR