BEGIN:VCALENDAR
VERSION:2.0
PRODID:-//Brahman Event - ECPv6.15.15//NONSGML v1.0//EN
CALSCALE:GREGORIAN
METHOD:PUBLISH
X-ORIGINAL-URL:https://brahmanevent.com
X-WR-CALDESC:Events for Brahman Event
REFRESH-INTERVAL;VALUE=DURATION:PT1H
X-Robots-Tag:noindex
X-PUBLISHED-TTL:PT1H
BEGIN:VTIMEZONE
TZID:America/Chicago
BEGIN:DAYLIGHT
TZOFFSETFROM:-0600
TZOFFSETTO:-0500
TZNAME:CDT
DTSTART:20220313T080000
END:DAYLIGHT
BEGIN:STANDARD
TZOFFSETFROM:-0500
TZOFFSETTO:-0600
TZNAME:CST
DTSTART:20221106T070000
END:STANDARD
BEGIN:DAYLIGHT
TZOFFSETFROM:-0600
TZOFFSETTO:-0500
TZNAME:CDT
DTSTART:20230312T080000
END:DAYLIGHT
BEGIN:STANDARD
TZOFFSETFROM:-0500
TZOFFSETTO:-0600
TZNAME:CST
DTSTART:20231105T070000
END:STANDARD
BEGIN:DAYLIGHT
TZOFFSETFROM:-0600
TZOFFSETTO:-0500
TZNAME:CDT
DTSTART:20240310T080000
END:DAYLIGHT
BEGIN:STANDARD
TZOFFSETFROM:-0500
TZOFFSETTO:-0600
TZNAME:CST
DTSTART:20241103T070000
END:STANDARD
BEGIN:DAYLIGHT
TZOFFSETFROM:-0600
TZOFFSETTO:-0500
TZNAME:CDT
DTSTART:20250309T080000
END:DAYLIGHT
BEGIN:STANDARD
TZOFFSETFROM:-0500
TZOFFSETTO:-0600
TZNAME:CST
DTSTART:20251102T070000
END:STANDARD
END:VTIMEZONE
BEGIN:VTIMEZONE
TZID:America/Chicago
BEGIN:DAYLIGHT
TZOFFSETFROM:-0600
TZOFFSETTO:-0500
TZNAME:CDT
DTSTART:20220313T080000
END:DAYLIGHT
BEGIN:STANDARD
TZOFFSETFROM:-0500
TZOFFSETTO:-0600
TZNAME:CST
DTSTART:20221106T070000
END:STANDARD
BEGIN:DAYLIGHT
TZOFFSETFROM:-0600
TZOFFSETTO:-0500
TZNAME:CDT
DTSTART:20230312T080000
END:DAYLIGHT
BEGIN:STANDARD
TZOFFSETFROM:-0500
TZOFFSETTO:-0600
TZNAME:CST
DTSTART:20231105T070000
END:STANDARD
BEGIN:DAYLIGHT
TZOFFSETFROM:-0600
TZOFFSETTO:-0500
TZNAME:CDT
DTSTART:20240310T080000
END:DAYLIGHT
BEGIN:STANDARD
TZOFFSETFROM:-0500
TZOFFSETTO:-0600
TZNAME:CST
DTSTART:20241103T070000
END:STANDARD
END:VTIMEZONE
BEGIN:VEVENT
DTSTART;TZID=America/Chicago:20240111T080000
DTEND;TZID=America/Chicago:20240111T170000
DTSTAMP:20260423T064459
CREATED:20231003T192208Z
LAST-MODIFIED:20231003T192209Z
UID:10000480-1704960000-1704992400@brahmanevent.com
SUMMARY:2024 Cattlemen's Congress Open Brahman Show
DESCRIPTION:EventsMake plans to attend the 2024 Cattlemen's Congress Open Brahman Show! Click here to view the current schedule.
URL:https://brahmanevent.com/event/2024-cattlemens-congress-open-brahman-show/
LOCATION:Oklahoma City Fairgrounds\, Central Oklahoma City\, Oklahoma City\, OK\, 73107\, United States
CATEGORIES:Open Shows
ATTACH;FMTTYPE=image/jpeg:https://brahmanevent.com/wp-content/uploads/Cattlemans-Congress-.jpg
END:VEVENT
BEGIN:VEVENT
DTSTART;TZID=America/Chicago:20240110T080000
DTEND;TZID=America/Chicago:20240110T170000
DTSTAMP:20260423T064459
CREATED:20231003T192434Z
LAST-MODIFIED:20231003T192434Z
UID:10000481-1704873600-1704906000@brahmanevent.com
SUMMARY:2024 Cattlemen's Congress Junior Brahman Show
DESCRIPTION:EventsMake plans to attend the 2024 Cattlemen's Congress Junior Brahman Show! Click here to view the current schedule.
URL:https://brahmanevent.com/event/2024-cattlemens-congress-junior-brahman-show/
LOCATION:Oklahoma City Fairgrounds\, Central Oklahoma City\, Oklahoma City\, OK\, 73107\, United States
CATEGORIES:Junior Shows
ATTACH;FMTTYPE=image/jpeg:https://brahmanevent.com/wp-content/uploads/Cattlemans-Congress-.jpg
END:VEVENT
BEGIN:VEVENT
DTSTART;TZID=America/Chicago:20240106T080000
DTEND;TZID=America/Chicago:20240106T170000
DTSTAMP:20260423T064459
CREATED:20231018T203848Z
LAST-MODIFIED:20231027T182151Z
UID:10000545-1704528000-1704560400@brahmanevent.com
SUMMARY:H.O.T. Brahman Association Junior Show
DESCRIPTION:EventsMake plans to attend the H.O.T. Brahman Association Junior Show!
URL:https://brahmanevent.com/event/h-o-t-brahman-association-junior-show/
LOCATION:Bell County Expo Center\, 301 W Loop 121\, Belton\, TX\, 76513\, United States
CATEGORIES:Junior Shows
ATTACH;FMTTYPE=image/jpeg:https://brahmanevent.com/wp-content/uploads/Image-from-iOS-4-1.jpg
GEO:31.029312;-97.479556
X-APPLE-STRUCTURED-LOCATION;VALUE=URI;X-ADDRESS=Bell County Expo Center 301 W Loop 121 Belton TX 76513 United States;X-APPLE-RADIUS=500;X-TITLE=301 W Loop 121:geo:-97.479556,31.029312
END:VEVENT
BEGIN:VEVENT
DTSTART;TZID=America/Chicago:20240105T080000
DTEND;TZID=America/Chicago:20240105T170000
DTSTAMP:20260423T064459
CREATED:20231018T204758Z
LAST-MODIFIED:20231018T204759Z
UID:10000547-1704441600-1704474000@brahmanevent.com
SUMMARY:Heritage Cattle Company First Friday Genetic Drop
DESCRIPTION:EventsDon't miss the Heritage Cattle Company First Friday Genetic Drop!
URL:https://brahmanevent.com/event/heritage-cattle-company-first-friday-genetic-drop-9/2024-01-05/
LOCATION:TX
CATEGORIES:Online Events,Sales
ATTACH;FMTTYPE=image/jpeg:https://brahmanevent.com/wp-content/uploads/HeritageCattle_Badge_Logo-01.jpg
ORGANIZER;CN="Heritage Cattle Company":MAILTO:heritagecattle1@yahoo.com
END:VEVENT
BEGIN:VEVENT
DTSTART;TZID=America/Chicago:20240105T080000
DTEND;TZID=America/Chicago:20240105T170000
DTSTAMP:20260423T064459
CREATED:20231018T203650Z
LAST-MODIFIED:20231027T181905Z
UID:10000544-1704441600-1704474000@brahmanevent.com
SUMMARY:H.O.T. Brahman Association Open Show
DESCRIPTION:EventsMake plans to attend the H.O.T. Brahman Association Open Show!
URL:https://brahmanevent.com/event/h-o-t-brahman-association-open-show/
LOCATION:Bell County Expo Center\, 301 W Loop 121\, Belton\, TX\, 76513\, United States
CATEGORIES:Open Shows
ATTACH;FMTTYPE=image/jpeg:https://brahmanevent.com/wp-content/uploads/Image-from-iOS-4-1.jpg
GEO:31.029312;-97.479556
X-APPLE-STRUCTURED-LOCATION;VALUE=URI;X-ADDRESS=Bell County Expo Center 301 W Loop 121 Belton TX 76513 United States;X-APPLE-RADIUS=500;X-TITLE=301 W Loop 121:geo:-97.479556,31.029312
END:VEVENT
BEGIN:VEVENT
DTSTART;TZID=America/Chicago:20240104T080000
DTEND;TZID=America/Chicago:20240104T170000
DTSTAMP:20260423T064459
CREATED:20231018T202848Z
LAST-MODIFIED:20231027T181703Z
UID:10000543-1704355200-1704387600@brahmanevent.com
SUMMARY:ABBA Winter Classic Open Show
DESCRIPTION:EventsMake plans to attend the ABBA Winter Classic Open Show!
URL:https://brahmanevent.com/event/abba-winter-classic-open-show/
LOCATION:Bell County Expo Center\, 301 W Loop 121\, Belton\, TX\, 76513\, United States
CATEGORIES:Open Shows
ATTACH;FMTTYPE=image/jpeg:https://brahmanevent.com/wp-content/uploads/Image-from-iOS-4-1.jpg
ORGANIZER;CN="ABBA":MAILTO:abba@brahman.org
GEO:31.029312;-97.479556
X-APPLE-STRUCTURED-LOCATION;VALUE=URI;X-ADDRESS=Bell County Expo Center 301 W Loop 121 Belton TX 76513 United States;X-APPLE-RADIUS=500;X-TITLE=301 W Loop 121:geo:-97.479556,31.029312
END:VEVENT
BEGIN:VEVENT
DTSTART;TZID=America/Chicago:20231216T080000
DTEND;TZID=America/Chicago:20231217T170000
DTSTAMP:20260423T064459
CREATED:20230829T192700Z
LAST-MODIFIED:20230911T214641Z
UID:10000469-1702713600-1702832400@brahmanevent.com
SUMMARY:TJBA Holiday Show
DESCRIPTION:EventsMake plans to attend the TJBA Holiday Show!
URL:https://brahmanevent.com/event/tjba-holiday-show/
LOCATION:Washington County Fairgrounds\, 1305 E Blue Bell Rd\, brenham \, TX\, 77833\, United States
CATEGORIES:Junior Shows
ATTACH;FMTTYPE=image/jpeg:https://brahmanevent.com/wp-content/uploads/IMG_9694.jpg
ORGANIZER;CN="TJBA":MAILTO:TexasJuniorBrahmans@gmail.com
GEO:30.1794073;-96.3889793
X-APPLE-STRUCTURED-LOCATION;VALUE=URI;X-ADDRESS=Washington County Fairgrounds 1305 E Blue Bell Rd brenham  TX 77833 United States;X-APPLE-RADIUS=500;X-TITLE=1305 E Blue Bell Rd:geo:-96.3889793,30.1794073
END:VEVENT
BEGIN:VEVENT
DTSTART;TZID=America/Chicago:20231213T080000
DTEND;TZID=America/Chicago:20231214T170000
DTSTAMP:20260423T064459
CREATED:20231127T174756Z
LAST-MODIFIED:20231127T174757Z
UID:10000568-1702454400-1702573200@brahmanevent.com
SUMMARY:Red and White Treat Online Sale
DESCRIPTION:EventsMake plans to bid in the Red and White Treat Online Sale!
URL:https://brahmanevent.com/event/red-and-white-treat-online-sale/
LOCATION:Cattle In Motion
CATEGORIES:Online Events,Sales
ATTACH;FMTTYPE=image/jpeg:https://brahmanevent.com/wp-content/uploads/KI_V2-1.jpg
ORGANIZER;CN="Infinity Cattle Service":MAILTO:infinitycattleservices@gmail.com
END:VEVENT
BEGIN:VEVENT
DTSTART;TZID=America/Chicago:20231208T110000
DTEND;TZID=America/Chicago:20231208T170000
DTSTAMP:20260423T064459
CREATED:20231127T180159Z
LAST-MODIFIED:20231127T183719Z
UID:10000570-1702033200-1702054800@brahmanevent.com
SUMMARY:Expo Reu Agropecuaria 2023
DESCRIPTION:EventsMake plans to attend the Expo Reu Agropecuaria 2023! Click here to learn more.\n¡Haz planes para asistir a la Expo Reu Agropecuaria 2023! Haz clic aquí para saber más.
URL:https://brahmanevent.com/event/expo-reu-agropecuaria-2023/
LOCATION:TX
CATEGORIES:International
ATTACH;FMTTYPE=image/jpeg:https://brahmanevent.com/wp-content/uploads/image-49.jpg
END:VEVENT
BEGIN:VEVENT
DTSTART;TZID=America/Chicago:20231206T080000
DTEND;TZID=America/Chicago:20231208T200000
DTSTAMP:20260423T064459
CREATED:20231127T175320Z
LAST-MODIFIED:20231127T175320Z
UID:10000569-1701849600-1702065600@brahmanevent.com
SUMMARY:SUBASTA HEMBRAS ELITE ONLINE ASOBRAHMAN GUATEMALA
DESCRIPTION:EventsMake plans to bid in the SUBASTA HEMBRAS ELITE ONLINE ASOBRAHMAN GUATEMALA!
URL:https://brahmanevent.com/event/subasta-hembras-elite-online-asobrahman-guatemala/
LOCATION:Best Cattle Sales\, United States
CATEGORIES:Best Cattle Sales,Sales
ATTACH;FMTTYPE=image/png:https://brahmanevent.com/wp-content/uploads/BEST-CATTLE-SALES-WEB.png
GEO:37.09024;-95.712891
END:VEVENT
BEGIN:VEVENT
DTSTART;TZID=America/Chicago:20231206T080000
DTEND;TZID=America/Chicago:20231207T170000
DTSTAMP:20260423T064459
CREATED:20230814T162751Z
LAST-MODIFIED:20231127T174807Z
UID:10000458-1701849600-1701968400@brahmanevent.com
SUMMARY:Sandglass Ranch "Best of the West Bloodstock" Online Sale
DESCRIPTION:EventsMake plans to bid in the Sandglass Ranch "Best of the West Bloodstock" Online Sale!
URL:https://brahmanevent.com/event/sandglass-ranch-best-of-the-west-bloodstock-online-sale-2/
LOCATION:Premier Livestock Auctions
CATEGORIES:Sales
ATTACH;FMTTYPE=image/jpeg:https://brahmanevent.com/wp-content/uploads/bkgd_Sandglass-V3-1.jpg
ORGANIZER;CN="Infinity Cattle Service":MAILTO:infinitycattleservices@gmail.com
END:VEVENT
BEGIN:VEVENT
DTSTART;TZID=America/Chicago:20231204T080000
DTEND;TZID=America/Chicago:20231204T170000
DTSTAMP:20260423T064459
CREATED:20201204T172744Z
LAST-MODIFIED:20250123T171846Z
UID:10000947-1701676800-1701709200@brahmanevent.com
SUMMARY:ABBA Performance Breeders of the Year
DESCRIPTION:EventsMake sure to submit your Performance Breeder of the Year Applications to the ABBA office. \nClick HERE for application. \nIn order for members to be eligible they must meet the following criteria:\n• Complete and submit the official application by December 1 of the year of the award.\n• Register a minimum of ten head per year in ABBA for three years prior to the application year.\n• Submit BHIR information on all calves born (a minimum of a BW) \nThis award will be presented to the recipient each year at the ABBA Annual Meeting. The recipient’s name will be\ndisplayed on a plaque at the ABBA Office. The ABBA Performance Breeder of the Year will also serve as the\nABBA’s Nominee for the BIF Seedstock Producer of the Year.
URL:https://brahmanevent.com/event/2025-abba-performance-breeders-of-the-year-applications-due/2023-12-04/
LOCATION:TX
CATEGORIES:Other Breed Show
ATTACH;FMTTYPE=image/jpeg:https://brahmanevent.com/wp-content/uploads/2021/08/ABBA.jpg
ORGANIZER;CN="ABBA":MAILTO:abba@brahman.org
END:VEVENT
BEGIN:VEVENT
DTSTART;TZID=America/Chicago:20231202T080000
DTEND;TZID=America/Chicago:20231205T170000
DTSTAMP:20260423T064459
CREATED:20231114T194421Z
LAST-MODIFIED:20231114T194547Z
UID:10000566-1701504000-1701795600@brahmanevent.com
SUMMARY:2023 EBBA Christmas Classic Online Genetics Sale Fundraiser
DESCRIPTION:EventsMake plans to bid in the 2023 EBBA Christmas Classic Online Genetics Sale Fundraiser!
URL:https://brahmanevent.com/event/2023-ebba-christmas-classic-online-genetics-sale-fundraiser/
LOCATION:Best Cattle Sales\, United States
CATEGORIES:Best Cattle Sales
ATTACH;FMTTYPE=image/jpeg:https://brahmanevent.com/wp-content/uploads/WhatsApp-Image-2023-11-13-at-18.25.14_52d45858.jpg
GEO:37.09024;-95.712891
END:VEVENT
BEGIN:VEVENT
DTSTART;TZID=America/Chicago:20231202T080000
DTEND;TZID=America/Chicago:20231203T170000
DTSTAMP:20260423T064459
CREATED:20221130T190323Z
LAST-MODIFIED:20230726T212658Z
UID:10000350-1701504000-1701622800@brahmanevent.com
SUMMARY:10th Heartland Classic Open and Junior Brahman Show
DESCRIPTION:EventsMake plans to attend the 11th Heartland Classic Open and Junior Brahman Show with Open Show judge: Terry Burkes!
URL:https://brahmanevent.com/event/10th-heartland-classic-open-and-junior-brahman-show-2/
LOCATION:Wauchula Florida\, 412 W Orange St #103\, Wauchula\, FL\, 33873\, United States
CATEGORIES:Junior Shows,Open Shows
ATTACH;FMTTYPE=image/jpeg:https://brahmanevent.com/wp-content/uploads/361095508_757235173071117_4619538725937163417_n-1.jpg
GEO:27.545898;-81.8154749
X-APPLE-STRUCTURED-LOCATION;VALUE=URI;X-ADDRESS=Wauchula Florida 412 W Orange St #103 Wauchula FL 33873 United States;X-APPLE-RADIUS=500;X-TITLE=412 W Orange St #103:geo:-81.8154749,27.545898
END:VEVENT
BEGIN:VEVENT
DTSTART;TZID=America/Chicago:20231202T080000
DTEND;TZID=America/Chicago:20231203T170000
DTSTAMP:20260423T064459
CREATED:20221130T190130Z
LAST-MODIFIED:20231023T210832Z
UID:10000348-1701504000-1701622800@brahmanevent.com
SUMMARY:2023 EBBA Christmas Classic
DESCRIPTION:EventsMake plans to attend the 2023 EBBA Christmas Classic! \n\nJunior Show: December 2nd\, 2023\n\n  Judge: TBA \nCheck-in must be completed by December 1st. \n\n\n\nOpen Show: December 3rd\, 2023\n\n  Judge: Quest Newberry \nCheck-in must be completed by December 2nd.
URL:https://brahmanevent.com/event/2023-ebba-christmas-classic/
LOCATION:Forrest County Multipurpose Center\, 962 Sullivan Dr\, Hattiesburg\, MS\, 39401\, United States
CATEGORIES:Junior Shows,Open Shows
ATTACH;FMTTYPE=image/png:https://brahmanevent.com/wp-content/uploads/EBBA.png
GEO:31.2577518;-89.2769809
X-APPLE-STRUCTURED-LOCATION;VALUE=URI;X-ADDRESS=Forrest County Multipurpose Center 962 Sullivan Dr Hattiesburg MS 39401 United States;X-APPLE-RADIUS=500;X-TITLE=962 Sullivan Dr:geo:-89.2769809,31.2577518
END:VEVENT
BEGIN:VEVENT
DTSTART;TZID=America/Chicago:20231202T080000
DTEND;TZID=America/Chicago:20231202T170000
DTSTAMP:20260423T064459
CREATED:20230814T162027Z
LAST-MODIFIED:20231025T161439Z
UID:10000457-1701504000-1701536400@brahmanevent.com
SUMMARY:Magic Ranch Herd Reduction Sale
DESCRIPTION:EventsMake plans to bid in the Magic Ranch Herd Reduction Sale\, in College Station\, TX!
URL:https://brahmanevent.com/event/magic-ranch-dispersal-sale/
LOCATION:TX
CATEGORIES:Sales
ATTACH;FMTTYPE=image/jpeg:https://brahmanevent.com/wp-content/uploads/Magic-Ranch-TBJ-NOV.jpg
ORGANIZER;CN="Infinity Cattle Service":MAILTO:infinitycattleservices@gmail.com
END:VEVENT
BEGIN:VEVENT
DTSTART;TZID=America/Chicago:20231201T130000
DTEND;TZID=America/Chicago:20231201T170000
DTSTAMP:20260423T064459
CREATED:20230706T201700Z
LAST-MODIFIED:20230902T180538Z
UID:10000429-1701435600-1701450000@brahmanevent.com
SUMMARY:J Bar Angus Bull and Select Female Sale
DESCRIPTION:EventsMake plans to bid in the J Bar Angus Bull and Select Female Sale!
URL:https://brahmanevent.com/event/lsaa-bull-and-select-female-sale/
LOCATION:J Bar Angus\, Hallettsville\, TX\, 972 FM340\, Hallettsville\, TX\, 77964\, United States
CATEGORIES:Sales
ATTACH;FMTTYPE=image/png:https://brahmanevent.com/wp-content/uploads/2021/12/Brahman-Event-logo.png
GEO:29.4411189;-96.9919685
X-APPLE-STRUCTURED-LOCATION;VALUE=URI;X-ADDRESS=J Bar Angus Hallettsville TX 972 FM340 Hallettsville TX 77964 United States;X-APPLE-RADIUS=500;X-TITLE=972 FM340:geo:-96.9919685,29.4411189
END:VEVENT
BEGIN:VEVENT
DTSTART;TZID=America/Chicago:20231201T080000
DTEND;TZID=America/Chicago:20231201T170000
DTSTAMP:20260423T064459
CREATED:20231018T204758Z
LAST-MODIFIED:20231018T204759Z
UID:10000546-1701417600-1701450000@brahmanevent.com
SUMMARY:Heritage Cattle Company First Friday Genetic Drop
DESCRIPTION:EventsDon't miss the Heritage Cattle Company First Friday Genetic Drop!
URL:https://brahmanevent.com/event/heritage-cattle-company-first-friday-genetic-drop-9/2023-12-01/
LOCATION:TX
CATEGORIES:Online Events,Sales
ATTACH;FMTTYPE=image/jpeg:https://brahmanevent.com/wp-content/uploads/HeritageCattle_Badge_Logo-01.jpg
ORGANIZER;CN="Heritage Cattle Company":MAILTO:heritagecattle1@yahoo.com
END:VEVENT
BEGIN:VEVENT
DTSTART;TZID=America/Chicago:20231129T080000
DTEND;TZID=America/Chicago:20231130T170000
DTSTAMP:20260423T064459
CREATED:20231006T174327Z
LAST-MODIFIED:20231006T174327Z
UID:10000515-1701244800-1701363600@brahmanevent.com
SUMMARY:Branded for Success Online Sale
DESCRIPTION:EventsMake plans to bid in the Branded for Success Online Sale!
URL:https://brahmanevent.com/event/branded-for-success-online-sale/
LOCATION:Best Cattle Sales\, United States
CATEGORIES:Best Cattle Sales
ATTACH;FMTTYPE=image/jpeg:https://brahmanevent.com/wp-content/uploads/2020-BestCattleSales-FB-Topper.jpg
GEO:37.09024;-95.712891
END:VEVENT
BEGIN:VEVENT
DTSTART;TZID=America/Chicago:20231120T080000
DTEND;TZID=America/Chicago:20231121T170000
DTSTAMP:20260423T064459
CREATED:20231023T203717Z
LAST-MODIFIED:20231023T203717Z
UID:10000562-1700467200-1700586000@brahmanevent.com
SUMMARY:BRC Ranch Performance Bull Sale
DESCRIPTION:EventsMake plans to bid in the BRC Ranch Performance Bull Sale!
URL:https://brahmanevent.com/event/brc-ranch-performance-bull-sale/
LOCATION:DV Auction\, United States
CATEGORIES:Sales
ATTACH;FMTTYPE=image/png:https://brahmanevent.com/wp-content/uploads/BRC-BullLogo-2-FINAL.png
ORGANIZER;CN="BR Cutrer":MAILTO:rachel@brcutrer.com
END:VEVENT
BEGIN:VEVENT
DTSTART;TZID=America/Chicago:20231118T080000
DTEND;TZID=America/Chicago:20231121T170000
DTSTAMP:20260423T064459
CREATED:20221130T185630Z
LAST-MODIFIED:20221130T185630Z
UID:10000344-1700294400-1700586000@brahmanevent.com
SUMMARY:9th Annual LMC & Friends Giving THANKS Online Sale
DESCRIPTION:EventsMake plans to bid in the 9th Annual LMC & Friends Giving THANKS Online Sale!
URL:https://brahmanevent.com/event/9th-annual-lmc-friends-giving-thanks-online-sale/
LOCATION:TX
CATEGORIES:Sales
ATTACH;FMTTYPE=image/png:https://brahmanevent.com/wp-content/uploads/image-43.png
ORGANIZER;CN="La Muneca Cattle Co.":MAILTO:LaMunecaCattle@aol.com
END:VEVENT
BEGIN:VEVENT
DTSTART;TZID=America/Chicago:20231117T080000
DTEND;TZID=America/Chicago:20231118T170000
DTSTAMP:20260423T064459
CREATED:20231005T200305Z
LAST-MODIFIED:20231023T214524Z
UID:10000510-1700208000-1700326800@brahmanevent.com
SUMMARY:RODRIGUEZ CATTLE SERVICES Y AMIGOS ONLINE SALE
DESCRIPTION:EventsMake plans to bid in the RODRIGUEZ CATTLE SERVICES Y AMIGOS ONLINE SALE!
URL:https://brahmanevent.com/event/rodriguez-cattle-services-y-amigos-online-sale/
LOCATION:Best Cattle Sales\, United States
CATEGORIES:Best Cattle Sales
ATTACH;FMTTYPE=image/jpeg:https://brahmanevent.com/wp-content/uploads/Rodriguez_cattle_V1.jpg
GEO:37.09024;-95.712891
END:VEVENT
BEGIN:VEVENT
DTSTART;TZID=America/Chicago:20231116T080000
DTEND;TZID=America/Chicago:20231118T170000
DTSTAMP:20260423T064459
CREATED:20230821T155714Z
LAST-MODIFIED:20230821T155825Z
UID:10000464-1700121600-1700326800@brahmanevent.com
SUMMARY:76 Feria Nacional Cebú Bucaramanga 2023
DESCRIPTION:EventsMake plans to attend the 76 Feria Nacional Cebú Bucaramanga 2023!
URL:https://brahmanevent.com/event/76-feria-nacional-cebu-bucaramanga-2023/
LOCATION:TX
CATEGORIES:International
ATTACH;FMTTYPE=image/png:https://brahmanevent.com/wp-content/uploads/image-28.png
ORGANIZER;CN="ASOCEB%C3%9A":MAILTO:asocebu@asocebu.com 
END:VEVENT
BEGIN:VEVENT
DTSTART;TZID=America/Chicago:20231115T140000
DTEND;TZID=America/Chicago:20231115T170000
DTSTAMP:20260423T064459
CREATED:20231008T171659Z
LAST-MODIFIED:20231008T171659Z
UID:10000517-1700056800-1700067600@brahmanevent.com
SUMMARY:5a SUBASTA DE REYES
DESCRIPTION:EventsMake plans to bid in the 5a SUBASTA DE REYES!
URL:https://brahmanevent.com/event/5a-subasta-de-reyes/
LOCATION:Best Cattle Sales\, United States
CATEGORIES:Best Cattle Sales
ATTACH;FMTTYPE=image/jpeg:https://brahmanevent.com/wp-content/uploads/2023-SubastaDeReyes_English_v1.jpg
GEO:37.09024;-95.712891
END:VEVENT
BEGIN:VEVENT
DTSTART;TZID=America/Chicago:20231114T080000
DTEND;TZID=America/Chicago:20231118T230000
DTSTAMP:20260423T064459
CREATED:20230626T205738Z
LAST-MODIFIED:20230920T110334Z
UID:10000425-1699948800-1700348400@brahmanevent.com
SUMMARY:XXV Exposición Nacional Brahman
DESCRIPTION:EventsTravel with The Brahman Journal to MexicoTravel with The Brahman Journal to MexicoMake plans to attend the XXV Exposición Nacional Brahman! Click here to view the full schedule. \n\n\n\n\n\nFECHA\nHORA\nACTIVIDAD\n\n\n\n\nTuesday Nov 7\n8:00 AM\nCattle Arrival\n\n\nWednesday Nov 8\n8:00 AM\nCattle Arrival\n\n\nThursday Nov 9\n8:00 AM\nCattle Arrival\n\n\nFriday Nov 10\n6:00 PM\n8:00 PM\nXXV Exposición Nacional de Ganado Brahman Opening\nOpening Dinner and Welcome\n\n\nSaturday Nov 11\n8:00 AM\nFree Day\n\n\nSunday Nov 12\n8:00 AM\nFree Day\n\n\nMonday Nov 13\n8:00 AM\nWeights\, Zoometric Measurements and Dental Examination\n\n\nTuesday Nov 14\n8:00 AM\n9:30 AM\n1:00 PM\n6:00 PM\nWeights\, Zoometric Measurements and Dental Examination\nField Day\, Visit to the Bovine Genetics Improvement Center\nfrom the UGROY (in Tizimín)\nLunch and Field Day\nReturn to Mérida\n\n\nWednesday Nov 15\n8:00 AM\n2:00 PM\nWeights\, Zoometric Measurements and Dental Examination\nGran Subasta de Reyes\n(Live and Online Sale by Bestcattlesales.com)\n\n\nThursday Nov 16\n9:00 AM\n1:00 PM\n3:00 PM\nRed Brahman Female Show\nLunch\nGray Brahman Female Show\n\n\nFriday Nov 17\n9:00 AM\n1:00 PM\n3:00 PM\nRed Brahman Bull Show\nLunch\nGray Brahman Bull Show\n\n\nSaturday Nov 18\n8:00 AM\n7:30 PM\nABBA Show Judge Clinic\nClosing and Awards Dinner\n\n\nSunday Nov 19\n5:00 AM\n11:00 AM\nCattle Leave the barn\nDeadline to leave the cattle barn\n\n\n\n\n\n\n\n\n\nFECHA\nHORA\nACTIVIDAD\n\n\n\n\nMartes 7 nov\n8:00 hrs.\nRecepción de Ganado\n\n\nMiércoles 8 nov\n8:00 hrs.\nRecepción de Ganado\n\n\nJueves 9 nov\n8:00 hrs.\nRecepción de Ganado\n\n\nViernes 10 nov\n18:00 hrs.\n20:00 hrs.\nInauguración XXV Exposición Nacional de Ganado Brahman\nCena de Inauguración y Bienvenida\n\n\nSábado 11 nov\n8:00 hrs.\nDía Libre\n\n\nDomingo 12 nov\n8:00 hrs.\nDía Libre\n\n\nLunes 13 nov\n8:00 hrs.\nPesaje\, Toma de Medidas Zoométricas y Revisión Dentaria\n\n\nMartes 14 nov\n8:00 hrs.\n9:30 hrs.\n13:00 hrs.\n18:00 hrs.\nPesaje\, Toma de Medidas Zoométricas y Revisión Dentaria\nDía de Campo\, Visita al Centro de Mejoramiento Genético\nBovino de la UGROY (Tizimín)\nComida del Día de Campo\nRetorno a Mérida\n\n\nMiércoles 15 nov\n8:00 hrs.\n14:00 hrs.\nPesaje\, Toma de Medidas Zoométricas y Revisión Dentaria\nGran Subasta de Reyes (En vivo y en línea)\n\n\nJueves 16 nov\n9:00 hrs.\n13:00 hrs.\n15:00 hrs.\nCalificación de Hembras Brahman Rojo\nComida\nCalificación de Hembras Brahman Gris\n\n\nViernes 17 nov\n9:00 hrs.\n13:00 hrs.\n15:00 hrs.\nCalificación de Machos Brahman Rojo\nComida\nCalificación de Machos Brahman Gris\n\n\nSábado 18 nov\n8:00 hrs.\n19:30 hrs.\nClínica de Juzgamiento ABBA\nCena de Clausura y Premiación\n\n\nDomingo 19 nov\n5:00 hrs.\n11:00 hrs.\nSalida del Ganado\nLímite Salida del Ganado
URL:https://brahmanevent.com/event/xxv-exposicion-nacional-brahman/
LOCATION:X’Matkuil\, Yucatan\, United States
CATEGORIES:International
ATTACH;FMTTYPE=image/jpeg:https://brahmanevent.com/wp-content/uploads/MX-National-Brahman_V1.jpg
ORGANIZER;CN="Asociaci%C3%B3n Mexicana de Criadores de Ceb%C3%BA":MAILTO:info@cebumexico.com
END:VEVENT
BEGIN:VEVENT
DTSTART;TZID=America/Chicago:20231108T080000
DTEND;TZID=America/Chicago:20231108T170000
DTSTAMP:20260423T064459
CREATED:20230814T161545Z
LAST-MODIFIED:20230814T161546Z
UID:10000456-1699430400-1699462800@brahmanevent.com
SUMMARY:ABBA "100 Anniversary" Fundraiser
DESCRIPTION:EventsDon't miss out on the ABBA "100 Anniversary" Fundraiser!
URL:https://brahmanevent.com/event/abba-100-anniversary-fundraiser/
LOCATION:TX
CATEGORIES:Sales
ATTACH;FMTTYPE=image/jpeg:https://brahmanevent.com/wp-content/uploads/2021/08/ABBA.jpg
ORGANIZER;CN="ABBA":MAILTO:abba@brahman.org
END:VEVENT
BEGIN:VEVENT
DTSTART;TZID=America/Chicago:20231107T080000
DTEND;TZID=America/Chicago:20231111T200000
DTSTAMP:20260423T064459
CREATED:20230321T182940Z
LAST-MODIFIED:20231107T144657Z
UID:10000379-1699344000-1699732800@brahmanevent.com
SUMMARY:2023 National Brahman Show
DESCRIPTION:This event will be held in the Brazos Valley Expo Center in Bryan\, Texas. \nSchedule of Events:\nTuesday\, November 7th\n7:00 AM: Cattle Arrive\n1:00 – 5:00 PM: Check In\n2:00 – 4:00 PM: ABBA First Set of Committee Meetings\n4:00 – 6:00 PM: ABBA Second Set of Committee Meetings \nWednesday\, November 8th\n8:00 AM: Weights & Measures\, Color Classification\n12:00 PM: ABBA Board of Directors Lunch\n1:00 PM: ABBA Winter Board of Directors Meeting\n6:00 PM: ABBA National Show Welcome Dinner\n7:00 PM: ABBA National Show Sale \nThursday\, November 9th - Judge: Jennifer Collins Parker\n8:00 AM: Females Show \nFriday\, November 10th - Judge: Jennifer Collins Parker\n8:00 AM: Bull Show\nConclusion of the bull show: Cattle release \nSaturday\, November 11th\n10:00 AM: All cattle must be out of the facility. \nHotel Information:\nThe Stella Hotel\n4100 Lake Atlas Drive\nBryan\, Texas 77807\nBOOK HERE \nWyndham Garden\n2829 Texas Avenue\, College Station\, Texas 77845\nBOOK HERE
URL:https://brahmanevent.com/event/2023-national-brahman-show/
LOCATION:Brazos Valley Fair & Expo\, 5827 Leonard Rd\, Bryan\, TX\, 77807\, United States
CATEGORIES:Open Shows
ATTACH;FMTTYPE=image/png:https://brahmanevent.com/wp-content/uploads/2021/12/Brahman-Event-logo.png
ORGANIZER;CN="Reggie Rodriguez":MAILTO:show@nationalbrahmanshow.com
GEO:30.6218544;-96.4160553
X-APPLE-STRUCTURED-LOCATION;VALUE=URI;X-ADDRESS=Brazos Valley Fair & Expo 5827 Leonard Rd Bryan TX 77807 United States;X-APPLE-RADIUS=500;X-TITLE=5827 Leonard Rd:geo:-96.4160553,30.6218544
END:VEVENT
BEGIN:VEVENT
DTSTART;TZID=America/Chicago:20231104T080000
DTEND;TZID=America/Chicago:20231104T170000
DTSTAMP:20260423T064459
CREATED:20230814T161157Z
LAST-MODIFIED:20230925T153913Z
UID:10000455-1699084800-1699117200@brahmanevent.com
SUMMARY:RB Cattle Company "The Final Chapter\, Vol. III" Dispersal Sale
DESCRIPTION:EventsMake plans to bid in the RB Cattle Company "The Final Chapter\, Vol. III" Dispersal Sale!
URL:https://brahmanevent.com/event/rb-cattle-company-the-final-chapter-vol-iii-dispersal-sale/
LOCATION:College Station\, TX\, TX\, United States
CATEGORIES:Sales
ATTACH;FMTTYPE=image/jpeg:https://brahmanevent.com/wp-content/uploads/bkgd_RB-October23-1.jpg
ORGANIZER;CN="Infinity Cattle Service":MAILTO:infinitycattleservices@gmail.com
END:VEVENT
BEGIN:VEVENT
DTSTART;TZID=America/Chicago:20231103T170000
DTEND;TZID=America/Chicago:20231103T170000
DTSTAMP:20260423T064459
CREATED:20230710T211657Z
LAST-MODIFIED:20230815T152802Z
UID:10000433-1699030800-1699030800@brahmanevent.com
SUMMARY:Greater Jacksonville Fair - Junior Brahman Show
DESCRIPTION:EventsMake plans to attend the Greater Jacksonville Fair - Junior Brahman Show!
URL:https://brahmanevent.com/event/greater-jacksonville-fair-junior-brahman-show-3/
LOCATION:Greater Jacksonville Fair\, 510 Fair Grounds Place\, Jacksonville\, FL\, 32202\, United States
CATEGORIES:Junior Shows
ATTACH;FMTTYPE=image/png:https://brahmanevent.com/wp-content/uploads/image-36.png
GEO:30.3273562;-81.6414376
X-APPLE-STRUCTURED-LOCATION;VALUE=URI;X-ADDRESS=Greater Jacksonville Fair 510 Fair Grounds Place Jacksonville FL 32202 United States;X-APPLE-RADIUS=500;X-TITLE=510 Fair Grounds Place:geo:-81.6414376,30.3273562
END:VEVENT
BEGIN:VEVENT
DTSTART;TZID=America/Chicago:20231103T080000
DTEND;TZID=America/Chicago:20231103T170000
DTSTAMP:20260423T064459
CREATED:20221130T185317Z
LAST-MODIFIED:20221130T185317Z
UID:10000343-1698998400-1699030800@brahmanevent.com
SUMMARY:Heritage Cattle Company First Friday Genetic Drop
DESCRIPTION:EventsDon't miss the Heritage Cattle Company First Friday Genetic Drop!
URL:https://brahmanevent.com/event/heritage-cattle-company-first-friday-genetic-drop-7/2023-11-03/
LOCATION:TX
CATEGORIES:Online Events,Sales
ATTACH;FMTTYPE=image/jpeg:https://brahmanevent.com/wp-content/uploads/HeritageCattle_Badge_Logo-01.jpg
ORGANIZER;CN="Heritage Cattle Company":MAILTO:heritagecattle1@yahoo.com
END:VEVENT
END:VCALENDAR