BEGIN:VCALENDAR
VERSION:2.0
PRODID:-//Brahman Event - ECPv6.15.15//NONSGML v1.0//EN
CALSCALE:GREGORIAN
METHOD:PUBLISH
X-ORIGINAL-URL:https://brahmanevent.com
X-WR-CALDESC:Events for Brahman Event
REFRESH-INTERVAL;VALUE=DURATION:PT1H
X-Robots-Tag:noindex
X-PUBLISHED-TTL:PT1H
BEGIN:VTIMEZONE
TZID:America/Chicago
BEGIN:DAYLIGHT
TZOFFSETFROM:-0600
TZOFFSETTO:-0500
TZNAME:CDT
DTSTART:20220313T080000
END:DAYLIGHT
BEGIN:STANDARD
TZOFFSETFROM:-0500
TZOFFSETTO:-0600
TZNAME:CST
DTSTART:20221106T070000
END:STANDARD
BEGIN:DAYLIGHT
TZOFFSETFROM:-0600
TZOFFSETTO:-0500
TZNAME:CDT
DTSTART:20230312T080000
END:DAYLIGHT
BEGIN:STANDARD
TZOFFSETFROM:-0500
TZOFFSETTO:-0600
TZNAME:CST
DTSTART:20231105T070000
END:STANDARD
BEGIN:DAYLIGHT
TZOFFSETFROM:-0600
TZOFFSETTO:-0500
TZNAME:CDT
DTSTART:20240310T080000
END:DAYLIGHT
BEGIN:STANDARD
TZOFFSETFROM:-0500
TZOFFSETTO:-0600
TZNAME:CST
DTSTART:20241103T070000
END:STANDARD
BEGIN:DAYLIGHT
TZOFFSETFROM:-0600
TZOFFSETTO:-0500
TZNAME:CDT
DTSTART:20250309T080000
END:DAYLIGHT
BEGIN:STANDARD
TZOFFSETFROM:-0500
TZOFFSETTO:-0600
TZNAME:CST
DTSTART:20251102T070000
END:STANDARD
END:VTIMEZONE
BEGIN:VEVENT
DTSTART;TZID=America/Chicago:20240212T080000
DTEND;TZID=America/Chicago:20240212T170000
DTSTAMP:20260423T042541
CREATED:20231207T234234Z
LAST-MODIFIED:20231207T234457Z
UID:10000590-1707724800-1707757200@brahmanevent.com
SUMMARY:2024 Dixie National Open Brahman Show
DESCRIPTION:EventsMake plans to attend the 2024 Dixie National Open Brahman Show! Click here for more information.
URL:https://brahmanevent.com/event/2024-dixie-national-open-brahman-show/
LOCATION:Dixie National Livestock Show\, 1207 Mississippi Street\, Jackson\, MS\, 39202\, United States
CATEGORIES:Open Shows
ATTACH;FMTTYPE=image/jpeg:https://brahmanevent.com/wp-content/uploads/DixieNational.jpg
GEO:32.3001818;-90.1721787
X-APPLE-STRUCTURED-LOCATION;VALUE=URI;X-ADDRESS=Dixie National Livestock Show 1207 Mississippi Street Jackson MS 39202 United States;X-APPLE-RADIUS=500;X-TITLE=1207 Mississippi Street:geo:-90.1721787,32.3001818
END:VEVENT
BEGIN:VEVENT
DTSTART;TZID=America/Chicago:20240211T143000
DTEND;TZID=America/Chicago:20240211T180000
DTSTAMP:20260423T042541
CREATED:20231003T202743Z
LAST-MODIFIED:20231003T202743Z
UID:10000489-1707661800-1707674400@brahmanevent.com
SUMMARY:2024 Kissimmee Valley Livestock Junior Brahman Show
DESCRIPTION:EventsMake plans to attend the 2024 Kissimmee Valley Livestock Junior Brahman Show! Click here to view the current schedule.
URL:https://brahmanevent.com/event/2024-kissimmee-valley-livestock-junior-brahman-show-2/
LOCATION:Osceola County Fairgrounds\, 1911 Kissimmee Valley Ln\, Kissimmee\, FL\, 34744\, United States
CATEGORIES:Junior Shows
ATTACH;FMTTYPE=image/jpeg:https://brahmanevent.com/wp-content/uploads/Kissimmee-Valley.jpg
GEO:28.2971682;-81.3659783
X-APPLE-STRUCTURED-LOCATION;VALUE=URI;X-ADDRESS=Osceola County Fairgrounds 1911 Kissimmee Valley Ln Kissimmee FL 34744 United States;X-APPLE-RADIUS=500;X-TITLE=1911 Kissimmee Valley Ln:geo:-81.3659783,28.2971682
END:VEVENT
BEGIN:VEVENT
DTSTART;TZID=America/Chicago:20240211T080000
DTEND;TZID=America/Chicago:20240211T140000
DTSTAMP:20260423T042541
CREATED:20231003T202610Z
LAST-MODIFIED:20231003T202611Z
UID:10000488-1707638400-1707660000@brahmanevent.com
SUMMARY:2024 Kissimmee Valley Livestock Open Brahman Show
DESCRIPTION:EventsMake plans to attend the 2024 Kissimmee Valley Livestock Open Brahman Show! Click here to view the current schedule.
URL:https://brahmanevent.com/event/2024-kissimmee-valley-livestock-open-brahman-show/
LOCATION:Osceola County Fairgrounds\, 1911 Kissimmee Valley Ln\, Kissimmee\, FL\, 34744\, United States
CATEGORIES:Online Events
ATTACH;FMTTYPE=image/jpeg:https://brahmanevent.com/wp-content/uploads/Kissimmee-Valley.jpg
GEO:28.2971682;-81.3659783
X-APPLE-STRUCTURED-LOCATION;VALUE=URI;X-ADDRESS=Osceola County Fairgrounds 1911 Kissimmee Valley Ln Kissimmee FL 34744 United States;X-APPLE-RADIUS=500;X-TITLE=1911 Kissimmee Valley Ln:geo:-81.3659783,28.2971682
END:VEVENT
BEGIN:VEVENT
DTSTART;TZID=America/Chicago:20240210T080000
DTEND;TZID=America/Chicago:20240210T170000
DTSTAMP:20260423T042541
CREATED:20231003T205050Z
LAST-MODIFIED:20231003T205051Z
UID:10000491-1707552000-1707584400@brahmanevent.com
SUMMARY:2024 San Antonio Stock Show and Rodeo Open Brahman Show
DESCRIPTION:EventsMake plans to attend the San Antonio Stock Show and Rodeo Open Brahman Show! Click here to view the current schedule.
URL:https://brahmanevent.com/event/2024-san-antonio-stock-show-and-rodeo-open-brahman-show/
LOCATION:San Antonio Livestock Show & Rodeo\, 3201 E Houston St\, San Antonio\, TX\, 78219\, United States
CATEGORIES:Open Shows
ATTACH;FMTTYPE=image/png:https://brahmanevent.com/wp-content/uploads/SanAntonio-Logo-FullColor.png
ORGANIZER;CN="San Antonio Livestock Show & Rodeo":MAILTO: livestock@sarodeo.com
GEO:29.428999;-98.4386199
X-APPLE-STRUCTURED-LOCATION;VALUE=URI;X-ADDRESS=San Antonio Livestock Show & Rodeo 3201 E Houston St San Antonio TX 78219 United States;X-APPLE-RADIUS=500;X-TITLE=3201 E Houston St:geo:-98.4386199,29.428999
END:VEVENT
BEGIN:VEVENT
DTSTART;TZID=America/Chicago:20240210T080000
DTEND;TZID=America/Chicago:20240210T170000
DTSTAMP:20260423T042541
CREATED:20231003T202251Z
LAST-MODIFIED:20231003T202251Z
UID:10000487-1707552000-1707584400@brahmanevent.com
SUMMARY:2024 Kissimmee Valley Livestock Brahman Showmanship
DESCRIPTION:EventsMake plans to attend the Kissimmee Valley Livestock Brahman Showmanship! Click here to view the current schedule.
URL:https://brahmanevent.com/event/2024-kissimmee-valley-livestock-brahman-showmanship/
LOCATION:Osceola County Fairgrounds\, 1911 Kissimmee Valley Ln\, Kissimmee\, FL\, 34744\, United States
CATEGORIES:Junior Shows
ATTACH;FMTTYPE=image/jpeg:https://brahmanevent.com/wp-content/uploads/Kissimmee-Valley.jpg
GEO:28.2971682;-81.3659783
X-APPLE-STRUCTURED-LOCATION;VALUE=URI;X-ADDRESS=Osceola County Fairgrounds 1911 Kissimmee Valley Ln Kissimmee FL 34744 United States;X-APPLE-RADIUS=500;X-TITLE=1911 Kissimmee Valley Ln:geo:-81.3659783,28.2971682
END:VEVENT
BEGIN:VEVENT
DTSTART;TZID=America/Chicago:20240209T080000
DTEND;TZID=America/Chicago:20240209T170000
DTSTAMP:20260423T042541
CREATED:20231014T144148Z
LAST-MODIFIED:20231014T144148Z
UID:10000537-1707465600-1707498000@brahmanevent.com
SUMMARY:2024 Florida State Fair Junior Show
DESCRIPTION:EventsMake plans to attend the 2024 Florida State Fair Junior Show! Click here to learn more.
URL:https://brahmanevent.com/event/2024-florida-state-fair-junior-show/
LOCATION:Florida State Fair\, 4800 U.S. 301\, Tampa\, FL\, 33610\, United States
CATEGORIES:Junior Shows
ATTACH;FMTTYPE=image/png:https://brahmanevent.com/wp-content/uploads/FloridaStateFair-Dark-Blue-Logo.png
ORGANIZER;CN="Florida State Fair":MAILTO:Lynann.Hudson@freshfromflorida.com
GEO:27.9906714;-82.3626466
X-APPLE-STRUCTURED-LOCATION;VALUE=URI;X-ADDRESS=Florida State Fair 4800 U.S. 301 Tampa FL 33610 United States;X-APPLE-RADIUS=500;X-TITLE=4800 U.S. 301:geo:-82.3626466,27.9906714
END:VEVENT
BEGIN:VEVENT
DTSTART;TZID=America/Chicago:20240208T080000
DTEND;TZID=America/Chicago:20240208T170000
DTSTAMP:20260423T042541
CREATED:20231014T143930Z
LAST-MODIFIED:20231014T143931Z
UID:10000536-1707379200-1707411600@brahmanevent.com
SUMMARY:2024 Florida State Fair Open Show
DESCRIPTION:EventsMake plans to attend the 2024 Florida State Fair Open Show! Click here to learn more.
URL:https://brahmanevent.com/event/2024-florida-state-fair-open-show/
LOCATION:Florida State Fair\, 4800 U.S. 301\, Tampa\, FL\, 33610\, United States
CATEGORIES:Open Shows
ATTACH;FMTTYPE=image/png:https://brahmanevent.com/wp-content/uploads/FloridaStateFair-Dark-Blue-Logo.png
ORGANIZER;CN="Florida State Fair":MAILTO:Lynann.Hudson@freshfromflorida.com
GEO:27.9906714;-82.3626466
X-APPLE-STRUCTURED-LOCATION;VALUE=URI;X-ADDRESS=Florida State Fair 4800 U.S. 301 Tampa FL 33610 United States;X-APPLE-RADIUS=500;X-TITLE=4800 U.S. 301:geo:-82.3626466,27.9906714
END:VEVENT
BEGIN:VEVENT
DTSTART;TZID=America/Chicago:20240203T080000
DTEND;TZID=America/Chicago:20240203T170000
DTSTAMP:20260423T042541
CREATED:20231018T210249Z
LAST-MODIFIED:20231204T154513Z
UID:10000551-1706947200-1706979600@brahmanevent.com
SUMMARY:Fort Worth Stock Show & Rodeo 37th Annual Invitational Commercial Heifer Sale
DESCRIPTION:EventsMake plans to attend the Fort Worth Stock Show & Rodeo 37th Annual Invitational Commercial Heifer Sale!
URL:https://brahmanevent.com/event/fort-worth-stock-show-rodeo-35th-annual-invitational-commercial-heifer-sale-3/
LOCATION:Fort Worth Stock Show\, 3400 Burnett-Tandy Dr.\, Ft. Worth\, TX\, 76107\, United States
CATEGORIES:Sales
ATTACH;FMTTYPE=image/jpeg:https://brahmanevent.com/wp-content/uploads/fwssr-logo.jpg
GEO:32.7439122;-97.3658332
X-APPLE-STRUCTURED-LOCATION;VALUE=URI;X-ADDRESS=Fort Worth Stock Show 3400 Burnett-Tandy Dr. Ft. Worth TX 76107 United States;X-APPLE-RADIUS=500;X-TITLE=3400 Burnett-Tandy Dr.:geo:-97.3658332,32.7439122
END:VEVENT
BEGIN:VEVENT
DTSTART;TZID=America/Chicago:20240202T080000
DTEND;TZID=America/Chicago:20240202T170000
DTSTAMP:20260423T042541
CREATED:20231018T205731Z
LAST-MODIFIED:20231018T205731Z
UID:10000550-1706860800-1706893200@brahmanevent.com
SUMMARY:Fort Worth Stock Show & Rodeo Invitational Commercial Heifer Show
DESCRIPTION:EventsMake plans to attend the Fort Worth Stock Show & Rodeo Invitational Commercial Heifer Show! \nTo view the full premium list\, click here. 
URL:https://brahmanevent.com/event/fort-worth-stock-show-rodeo-invitational-commercial-heifer-show-3/
LOCATION:Fort Worth Stock Show\, 3400 Burnett-Tandy Dr.\, Ft. Worth\, TX\, 76107\, United States
CATEGORIES:Junior Shows
ATTACH;FMTTYPE=image/jpeg:https://brahmanevent.com/wp-content/uploads/fwssr-logo.jpg
GEO:32.7439122;-97.3658332
X-APPLE-STRUCTURED-LOCATION;VALUE=URI;X-ADDRESS=Fort Worth Stock Show 3400 Burnett-Tandy Dr. Ft. Worth TX 76107 United States;X-APPLE-RADIUS=500;X-TITLE=3400 Burnett-Tandy Dr.:geo:-97.3658332,32.7439122
END:VEVENT
BEGIN:VEVENT
DTSTART;TZID=America/Chicago:20240201T080000
DTEND;TZID=America/Chicago:20240201T170000
DTSTAMP:20260423T042541
CREATED:20231018T205544Z
LAST-MODIFIED:20231018T205544Z
UID:10000549-1706774400-1706806800@brahmanevent.com
SUMMARY:Fort Worth Stock Show & Rodeo American Crossbred Steer Show
DESCRIPTION:EventsMake plans to attend the Fort Worth Stock Show & Rodeo American Crossbred Steer Show! \nTo view the full premium list\, click here. 
URL:https://brahmanevent.com/event/fort-worth-stock-show-rodeo-american-crossbred-steer-show-3/
LOCATION:Fort Worth Stock Show\, 3400 Burnett-Tandy Dr.\, Ft. Worth\, TX\, 76107\, United States
CATEGORIES:Junior Shows
ATTACH;FMTTYPE=image/jpeg:https://brahmanevent.com/wp-content/uploads/fwssr-logo.jpg
GEO:32.7439122;-97.3658332
X-APPLE-STRUCTURED-LOCATION;VALUE=URI;X-ADDRESS=Fort Worth Stock Show 3400 Burnett-Tandy Dr. Ft. Worth TX 76107 United States;X-APPLE-RADIUS=500;X-TITLE=3400 Burnett-Tandy Dr.:geo:-97.3658332,32.7439122
END:VEVENT
BEGIN:VEVENT
DTSTART;TZID=America/Chicago:20240131T080000
DTEND;TZID=America/Chicago:20240202T170000
DTSTAMP:20260423T042541
CREATED:20231003T200923Z
LAST-MODIFIED:20231003T203010Z
UID:10000486-1706688000-1706893200@brahmanevent.com
SUMMARY:2024 Cattle Industry Convention and NCBA Trade Show
DESCRIPTION:EventsMake plans to attend the 2024 Cattle Industry Convention and NCBA Trade Show! Click here to learn more.
URL:https://brahmanevent.com/event/2024-cattle-industry-convention-and-ncba-trade-show/
LOCATION:Orlando\, FL
CATEGORIES:Conventions
ATTACH;FMTTYPE=image/png:https://brahmanevent.com/wp-content/uploads/2021/12/Brahman-Event-logo.png
ORGANIZER;CN="National Cattlemen's Beef Association":MAILTO:meetings@beef.org
END:VEVENT
BEGIN:VEVENT
DTSTART;TZID=America/Chicago:20240122T080000
DTEND;TZID=America/Chicago:20240122T170000
DTSTAMP:20260423T042541
CREATED:20231018T205148Z
LAST-MODIFIED:20231018T205148Z
UID:10000548-1705910400-1705942800@brahmanevent.com
SUMMARY:Fort Worth Stock Show & Rodeo Jr. Brahman Heifer Show
DESCRIPTION:EventsFort Worth Stock Show & Rodeo Jr. Brahman Heifer Show \nTo view the full premium list\, click here. 
URL:https://brahmanevent.com/event/fort-worth-stock-show-rodeo-jr-brahman-heifer-show-2/
LOCATION:Fort Worth Stock Show\, 3400 Burnett-Tandy Dr.\, Ft. Worth\, TX\, 76107\, United States
CATEGORIES:Junior Shows
ATTACH;FMTTYPE=image/jpeg:https://brahmanevent.com/wp-content/uploads/fwssr-logo.jpg
GEO:32.7439122;-97.3658332
X-APPLE-STRUCTURED-LOCATION;VALUE=URI;X-ADDRESS=Fort Worth Stock Show 3400 Burnett-Tandy Dr. Ft. Worth TX 76107 United States;X-APPLE-RADIUS=500;X-TITLE=3400 Burnett-Tandy Dr.:geo:-97.3658332,32.7439122
END:VEVENT
BEGIN:VEVENT
DTSTART;TZID=America/Chicago:20240121T080000
DTEND;TZID=America/Chicago:20240121T170000
DTSTAMP:20260423T042541
CREATED:20231003T193946Z
LAST-MODIFIED:20231003T193947Z
UID:10000484-1705824000-1705856400@brahmanevent.com
SUMMARY:South Florida Fair Junior Brahman Show
DESCRIPTION:EventsMake plans to attend the 2024 South Florida Fair Junior Brahman Show! Click here to view the current schedule.
URL:https://brahmanevent.com/event/south-florida-fair-junior-brahman-show-4/
LOCATION:South Florida Fair\, 9067 Southern Boulevard\, West Palm Beach\, FL\, 33411\, United States
CATEGORIES:Junior Shows
ATTACH;FMTTYPE=image/jpeg:https://brahmanevent.com/wp-content/uploads/SFF-Logo.jpg
ORGANIZER;CN="South Florida Fair":MAILTO: bettye@southfloridafair.com
GEO:26.6841617;-80.1889232
X-APPLE-STRUCTURED-LOCATION;VALUE=URI;X-ADDRESS=South Florida Fair 9067 Southern Boulevard West Palm Beach FL 33411 United States;X-APPLE-RADIUS=500;X-TITLE=9067 Southern Boulevard:geo:-80.1889232,26.6841617
END:VEVENT
BEGIN:VEVENT
DTSTART;TZID=America/Chicago:20240120T080000
DTEND;TZID=America/Chicago:20240120T170000
DTSTAMP:20260423T042541
CREATED:20231211T230851Z
LAST-MODIFIED:20231211T230914Z
UID:10000593-1705737600-1705770000@brahmanevent.com
SUMMARY:13th Annual "More Bull for Your Buck" Production Sale
DESCRIPTION:EventsMake plans to bid in the 13th Annual "More Bull for Your Buck" Production Sale!
URL:https://brahmanevent.com/event/13th-annual-more-bull-for-your-buck-production-sale/
LOCATION:Bull Hill Ranch\, 1986 Trinity Church Road\, Gray Court\, SC\, 29645\, United States
CATEGORIES:Sales
ATTACH;FMTTYPE=image/jpeg:https://brahmanevent.com/wp-content/uploads/Bull_Hill.jpg
ORGANIZER;CN="Bull Hill Ranch":MAILTO:bullhill2@prtcnet.com
END:VEVENT
BEGIN:VEVENT
DTSTART;TZID=America/Chicago:20240120T080000
DTEND;TZID=America/Chicago:20240120T170000
DTSTAMP:20260423T042541
CREATED:20231204T153716Z
LAST-MODIFIED:20231211T230251Z
UID:10000573-1705737600-1705770000@brahmanevent.com
SUMMARY:46th Annual Cattleman Bull and Female Sale
DESCRIPTION:EventsMake plans to attend the 46th Annual Cattleman Bull and Female Sale! Click here to learn more.
URL:https://brahmanevent.com/event/46th-annual-cattleman-bull-and-female-sale-2/
LOCATION:El Campo Livestock Auction\, El Campo\, TX\, United States
CATEGORIES:Sales
ATTACH;FMTTYPE=image/jpeg:https://brahmanevent.com/wp-content/uploads/2020-BestCattleSales-FB-Topper.jpg
END:VEVENT
BEGIN:VEVENT
DTSTART;TZID=America/Chicago:20240120T080000
DTEND;TZID=America/Chicago:20240120T170000
DTSTAMP:20260423T042541
CREATED:20231003T193516Z
LAST-MODIFIED:20231003T193544Z
UID:10000483-1705737600-1705770000@brahmanevent.com
SUMMARY:South Florida Fair Open Brahman Show
DESCRIPTION:EventsMake plans to attend the 2024 South Florida Fair Open Brahman Show! Click here to view the current schedule.
URL:https://brahmanevent.com/event/south-florida-fair-open-brahman-show-3/
LOCATION:South Florida Fair\, 9067 Southern Boulevard\, West Palm Beach\, FL\, 33411\, United States
CATEGORIES:Open Shows
ATTACH;FMTTYPE=image/jpeg:https://brahmanevent.com/wp-content/uploads/SFF-Logo.jpg
ORGANIZER;CN="South Florida Fair":MAILTO: bettye@southfloridafair.com
GEO:26.6841617;-80.1889232
X-APPLE-STRUCTURED-LOCATION;VALUE=URI;X-ADDRESS=South Florida Fair 9067 Southern Boulevard West Palm Beach FL 33411 United States;X-APPLE-RADIUS=500;X-TITLE=9067 Southern Boulevard:geo:-80.1889232,26.6841617
END:VEVENT
BEGIN:VEVENT
DTSTART;TZID=America/Chicago:20240119T080000
DTEND;TZID=America/Chicago:20240120T170000
DTSTAMP:20260423T042541
CREATED:20231012T203957Z
LAST-MODIFIED:20231012T203958Z
UID:10000530-1705651200-1705770000@brahmanevent.com
SUMMARY:VIII EXPOCEBÚ PANAMÁ
DESCRIPTION:EventsMake plans to attend the VIII EXPOCEBÚ PANAMÁ!
URL:https://brahmanevent.com/event/viii-expocebu-panama/
LOCATION:Ocú\, Panamá\, United States
CATEGORIES:International
ATTACH;FMTTYPE=image/png:https://brahmanevent.com/wp-content/uploads/2021/12/Brahman-Event-logo.png
END:VEVENT
BEGIN:VEVENT
DTSTART;TZID=America/Chicago:20240116T080000
DTEND;TZID=America/Chicago:20240116T170000
DTSTAMP:20260423T042541
CREATED:20231003T193111Z
LAST-MODIFIED:20231212T191144Z
UID:10000482-1705392000-1705424400@brahmanevent.com
SUMMARY:2024 Fort Worth Stock Show and Rodeo Open Brahman Show
DESCRIPTION:EventsMake plans to attend the Fort Worth Stock Show and Rodeo Open Brahman Show! Click here to view the current schedule. \nSpringHill Suites Fort Worth University\nRate: $169.00 per night\nLast day to book: Friday December 22\, 2023\nBook here: Book Your Group/Corporate Rate | Marriott International
URL:https://brahmanevent.com/event/2024-fort-worth-stock-show-and-rodeo-open-brahman-show/
LOCATION:Fort Worth Stock Show\, 3400 Burnett-Tandy Dr.\, Ft. Worth\, TX\, 76107\, United States
CATEGORIES:Open Shows
ATTACH;FMTTYPE=image/png:https://brahmanevent.com/wp-content/uploads/2021/12/Brahman-Event-logo.png
GEO:32.7439122;-97.3658332
X-APPLE-STRUCTURED-LOCATION;VALUE=URI;X-ADDRESS=Fort Worth Stock Show 3400 Burnett-Tandy Dr. Ft. Worth TX 76107 United States;X-APPLE-RADIUS=500;X-TITLE=3400 Burnett-Tandy Dr.:geo:-97.3658332,32.7439122
END:VEVENT
BEGIN:VEVENT
DTSTART;TZID=America/Chicago:20240114T080000
DTEND;TZID=America/Chicago:20240115T170000
DTSTAMP:20260423T042542
CREATED:20231212T192223Z
LAST-MODIFIED:20231212T192224Z
UID:10000594-1705219200-1705338000@brahmanevent.com
SUMMARY:ABBA Meetings at FWSSR
DESCRIPTION:EventsSunday January 14th\, 2024\n9:00 AM - 11:00 AM - Color Classification\n1:00 PM – Finance Committee Meeting\n3:00 PM – Executive Committee Meeting \nMonday January 15th\, 2024\n8:00 AM – 10:00 AM – First set of committee meetings\n10:00 AM – 12:00 PM – Second set of committee meetings\n12:00 PM – Board of Directors Lunch\n1:00 PM – ABBA Fall Board of Directors Meeting \nTuesday January 16th\, 2024\n8:00 AM - Open Brahman Show \nSpringHill Suites Fort Worth University\nRate: $169.00 per night\nLast day to book: Friday December 22\, 2023\nBook here: Book Your Group/Corporate Rate | Marriott International
URL:https://brahmanevent.com/event/abba-meetings-at-fwssr/
LOCATION:Fort Worth Stock Show\, 3400 Burnett-Tandy Dr.\, Ft. Worth\, TX\, 76107\, United States
CATEGORIES:Meetings
ATTACH;FMTTYPE=image/png:https://brahmanevent.com/wp-content/uploads/2021/12/Brahman-Event-logo.png
GEO:32.7439122;-97.3658332
X-APPLE-STRUCTURED-LOCATION;VALUE=URI;X-ADDRESS=Fort Worth Stock Show 3400 Burnett-Tandy Dr. Ft. Worth TX 76107 United States;X-APPLE-RADIUS=500;X-TITLE=3400 Burnett-Tandy Dr.:geo:-97.3658332,32.7439122
END:VEVENT
BEGIN:VEVENT
DTSTART;TZID=America/Chicago:20240113T080000
DTEND;TZID=America/Chicago:20240120T170000
DTSTAMP:20260423T042542
CREATED:20231127T183138Z
LAST-MODIFIED:20231127T183139Z
UID:10000571-1705132800-1705770000@brahmanevent.com
SUMMARY:VII Exposición Nacional De Razas De Origen Indiano
DESCRIPTION:Events \nMake plans to attend the VII Exposición Nacional De Razas De Origen Indiano!\nHaga planes para asistir a la VII Exposición Nacional De Razas De Origen Indiano!
URL:https://brahmanevent.com/event/vii-exposicion-nacional-de-razas-de-origen-indiano/
LOCATION:Tizimín Yucatán\, Tizim{in\, Yucatán\, 97700\, Mexico
CATEGORIES:International
ATTACH;FMTTYPE=image/jpeg:https://brahmanevent.com/wp-content/uploads/image-51.jpg
GEO:21.1373732;-88.1535352
END:VEVENT
BEGIN:VEVENT
DTSTART;TZID=America/Chicago:20240111T080000
DTEND;TZID=America/Chicago:20240111T170000
DTSTAMP:20260423T042542
CREATED:20231003T192208Z
LAST-MODIFIED:20231003T192209Z
UID:10000480-1704960000-1704992400@brahmanevent.com
SUMMARY:2024 Cattlemen's Congress Open Brahman Show
DESCRIPTION:EventsMake plans to attend the 2024 Cattlemen's Congress Open Brahman Show! Click here to view the current schedule.
URL:https://brahmanevent.com/event/2024-cattlemens-congress-open-brahman-show/
LOCATION:Oklahoma City Fairgrounds\, Central Oklahoma City\, Oklahoma City\, OK\, 73107\, United States
CATEGORIES:Open Shows
ATTACH;FMTTYPE=image/jpeg:https://brahmanevent.com/wp-content/uploads/Cattlemans-Congress-.jpg
END:VEVENT
BEGIN:VEVENT
DTSTART;TZID=America/Chicago:20240110T080000
DTEND;TZID=America/Chicago:20240110T170000
DTSTAMP:20260423T042542
CREATED:20231003T192434Z
LAST-MODIFIED:20231003T192434Z
UID:10000481-1704873600-1704906000@brahmanevent.com
SUMMARY:2024 Cattlemen's Congress Junior Brahman Show
DESCRIPTION:EventsMake plans to attend the 2024 Cattlemen's Congress Junior Brahman Show! Click here to view the current schedule.
URL:https://brahmanevent.com/event/2024-cattlemens-congress-junior-brahman-show/
LOCATION:Oklahoma City Fairgrounds\, Central Oklahoma City\, Oklahoma City\, OK\, 73107\, United States
CATEGORIES:Junior Shows
ATTACH;FMTTYPE=image/jpeg:https://brahmanevent.com/wp-content/uploads/Cattlemans-Congress-.jpg
END:VEVENT
BEGIN:VEVENT
DTSTART;TZID=America/Chicago:20240106T080000
DTEND;TZID=America/Chicago:20240106T170000
DTSTAMP:20260423T042542
CREATED:20231018T203848Z
LAST-MODIFIED:20231027T182151Z
UID:10000545-1704528000-1704560400@brahmanevent.com
SUMMARY:H.O.T. Brahman Association Junior Show
DESCRIPTION:EventsMake plans to attend the H.O.T. Brahman Association Junior Show!
URL:https://brahmanevent.com/event/h-o-t-brahman-association-junior-show/
LOCATION:Bell County Expo Center\, 301 W Loop 121\, Belton\, TX\, 76513\, United States
CATEGORIES:Junior Shows
ATTACH;FMTTYPE=image/jpeg:https://brahmanevent.com/wp-content/uploads/Image-from-iOS-4-1.jpg
GEO:31.029312;-97.479556
X-APPLE-STRUCTURED-LOCATION;VALUE=URI;X-ADDRESS=Bell County Expo Center 301 W Loop 121 Belton TX 76513 United States;X-APPLE-RADIUS=500;X-TITLE=301 W Loop 121:geo:-97.479556,31.029312
END:VEVENT
BEGIN:VEVENT
DTSTART;TZID=America/Chicago:20240105T080000
DTEND;TZID=America/Chicago:20240105T170000
DTSTAMP:20260423T042542
CREATED:20231018T204758Z
LAST-MODIFIED:20231018T204759Z
UID:10000547-1704441600-1704474000@brahmanevent.com
SUMMARY:Heritage Cattle Company First Friday Genetic Drop
DESCRIPTION:EventsDon't miss the Heritage Cattle Company First Friday Genetic Drop!
URL:https://brahmanevent.com/event/heritage-cattle-company-first-friday-genetic-drop-9/2024-01-05/
LOCATION:FL
CATEGORIES:Online Events,Sales
ATTACH;FMTTYPE=image/jpeg:https://brahmanevent.com/wp-content/uploads/HeritageCattle_Badge_Logo-01.jpg
ORGANIZER;CN="Heritage Cattle Company":MAILTO:heritagecattle1@yahoo.com
END:VEVENT
BEGIN:VEVENT
DTSTART;TZID=America/Chicago:20240105T080000
DTEND;TZID=America/Chicago:20240105T170000
DTSTAMP:20260423T042542
CREATED:20231018T203650Z
LAST-MODIFIED:20231027T181905Z
UID:10000544-1704441600-1704474000@brahmanevent.com
SUMMARY:H.O.T. Brahman Association Open Show
DESCRIPTION:EventsMake plans to attend the H.O.T. Brahman Association Open Show!
URL:https://brahmanevent.com/event/h-o-t-brahman-association-open-show/
LOCATION:Bell County Expo Center\, 301 W Loop 121\, Belton\, TX\, 76513\, United States
CATEGORIES:Open Shows
ATTACH;FMTTYPE=image/jpeg:https://brahmanevent.com/wp-content/uploads/Image-from-iOS-4-1.jpg
GEO:31.029312;-97.479556
X-APPLE-STRUCTURED-LOCATION;VALUE=URI;X-ADDRESS=Bell County Expo Center 301 W Loop 121 Belton TX 76513 United States;X-APPLE-RADIUS=500;X-TITLE=301 W Loop 121:geo:-97.479556,31.029312
END:VEVENT
BEGIN:VEVENT
DTSTART;TZID=America/Chicago:20240104T080000
DTEND;TZID=America/Chicago:20240104T170000
DTSTAMP:20260423T042542
CREATED:20231018T202848Z
LAST-MODIFIED:20231027T181703Z
UID:10000543-1704355200-1704387600@brahmanevent.com
SUMMARY:ABBA Winter Classic Open Show
DESCRIPTION:EventsMake plans to attend the ABBA Winter Classic Open Show!
URL:https://brahmanevent.com/event/abba-winter-classic-open-show/
LOCATION:Bell County Expo Center\, 301 W Loop 121\, Belton\, TX\, 76513\, United States
CATEGORIES:Open Shows
ATTACH;FMTTYPE=image/jpeg:https://brahmanevent.com/wp-content/uploads/Image-from-iOS-4-1.jpg
ORGANIZER;CN="ABBA":MAILTO:abba@brahman.org
GEO:31.029312;-97.479556
X-APPLE-STRUCTURED-LOCATION;VALUE=URI;X-ADDRESS=Bell County Expo Center 301 W Loop 121 Belton TX 76513 United States;X-APPLE-RADIUS=500;X-TITLE=301 W Loop 121:geo:-97.479556,31.029312
END:VEVENT
BEGIN:VEVENT
DTSTART;TZID=America/Chicago:20231216T080000
DTEND;TZID=America/Chicago:20231217T170000
DTSTAMP:20260423T042542
CREATED:20230829T192700Z
LAST-MODIFIED:20230911T214641Z
UID:10000469-1702713600-1702832400@brahmanevent.com
SUMMARY:TJBA Holiday Show
DESCRIPTION:EventsMake plans to attend the TJBA Holiday Show!
URL:https://brahmanevent.com/event/tjba-holiday-show/
LOCATION:Washington County Fairgrounds\, 1305 E Blue Bell Rd\, brenham \, TX\, 77833\, United States
CATEGORIES:Junior Shows
ATTACH;FMTTYPE=image/jpeg:https://brahmanevent.com/wp-content/uploads/IMG_9694.jpg
ORGANIZER;CN="TJBA":MAILTO:TexasJuniorBrahmans@gmail.com
GEO:30.1794073;-96.3889793
X-APPLE-STRUCTURED-LOCATION;VALUE=URI;X-ADDRESS=Washington County Fairgrounds 1305 E Blue Bell Rd brenham  TX 77833 United States;X-APPLE-RADIUS=500;X-TITLE=1305 E Blue Bell Rd:geo:-96.3889793,30.1794073
END:VEVENT
BEGIN:VEVENT
DTSTART;TZID=America/Chicago:20231213T080000
DTEND;TZID=America/Chicago:20231214T170000
DTSTAMP:20260423T042542
CREATED:20231127T174756Z
LAST-MODIFIED:20231127T174757Z
UID:10000568-1702454400-1702573200@brahmanevent.com
SUMMARY:Red and White Treat Online Sale
DESCRIPTION:EventsMake plans to bid in the Red and White Treat Online Sale!
URL:https://brahmanevent.com/event/red-and-white-treat-online-sale/
LOCATION:Cattle In Motion
CATEGORIES:Online Events,Sales
ATTACH;FMTTYPE=image/jpeg:https://brahmanevent.com/wp-content/uploads/KI_V2-1.jpg
ORGANIZER;CN="Infinity Cattle Service":MAILTO:infinitycattleservices@gmail.com
END:VEVENT
BEGIN:VEVENT
DTSTART;TZID=America/Chicago:20231208T110000
DTEND;TZID=America/Chicago:20231208T170000
DTSTAMP:20260423T042542
CREATED:20231127T180159Z
LAST-MODIFIED:20231127T183719Z
UID:10000570-1702033200-1702054800@brahmanevent.com
SUMMARY:Expo Reu Agropecuaria 2023
DESCRIPTION:EventsMake plans to attend the Expo Reu Agropecuaria 2023! Click here to learn more.\n¡Haz planes para asistir a la Expo Reu Agropecuaria 2023! Haz clic aquí para saber más.
URL:https://brahmanevent.com/event/expo-reu-agropecuaria-2023/
LOCATION:FL
CATEGORIES:International
ATTACH;FMTTYPE=image/jpeg:https://brahmanevent.com/wp-content/uploads/image-49.jpg
END:VEVENT
BEGIN:VEVENT
DTSTART;TZID=America/Chicago:20231206T080000
DTEND;TZID=America/Chicago:20231208T200000
DTSTAMP:20260423T042542
CREATED:20231127T175320Z
LAST-MODIFIED:20231127T175320Z
UID:10000569-1701849600-1702065600@brahmanevent.com
SUMMARY:SUBASTA HEMBRAS ELITE ONLINE ASOBRAHMAN GUATEMALA
DESCRIPTION:EventsMake plans to bid in the SUBASTA HEMBRAS ELITE ONLINE ASOBRAHMAN GUATEMALA!
URL:https://brahmanevent.com/event/subasta-hembras-elite-online-asobrahman-guatemala/
LOCATION:Best Cattle Sales\, United States
CATEGORIES:Best Cattle Sales,Sales
ATTACH;FMTTYPE=image/png:https://brahmanevent.com/wp-content/uploads/BEST-CATTLE-SALES-WEB.png
GEO:37.09024;-95.712891
END:VEVENT
END:VCALENDAR