BEGIN:VCALENDAR
VERSION:2.0
PRODID:-//Brahman Event - ECPv6.15.15//NONSGML v1.0//EN
CALSCALE:GREGORIAN
METHOD:PUBLISH
X-ORIGINAL-URL:https://brahmanevent.com
X-WR-CALDESC:Events for Brahman Event
REFRESH-INTERVAL;VALUE=DURATION:PT1H
X-Robots-Tag:noindex
X-PUBLISHED-TTL:PT1H
BEGIN:VTIMEZONE
TZID:America/Chicago
BEGIN:DAYLIGHT
TZOFFSETFROM:-0600
TZOFFSETTO:-0500
TZNAME:CDT
DTSTART:20210314T080000
END:DAYLIGHT
BEGIN:STANDARD
TZOFFSETFROM:-0500
TZOFFSETTO:-0600
TZNAME:CST
DTSTART:20211107T070000
END:STANDARD
BEGIN:DAYLIGHT
TZOFFSETFROM:-0600
TZOFFSETTO:-0500
TZNAME:CDT
DTSTART:20220313T080000
END:DAYLIGHT
BEGIN:STANDARD
TZOFFSETFROM:-0500
TZOFFSETTO:-0600
TZNAME:CST
DTSTART:20221106T070000
END:STANDARD
BEGIN:DAYLIGHT
TZOFFSETFROM:-0600
TZOFFSETTO:-0500
TZNAME:CDT
DTSTART:20230312T080000
END:DAYLIGHT
BEGIN:STANDARD
TZOFFSETFROM:-0500
TZOFFSETTO:-0600
TZNAME:CST
DTSTART:20231105T070000
END:STANDARD
END:VTIMEZONE
BEGIN:VTIMEZONE
TZID:UTC
BEGIN:STANDARD
TZOFFSETFROM:+0000
TZOFFSETTO:+0000
TZNAME:UTC
DTSTART:20210101T000000
END:STANDARD
END:VTIMEZONE
BEGIN:VTIMEZONE
TZID:America/New_York
BEGIN:DAYLIGHT
TZOFFSETFROM:-0500
TZOFFSETTO:-0400
TZNAME:EDT
DTSTART:20210314T070000
END:DAYLIGHT
BEGIN:STANDARD
TZOFFSETFROM:-0400
TZOFFSETTO:-0500
TZNAME:EST
DTSTART:20211107T060000
END:STANDARD
BEGIN:DAYLIGHT
TZOFFSETFROM:-0500
TZOFFSETTO:-0400
TZNAME:EDT
DTSTART:20220313T070000
END:DAYLIGHT
BEGIN:STANDARD
TZOFFSETFROM:-0400
TZOFFSETTO:-0500
TZNAME:EST
DTSTART:20221106T060000
END:STANDARD
BEGIN:DAYLIGHT
TZOFFSETFROM:-0500
TZOFFSETTO:-0400
TZNAME:EDT
DTSTART:20230312T070000
END:DAYLIGHT
BEGIN:STANDARD
TZOFFSETFROM:-0400
TZOFFSETTO:-0500
TZNAME:EST
DTSTART:20231105T060000
END:STANDARD
END:VTIMEZONE
BEGIN:VTIMEZONE
TZID:America/Chicago
BEGIN:DAYLIGHT
TZOFFSETFROM:-0600
TZOFFSETTO:-0500
TZNAME:CDT
DTSTART:20210314T080000
END:DAYLIGHT
BEGIN:STANDARD
TZOFFSETFROM:-0500
TZOFFSETTO:-0600
TZNAME:CST
DTSTART:20211107T070000
END:STANDARD
BEGIN:DAYLIGHT
TZOFFSETFROM:-0600
TZOFFSETTO:-0500
TZNAME:CDT
DTSTART:20220313T080000
END:DAYLIGHT
BEGIN:STANDARD
TZOFFSETFROM:-0500
TZOFFSETTO:-0600
TZNAME:CST
DTSTART:20221106T070000
END:STANDARD
BEGIN:DAYLIGHT
TZOFFSETFROM:-0600
TZOFFSETTO:-0500
TZNAME:CDT
DTSTART:20230312T080000
END:DAYLIGHT
BEGIN:STANDARD
TZOFFSETFROM:-0500
TZOFFSETTO:-0600
TZNAME:CST
DTSTART:20231105T070000
END:STANDARD
END:VTIMEZONE
BEGIN:VEVENT
DTSTART;TZID=America/Chicago:20220615T080000
DTEND;TZID=America/Chicago:20220618T170000
DTSTAMP:20260425T091054
CREATED:20211029T183956Z
LAST-MODIFIED:20220506T145047Z
UID:10000130-1655280000-1655571600@brahmanevent.com
SUMMARY:TJBA State Show
DESCRIPTION:EventsTo view the entry book click HERE \nSCHEDULE\nWednesday\, June 15\n7:00 AM – 4:00 PM Cattle Arrival\n1:00 PM Sales Talk Contest\n4:00 PM – 6:00 PM Exhibitor check-in at show office\nCattle must be in place and checked in by 4 pm\, check in papers\, poster &\nphotography into show office\n5:00 PM Queen & Princess Orientation\n6:00 PM TJBA Membership Meeting and Herdsman Quiz \nThursday\, June 16\n8:30 AM Public Speaking Contest Finals (Top Ten Per Age Division)\nMust be checked in for contest by 7:45AM\n1:00 PM Bred & Owned Brahman Bull Show (Bred & Owned Females follow)\nFriday\, June 17\n8:00 AM TJBA Brahman Bull Show. TJBA Brahman Female Show follows \nSaturday\, June 18\n8:00 AM F-1 Female Show\nShowmanship Contest will begin 30 minutes after completion of the F-1\nShow. Showmanship order is Queen and Princess Showmanship\, Junior\,\nMinor\, Major\, Senior\, Showmanship Drive\, and Pee-Wee Showmanship\n7:00 PM TJBA Awards Banquet and Dance \nSunday\, June 19\n10 AM All cattle and tack must be removed from the barn \nHOTEL INFO\nThe host hotel will be The Stella Hotel.\nRates are $119.00 per night.\nThe block will be active through June 1\, 2022\, for booking.\nClick HERE for info about this and click HERE for booking. \nSCHOLARSHIP INFO\nFor info about scholarships and the application click HERE.\nCompleted applications and other documents must be mailed to TJBA\, P.O. Box 26\,\nCampbellton\, TX 78008 and be postmarked not later than May 14\, 2022. \nIMPORTANT DEADLINES\n- May 1: Possession deadline for cattle. Animals must be registered in the exhibitor’s sole\nname (no multiple owners) on or before this date\n- May 14: ENTRY deadline. Must be postmarked on or before this date. NO ENTRIES WILL\nBE ACCEPTED IF POSTMARKED AFTER MAY 14. NO EXCEPTIONS WILL BE MADE.\nQueen and Princess Contest and TJBA Director applications due\, also. Scholarship\napplications must be postmarked on or before this date. Sponsorship forms and\nmoney must be postmarked on or before this date to guarantee printing in the\nofficial show program\n- May 19: Pregnancy certifications by licensed veterinarians for heifers in classes 26 & 31\nmust be made on or after this date\n- May 25: Public Speaking video submissions due.\n- June 1: Exhibitor’s age on this date determines age class/division\n- June 2: Last date to book hotel rooms within TJBA room block at The Stella Hotel\n- June 15 At 6:00 PM: exhibitor check-in closes: Entry forms for the All Around contest must be completed and turned in\nby that time. Thank you notes (stamped and addressed) to the sponsors secured by\neach exhibitor must be turned in by that time.\n- August 31: Thank you notes for awards/premiums won by exhibitors during the show must\nbe submitted to TJBA (instructions inside packet)
URL:https://brahmanevent.com/event/tjba-state-show/
LOCATION:Brazos County Expo\, 5827 Leonard Rd\, Bryan\, TX\, 77807\, United States
CATEGORIES:Junior Shows
ATTACH;FMTTYPE=image/jpeg:https://brahmanevent.com/wp-content/uploads/Image-from-iOS-1.jpg
ORGANIZER;CN="TJBA":MAILTO:TexasJuniorBrahmans@gmail.com
GEO:30.621485;-96.415923
X-APPLE-STRUCTURED-LOCATION;VALUE=URI;X-ADDRESS=Brazos County Expo 5827 Leonard Rd Bryan TX 77807 United States;X-APPLE-RADIUS=500;X-TITLE=5827 Leonard Rd:geo:-96.415923,30.621485
END:VEVENT
BEGIN:VEVENT
DTSTART;TZID=UTC:20220611T080000
DTEND;TZID=UTC:20220612T170000
DTSTAMP:20260425T091054
CREATED:20220504T181552Z
LAST-MODIFIED:20220504T181552Z
UID:10000099-1654934400-1655053200@brahmanevent.com
SUMMARY:HEART OF THE SOUTH BRAHMAN GENETICS AND REPLACEMENT FEMALE SALE
DESCRIPTION:EventsMake plans to bid in the 2022 HEART OF THE SOUTH BRAHMAN GENETICS AND REPLACEMENT FEMALE SALE!
URL:https://brahmanevent.com/event/heart-of-the-south-brahman-genetics-and-replacement-female-sale/
LOCATION:Best Cattle Sales\, United States
CATEGORIES:Online Events,Sales
ATTACH;FMTTYPE=image/jpeg:https://brahmanevent.com/wp-content/uploads/2020-BestCattleSales-FB-Topper.jpg
GEO:37.09024;-95.712891
END:VEVENT
BEGIN:VEVENT
DTSTART;TZID=America/New_York:20220611T080000
DTEND;TZID=America/New_York:20220611T170000
DTSTAMP:20260425T091054
CREATED:20211029T183633Z
LAST-MODIFIED:20220426T193730Z
UID:10000128-1654934400-1654966800@brahmanevent.com
SUMMARY:6th Annual C&R Farms Replacement Female Sale
DESCRIPTION:EventsLunch will be served at noon. \nThe sale will begin at 1PM \n250+ head will be sold \nVideos will be uploaded to CattleInMotion.com
URL:https://brahmanevent.com/event/6th-annual-cr-farms-replacement-female-sale/
LOCATION:Cairo\, Georgia\, 447 Woodland Road\, Cairo\, GA\, United States
CATEGORIES:Sales
ATTACH;FMTTYPE=image/jpeg:https://brahmanevent.com/wp-content/uploads/278193981_4835572773232409_6241860502401661916_n.jpg
GEO:30.9284297;-84.1680232
X-APPLE-STRUCTURED-LOCATION;VALUE=URI;X-ADDRESS=Cairo Georgia 447 Woodland Road Cairo GA United States;X-APPLE-RADIUS=500;X-TITLE=447 Woodland Road:geo:-84.1680232,30.9284297
END:VEVENT
BEGIN:VEVENT
DTSTART;TZID=America/Chicago:20220607T080000
DTEND;TZID=America/Chicago:20220610T170000
DTSTAMP:20260425T091054
CREATED:20211215T163017Z
LAST-MODIFIED:20220427T173236Z
UID:10000153-1654588800-1654880400@brahmanevent.com
SUMMARY:Bovine Elite AI Clinic
DESCRIPTION:EventsTo learn more and sign up click HERE.
URL:https://brahmanevent.com/event/bovine-elite-ai-clinic-4/
LOCATION:College Station\, TX\, TX\, United States
CATEGORIES:Clinic
ATTACH;FMTTYPE=image/jpeg:https://brahmanevent.com/wp-content/uploads/Bovine-Elite.jpg
END:VEVENT
BEGIN:VEVENT
DTSTART;TZID=America/Chicago:20220604T120000
DTEND;TZID=America/Chicago:20220604T120000
DTSTAMP:20260425T091054
CREATED:20211029T182441Z
LAST-MODIFIED:20220316T151058Z
UID:10000126-1654344000-1654344000@brahmanevent.com
SUMMARY:Carolina Brahman Breeders Assoc. F1\, Live and Online Sale
DESCRIPTION:EventsSelling over 40 lots of quality Brahman and Brahman influenced cattle. There will be show prospects\, cow calf pairs\, bred heifers\, herd sire prospects\, and some VERY fancy F1 females! \nTo view the sale site visit BestCattleSales.com \nAnimals will be available to preview Friday\, June 3rd \nThe Sale begins at 12 PM Saturday\, June 4th\, and will take place at Laurens Livestock\n2500 Hwy 49 • Laurens\, SC 29360
URL:https://brahmanevent.com/event/carolina-brahman-breeders-assoc-f1-live-and-online-sale/
LOCATION:Best Cattle Sales\, United States
CATEGORIES:Best Cattle Sales,Sales
ATTACH;FMTTYPE=image/jpeg:https://brahmanevent.com/wp-content/uploads/2022-CBBA-Half.jpg
ORGANIZER;CN="Carolinas Brahman Breeders Association":MAILTO:PGDDFARM@gmail.com
GEO:37.09024;-95.712891
END:VEVENT
BEGIN:VEVENT
DTSTART;TZID=UTC:20220603T080000
DTEND;TZID=UTC:20220604T170000
DTSTAMP:20260425T091054
CREATED:20220401T214651Z
LAST-MODIFIED:20220509T204232Z
UID:10000215-1654243200-1654362000@brahmanevent.com
SUMMARY:MSJBA Field Day
DESCRIPTION:Events\nShow Time: 12pm with dinner and awards ceremony to follow.\nOptional showmanship clinic followed by dinner\, Friday (6/3) at 6pm.\nCheck in by 10 am show day (must have health papers).\nCattle may enter the barn at 10 am on Friday and must exit by 12pm Sunday.\nEntries open May 1st.\n\nEntries and memberships will be accepted on the day of check-in!
URL:https://brahmanevent.com/event/msjba-field-day/
LOCATION:MS State Fairgrounds\, United States
CATEGORIES:Junior Shows
ATTACH;FMTTYPE=image/jpeg:https://brahmanevent.com/wp-content/uploads/Image-from-iOS-30-e1652128928693.jpg
END:VEVENT
BEGIN:VEVENT
DTSTART;TZID=UTC:20220603T080000
DTEND;TZID=UTC:20220604T170000
DTSTAMP:20260425T091054
CREATED:20220324T212316Z
LAST-MODIFIED:20220324T212316Z
UID:10000210-1654243200-1654362000@brahmanevent.com
SUMMARY:BRC Summer Show Cattle Camps
DESCRIPTION:EventsLimited to 10 campers per session! \n$150 per student \nDates open April 1 at www.shopbrcutrer.com
URL:https://brahmanevent.com/event/brc-summer-show-cattle-camps-2/
LOCATION:B.R. Cutrer\, Inc.\, Boling\, TX\, United States
CATEGORIES:Clinic
ATTACH;FMTTYPE=image/jpeg:https://brahmanevent.com/wp-content/uploads/Image-from-iOS.jpg
GEO:29.2569227;-95.9462552
END:VEVENT
BEGIN:VEVENT
DTSTART;TZID=America/Chicago:20220602T080000
DTEND;TZID=America/Chicago:20220602T170000
DTSTAMP:20260425T091054
CREATED:20211029T182209Z
LAST-MODIFIED:20220426T151419Z
UID:10000124-1654156800-1654189200@brahmanevent.com
SUMMARY:Moreno Ranches Memorial Week Online Sale IV
DESCRIPTION:EventsTo view the sale click HERE.
URL:https://brahmanevent.com/event/moreno-ranches-memorial-week-online-sale-iv/
LOCATION:www.morenoranches.com
CATEGORIES:Sales
ATTACH;FMTTYPE=image/jpeg:https://brahmanevent.com/wp-content/uploads/30F78757-FEB4-428B-8363-AF109E75787F.jpeg
ORGANIZER;CN="Moreno Ranch":MAILTO:kelvin@morenoranches.com
END:VEVENT
BEGIN:VEVENT
DTSTART;TZID=America/Chicago:20220601T080000
DTEND;TZID=America/Chicago:20220601T170000
DTSTAMP:20260425T091054
CREATED:20211029T182003Z
LAST-MODIFIED:20220426T152530Z
UID:10000121-1654070400-1654102800@brahmanevent.com
SUMMARY:TBF Scholarship Application Deadline
DESCRIPTION:EventsTo view the scholarship application click HERE.
URL:https://brahmanevent.com/event/tbf-scholarship-application-deadline/
LOCATION:GA
CATEGORIES:Junior Shows
ATTACH;FMTTYPE=image/png:https://brahmanevent.com/wp-content/uploads/BrahmanFoundation-LogoWeb-1.png
END:VEVENT
BEGIN:VEVENT
DTSTART;TZID=America/Chicago:20220601T080000
DTEND;TZID=America/Chicago:20220601T170000
DTSTAMP:20260425T091054
CREATED:20211029T181841Z
LAST-MODIFIED:20220426T151938Z
UID:10000119-1654070400-1654102800@brahmanevent.com
SUMMARY:AJBA All American National Junior Show Entry Deadline
DESCRIPTION:EventsAJBA All American National Junior Show Entry Deadline
URL:https://brahmanevent.com/event/ajba-all-american-national-junior-show-entry-deadline/
LOCATION:ABBA Office\, 1920 W Villa Maria Rd. #302\, Bryan\, 77807\, United States
CATEGORIES:Junior Shows
ATTACH;FMTTYPE=image/jpeg:https://brahmanevent.com/wp-content/uploads/277130707_4898936583476440_4534429604310847072_n.jpg
ORGANIZER;CN="ABBA":MAILTO:abba@brahman.org
GEO:30.6285204;-96.3851538
X-APPLE-STRUCTURED-LOCATION;VALUE=URI;X-ADDRESS=ABBA Office 1920 W Villa Maria Rd. #302 Bryan 77807 United States;X-APPLE-RADIUS=500;X-TITLE=1920 W Villa Maria Rd. #302:geo:-96.3851538,30.6285204
END:VEVENT
BEGIN:VEVENT
DTSTART;TZID=America/Chicago:20220601T080000
DTEND;TZID=America/Chicago:20220601T170000
DTSTAMP:20260425T091054
CREATED:20211029T175735Z
LAST-MODIFIED:20220426T151022Z
UID:10000116-1654070400-1654102800@brahmanevent.com
SUMMARY:AJBA/ABBA Scholarship Application Due
DESCRIPTION:EventsTo view the AJBA/ABBA scholarship application click HERE. \nTo view the Amanda Pounds scholarship application click HERE. \n\nMore info coming soon... \nEvent created on 10/29/2021
URL:https://brahmanevent.com/event/ajba-abba-scholarship-application-due/
LOCATION:ABBA Office\, 1920 W Villa Maria Rd. #302\, Bryan\, 77807\, United States
CATEGORIES:Junior Shows
ATTACH;FMTTYPE=image/jpeg:https://brahmanevent.com/wp-content/uploads/277130707_4898936583476440_4534429604310847072_n.jpg
ORGANIZER;CN="ABBA":MAILTO:abba@brahman.org
GEO:30.6285204;-96.3851538
X-APPLE-STRUCTURED-LOCATION;VALUE=URI;X-ADDRESS=ABBA Office 1920 W Villa Maria Rd. #302 Bryan 77807 United States;X-APPLE-RADIUS=500;X-TITLE=1920 W Villa Maria Rd. #302:geo:-96.3851538,30.6285204
END:VEVENT
BEGIN:VEVENT
DTSTART;TZID=America/Chicago:20220527T080000
DTEND;TZID=America/Chicago:20220528T000000
DTSTAMP:20260425T091054
CREATED:20220217T211044Z
LAST-MODIFIED:20220502T141543Z
UID:10000183-1653638400-1653696000@brahmanevent.com
SUMMARY:Red River Brahman Alliance
DESCRIPTION:EventsJudge: PJ Budler \nShowmanship Judge: Ernie Dominguez \nBarn opens Friday\, May 27 \nRegistration starts are 6:00 AM \nShowing Brahman\, Gyr\, Guzerat\, Sardo Negro\, Nelore\, & Indu \nThank you to all our sponsors! \nA special thank you to Rachel and Brandon Cutrer of Brahman Country Beef for donating the hamburger meat and Cross Roads FFA for donating their time to cook the hamburgers on Friday! There will be a tip jar to raise money for the FFA chapter. \nTo be eligible for the $10\,000 premium money and the award for the First ever National Champion of the Bos Indicus International Association you must be a member or join at the show the Red River Brahman Alliance. \nThank you to the show sponsors! \nGOLD LEVEL\nTransova Genetics - College Station\, TX \nSILVER LEVEL\nHD Genetics USA\nClem Ranch\nCircle T Cattle Company\nSG Red Brahmans\, SG Cowboy Fence\, SG Semen Center\nDavid Cortz Cattle Farm\nJoyce Custom Fitters\nJohn McGill
URL:https://brahmanevent.com/event/red-river-brahman-alliance/
LOCATION:Navarro County Expo Center\, 4021 W\, 4021 E State Hwy 22\, Corsicana\, TX\, 75110\, United States
CATEGORIES:Open Shows
ATTACH;FMTTYPE=image/jpeg:https://brahmanevent.com/wp-content/uploads/IMG_6895.jpeg
GEO:32.0851754;-96.5214755
X-APPLE-STRUCTURED-LOCATION;VALUE=URI;X-ADDRESS=Navarro County Expo Center 4021 W 4021 E State Hwy 22 Corsicana TX 75110 United States;X-APPLE-RADIUS=500;X-TITLE=4021 W\, 4021 E State Hwy 22:geo:-96.5214755,32.0851754
END:VEVENT
BEGIN:VEVENT
DTSTART;TZID=America/Chicago:20220526T080000
DTEND;TZID=America/Chicago:20220527T190000
DTSTAMP:20260425T091054
CREATED:20220221T151609Z
LAST-MODIFIED:20220221T151609Z
UID:10000196-1653552000-1653678000@brahmanevent.com
SUMMARY:I Subasta Con Causa Online Sale
DESCRIPTION:EventsTo learn more about this sale please visit BestCattleSales.com
URL:https://brahmanevent.com/event/i-subasta-con-causa-online-sale/
LOCATION:Best Cattle Sales\, United States
CATEGORIES:Best Cattle Sales,Online Events,Sales
ATTACH;FMTTYPE=image/jpeg:https://brahmanevent.com/wp-content/uploads/2020-BestCattleSales-FB-Topper.jpg
GEO:37.09024;-95.712891
END:VEVENT
BEGIN:VEVENT
DTSTART;TZID=America/Chicago:20220525T080000
DTEND;TZID=America/Chicago:20220526T170000
DTSTAMP:20260425T091054
CREATED:20220518T152637Z
LAST-MODIFIED:20220519T212130Z
UID:10000235-1653465600-1653584400@brahmanevent.com
SUMMARY:KI Cattle Company - Memorial Day Frozen Genetics Online Sale
DESCRIPTION:EventsMake plans to bid in the 2022 KI Cattle Company Memorial Day Frozen Genetics Online Sale!
URL:https://brahmanevent.com/event/ki-cattle-company-memorial-day-frozen-genetics-online-sale/
LOCATION:Cattle In Motion
CATEGORIES:Online Events,Sales
ATTACH;FMTTYPE=image/jpeg:https://brahmanevent.com/wp-content/uploads/KiCattle-MemorialDaySale_v2.jpg
END:VEVENT
BEGIN:VEVENT
DTSTART;TZID=America/Chicago:20220523T080000
DTEND;TZID=America/Chicago:20220524T190000
DTSTAMP:20260425T091054
CREATED:20220127T160857Z
LAST-MODIFIED:20220502T144654Z
UID:10000070-1653292800-1653418800@brahmanevent.com
SUMMARY:Forgason Cattle Co. Select Bull Sale
DESCRIPTION:EventsTo learn more click HERE.
URL:https://brahmanevent.com/event/forgason-cattle-co-select-bull-sale/
LOCATION:GA
CATEGORIES:Online Events,Sales
ATTACH;FMTTYPE=image/jpeg:https://brahmanevent.com/wp-content/uploads/JDH-Forgason_v4.jpg
ORGANIZER;CN="J.D. Hudgins-Forgason":MAILTO:forgasoncattle@jdhudgins.com
END:VEVENT
BEGIN:VEVENT
DTSTART;TZID=America/Chicago:20220521T180000
DTEND;TZID=America/Chicago:20220521T180000
DTSTAMP:20260425T091054
CREATED:20210615T140314Z
LAST-MODIFIED:20220425T172306Z
UID:10000032-1653156000-1653156000@brahmanevent.com
SUMMARY:England Cattle Co. 3rd Annual "Brahmans on the Rio" Production Sale
DESCRIPTION:EventsTo view the sale click HERE. \nThis sale is being hosted on PremierLivestockAuctions.com \nThis sale will begin at 6 PM CST and will be followed by dinner and live music! \nSale Location\nEngland Cattle Co. Headquarters\n13228 Mile 2 E\nMercedes\, TX 78570 \nHotel Room Block\nLa Quinta Inn & Suites\n7007 E Expressway 83\nMercedes\, TX 78570\nCode: England Cattle Co.\nRate: $89 per night for both King and/or Double Queen rooms \nFlight Information\nEngland Cattle Co. is conveniently located between two major airports. Both are less than 20 miles from the ranch! If you are planning to fly in\, we would be more than happy to arrange transportation to the ranch — just email your flight date and arrival time to brooke@englandcattleco.com. \nValley International Airport (HRL)\nMain Airlines: SouthwestMcAllen International Airport (MFE)\nMain Airlines: United\, American
URL:https://brahmanevent.com/event/england-cattle-co-3rd-annual-brahmans-on-the-rio-production-sale/
LOCATION:England Cattle Company\, 13228 Mile 2 E\, Mercedes\, TX\, 78570\, United States
CATEGORIES:Online Events,Sales
ATTACH;FMTTYPE=image/jpeg:https://brahmanevent.com/wp-content/uploads/ecc-april-ad-final-scaled.jpg
GEO:26.2263509;-97.8790905
X-APPLE-STRUCTURED-LOCATION;VALUE=URI;X-ADDRESS=England Cattle Company 13228 Mile 2 E Mercedes TX 78570 United States;X-APPLE-RADIUS=500;X-TITLE=13228 Mile 2 E:geo:-97.8790905,26.2263509
END:VEVENT
BEGIN:VEVENT
DTSTART;TZID=America/Chicago:20220521T080000
DTEND;TZID=America/Chicago:20220521T170000
DTSTAMP:20260425T091054
CREATED:20211214T173527Z
LAST-MODIFIED:20220510T192708Z
UID:10000147-1653120000-1653152400@brahmanevent.com
SUMMARY:Cattleman’s Top Cut Replacement Female Sale
DESCRIPTION:EventsMake plans to attend the 2022 Cattleman’s Top Cut Replacement Female Sale! \nFor more information contact: 817-291-5121
URL:https://brahmanevent.com/event/cattlemans-top-cut-replacement-female-sale/
LOCATION:Navasota\, Texas\, Navasota\, TX\, United States
CATEGORIES:Sales
ATTACH;FMTTYPE=image/jpeg:https://brahmanevent.com/wp-content/uploads/image-2.jpg
END:VEVENT
BEGIN:VEVENT
DTSTART;TZID=UTC:20220520T080000
DTEND;TZID=UTC:20220529T170000
DTSTAMP:20260425T091054
CREATED:20220425T223723Z
LAST-MODIFIED:20220425T223723Z
UID:10000231-1653033600-1653843600@brahmanevent.com
SUMMARY:V National Indian Breeds Show and Regional Fair in Tapachula
DESCRIPTION:EventsMake plans to attend the 2022 V National Indian Breeds Show and Regional Fair in Tapachula!
URL:https://brahmanevent.com/event/v-national-indian-breeds-show-and-regional-fair-in-tapachula/
LOCATION:Chiapas\, Mexico\, Chiapas\, Mexico
CATEGORIES:International
ATTACH;FMTTYPE=image/jpeg:https://brahmanevent.com/wp-content/uploads/2022-V-Expo-Nal-de-Origen-Indiano-2022_TBJ.jpg
END:VEVENT
BEGIN:VEVENT
DTSTART;TZID=UTC:20220520T080000
DTEND;TZID=UTC:20220521T170000
DTSTAMP:20260425T091054
CREATED:20220324T212129Z
LAST-MODIFIED:20220324T212129Z
UID:10000209-1653033600-1653152400@brahmanevent.com
SUMMARY:BRC Summer Show Cattle Camps
DESCRIPTION:EventsLimited to 10 campers per session! \n$150 per student \nDates open April 1 at www.shopbrcutrer.com
URL:https://brahmanevent.com/event/brc-summer-show-cattle-camps/
LOCATION:B.R. Cutrer\, Inc.\, Boling\, TX\, United States
CATEGORIES:Clinic
ATTACH;FMTTYPE=image/jpeg:https://brahmanevent.com/wp-content/uploads/Image-from-iOS.jpg
GEO:29.2569227;-95.9462552
END:VEVENT
BEGIN:VEVENT
DTSTART;VALUE=DATE:20220520
DTEND;VALUE=DATE:20220523
DTSTAMP:20260425T091054
CREATED:20220224T205201Z
LAST-MODIFIED:20220425T161233Z
UID:10000199-1653004800-1653263999@brahmanevent.com
SUMMARY:SJBA Florida State Brahman Show
DESCRIPTION:EventsGet ready for the AJBA All American! \nGrey and Red Divisions\, B&O Awards\, F-1 Show\, Herdsman Quiz\, Speech\, Sales Talk\, Poster\, Photo\, and All Around Contests!
URL:https://brahmanevent.com/event/florida-state-brahman-show/
LOCATION:Bartow Agricultural Center\, 1702 Hwy 17 South\, Bartow\, FL\, United States
CATEGORIES:Junior Shows
ATTACH;FMTTYPE=image/jpeg:https://brahmanevent.com/wp-content/uploads/Image-from-iOS-23.jpg
GEO:27.8757751;-81.8283601
X-APPLE-STRUCTURED-LOCATION;VALUE=URI;X-ADDRESS=Bartow Agricultural Center 1702 Hwy 17 South Bartow FL United States;X-APPLE-RADIUS=500;X-TITLE=1702 Hwy 17 South:geo:-81.8283601,27.8757751
END:VEVENT
BEGIN:VEVENT
DTSTART;TZID=America/Chicago:20220515T080000
DTEND;TZID=America/Chicago:20220515T170000
DTSTAMP:20260425T091054
CREATED:20211029T175344Z
LAST-MODIFIED:20220128T193322Z
UID:10000115-1652601600-1652634000@brahmanevent.com
SUMMARY:TBF Summer Leadership Camp Deadline
DESCRIPTION:EventsClick HERE for the scholarship application.
URL:https://brahmanevent.com/event/tbf-summer-leadership-camp-deadline/
LOCATION:GA
CATEGORIES:Other Breed Show
ATTACH;FMTTYPE=image/jpeg:https://brahmanevent.com/wp-content/uploads/TBF_v3.jpg
END:VEVENT
BEGIN:VEVENT
DTSTART;TZID=America/Chicago:20220514T160000
DTEND;TZID=America/Chicago:20220514T190000
DTSTAMP:20260425T091054
CREATED:20211026T200016Z
LAST-MODIFIED:20220406T203724Z
UID:10000019-1652544000-1652554800@brahmanevent.com
SUMMARY:Eastern Brahman Breeders Association Extravaganza Show
DESCRIPTION:EventsFor more information click HERE. \nThis is an ABBA sanctioned open show. There will be showmanship as well.
URL:https://brahmanevent.com/event/eastern-brahman-breeders-association-extravaganza-show/
LOCATION:Coosa Valley Fairgrounds\, Rome
CATEGORIES:Junior Shows,Open Shows
ATTACH;FMTTYPE=image/jpeg:https://brahmanevent.com/wp-content/uploads/EBExtravaganza-ad-1.jpg
END:VEVENT
BEGIN:VEVENT
DTSTART;TZID=UTC:20220514T080000
DTEND;TZID=UTC:20220515T170000
DTSTAMP:20260425T091054
CREATED:20220425T193108Z
LAST-MODIFIED:20220425T193108Z
UID:10000229-1652515200-1652634000@brahmanevent.com
SUMMARY:15th Annual Heritage Cattle Company Junior Show
DESCRIPTION:EventsTo view and fill out the entry forms click HERE.
URL:https://brahmanevent.com/event/15th-annual-heritage-cattle-company-junior-show/
LOCATION:Heritage Cattle Co.\, Hungerford\, TX\, United States
CATEGORIES:Junior Shows
ATTACH;FMTTYPE=image/jpeg:https://brahmanevent.com/wp-content/uploads/HeritageCattle_Badge_Logo-01.jpg
ORGANIZER;CN="Heritage Cattle Company":MAILTO:heritagecattle1@yahoo.com
END:VEVENT
BEGIN:VEVENT
DTSTART;TZID=UTC:20220511T080000
DTEND;TZID=UTC:20220512T180000
DTSTAMP:20260425T091054
CREATED:20220316T205952Z
LAST-MODIFIED:20220504T210341Z
UID:10000206-1652256000-1652378400@brahmanevent.com
SUMMARY:"Traditions" JD Hudgins Spring Heifer Sale
DESCRIPTION:EventsTo learn more click HERE. \nThis sale is hosted on CattleInMotion.com
URL:https://brahmanevent.com/event/traditions-jd-hudgins-spring-select-heifer-sale-ix/
LOCATION:GA
CATEGORIES:Online Events,Sales
ATTACH;FMTTYPE=image/jpeg:https://brahmanevent.com/wp-content/uploads/Hudgins-Extra_v1-scaled.jpg
ORGANIZER;CN="J.D. Hudgins%2C Inc.":MAILTO:manso@jdhudgins.com
END:VEVENT
BEGIN:VEVENT
DTSTART;TZID=America/Chicago:20220505T080000
DTEND;TZID=America/Chicago:20220508T000000
DTSTAMP:20260425T091054
CREATED:20211028T192208Z
LAST-MODIFIED:20220413T204335Z
UID:10000114-1651737600-1651968000@brahmanevent.com
SUMMARY:Jambalaya Classic
DESCRIPTION:EventsTo learn more about this event click HERE. \nSchedule \nThursday\, May 5\n12 PM - Cattle may arrive \nFriday\, May 6\n6:30 PM - All cattle must be in place \nSaturday\, May 7 \n8 AM - Open Show - Judge: Jeff Thayne \nSunday\, May 8 \n8 AM - Junior Showmanship followed by Junior Show - Judges: Logan and Lauren Thomas \n\nBring your own Shavings!\nEntry deadline is APRIL 24\, 2022
URL:https://brahmanevent.com/event/jambalaya-classic/
LOCATION:Burton Complex\, 7001 Gulf Highway\, Lake Charles\, LA\, 70607\, United States
CATEGORIES:Open Shows
ATTACH;FMTTYPE=image/jpeg:https://brahmanevent.com/wp-content/uploads/277003778_10159435211831001_7791205686826434441_n.jpg
GEO:30.1369557;-93.2113961
X-APPLE-STRUCTURED-LOCATION;VALUE=URI;X-ADDRESS=Burton Complex 7001 Gulf Highway Lake Charles LA 70607 United States;X-APPLE-RADIUS=500;X-TITLE=7001 Gulf Highway:geo:-93.2113961,30.1369557
END:VEVENT
BEGIN:VEVENT
DTSTART;TZID=America/Chicago:20220504T080000
DTEND;TZID=America/Chicago:20220506T170000
DTSTAMP:20260425T091054
CREATED:20220427T192141Z
LAST-MODIFIED:20220427T192141Z
UID:10000233-1651651200-1651856400@brahmanevent.com
SUMMARY:Bovine Elite AI Clinic
DESCRIPTION:EventsFor more information and to register for this event click HERE.
URL:https://brahmanevent.com/event/bovine-elite-ai-clinic-3/
LOCATION:Bovine Elite\, LLC\, 3300 Longmire Drive\, College Station\, TX\, 77845\, United States
CATEGORIES:Clinic
ATTACH;FMTTYPE=image/jpeg:https://brahmanevent.com/wp-content/uploads/Bovine-Elite.jpg
GEO:30.5862365;-96.2900912
X-APPLE-STRUCTURED-LOCATION;VALUE=URI;X-ADDRESS=Bovine Elite LLC 3300 Longmire Drive College Station TX 77845 United States;X-APPLE-RADIUS=500;X-TITLE=3300 Longmire Drive:geo:-96.2900912,30.5862365
END:VEVENT
BEGIN:VEVENT
DTSTART;TZID=America/Chicago:20220504T080000
DTEND;TZID=America/Chicago:20220506T000000
DTSTAMP:20260425T091054
CREATED:20211026T193832Z
LAST-MODIFIED:20220119T151604Z
UID:10000011-1651651200-1651795200@brahmanevent.com
SUMMARY:University of Florida Beef Cattle Short Course
DESCRIPTION:EventsFor more information click HERE.
URL:https://brahmanevent.com/event/university-of-florida-beef-cattle-short-course/
LOCATION:University of Florida\, Gainesville\, FL\, 32611\, United States
CATEGORIES:Conventions
ATTACH;FMTTYPE=image/jpeg:https://brahmanevent.com/wp-content/uploads/UF-BCSC.jpg
GEO:29.6130239;-82.371937
END:VEVENT
BEGIN:VEVENT
DTSTART;TZID=America/Chicago:20220503T080000
DTEND;TZID=America/Chicago:20220506T180000
DTSTAMP:20260425T091054
CREATED:20220316T203630Z
LAST-MODIFIED:20220425T170507Z
UID:10000205-1651564800-1651860000@brahmanevent.com
SUMMARY:University of Florida Brahman Bull Sale
DESCRIPTION:EventsTo view the sale click HERE.
URL:https://brahmanevent.com/event/university-of-florida-brahman-bull-sale/
LOCATION:GA
CATEGORIES:Online Events,Sales
ATTACH;FMTTYPE=image/png:https://brahmanevent.com/wp-content/uploads/800px-University_of_Florida_Vertical_Signature.svg.png
END:VEVENT
BEGIN:VEVENT
DTSTART;TZID=America/Chicago:20220430T080000
DTEND;TZID=America/Chicago:20220430T170000
DTSTAMP:20260425T091054
CREATED:20220425T192647Z
LAST-MODIFIED:20220425T192647Z
UID:10000227-1651305600-1651338000@brahmanevent.com
SUMMARY:Queens of the South Replacement Sale
DESCRIPTION:EventsThis sale is hosted on CattleInMotion.com \nTo view the sale click HERE.
URL:https://brahmanevent.com/event/queens-of-the-south-replacement-sale/
LOCATION:East Texas Livestock\, Crockett\, TX\, United States
CATEGORIES:Sales
ATTACH;FMTTYPE=image/jpeg:https://brahmanevent.com/wp-content/uploads/Capture.jpg
ORGANIZER;CN="Blaine Weiterman":MAILTO:weitermancattlesales@aol.com
GEO:31.3182359;-95.4566136
END:VEVENT
BEGIN:VEVENT
DTSTART;TZID=America/Chicago:20220430T080000
DTEND;TZID=America/Chicago:20220430T170000
DTSTAMP:20260425T091054
CREATED:20211026T192908Z
LAST-MODIFIED:20220425T170346Z
UID:10000020-1651305600-1651338000@brahmanevent.com
SUMMARY:SRS Production Sale
DESCRIPTION:EventsThis sale is hosted on CattleInMotion.com
URL:https://brahmanevent.com/event/srs-production-sale/
LOCATION:GA
CATEGORIES:Sales
ATTACH;FMTTYPE=image/jpeg:https://brahmanevent.com/wp-content/uploads/2022-SRS_v1.jpg
ORGANIZER;CN="SRS Land & Cattle":MAILTO:srs34@msn.com
END:VEVENT
END:VCALENDAR