BEGIN:VCALENDAR
VERSION:2.0
PRODID:-//Brahman Event - ECPv6.15.15//NONSGML v1.0//EN
CALSCALE:GREGORIAN
METHOD:PUBLISH
X-ORIGINAL-URL:https://brahmanevent.com
X-WR-CALDESC:Events for Brahman Event
REFRESH-INTERVAL;VALUE=DURATION:PT1H
X-Robots-Tag:noindex
X-PUBLISHED-TTL:PT1H
BEGIN:VTIMEZONE
TZID:America/Chicago
BEGIN:DAYLIGHT
TZOFFSETFROM:-0600
TZOFFSETTO:-0500
TZNAME:CDT
DTSTART:20220313T080000
END:DAYLIGHT
BEGIN:STANDARD
TZOFFSETFROM:-0500
TZOFFSETTO:-0600
TZNAME:CST
DTSTART:20221106T070000
END:STANDARD
BEGIN:DAYLIGHT
TZOFFSETFROM:-0600
TZOFFSETTO:-0500
TZNAME:CDT
DTSTART:20230312T080000
END:DAYLIGHT
BEGIN:STANDARD
TZOFFSETFROM:-0500
TZOFFSETTO:-0600
TZNAME:CST
DTSTART:20231105T070000
END:STANDARD
BEGIN:DAYLIGHT
TZOFFSETFROM:-0600
TZOFFSETTO:-0500
TZNAME:CDT
DTSTART:20240310T080000
END:DAYLIGHT
BEGIN:STANDARD
TZOFFSETFROM:-0500
TZOFFSETTO:-0600
TZNAME:CST
DTSTART:20241103T070000
END:STANDARD
END:VTIMEZONE
BEGIN:VEVENT
DTSTART;TZID=America/Chicago:20230408T080000
DTEND;TZID=America/Chicago:20230408T170000
DTSTAMP:20260424T052404
CREATED:20221005T205754Z
LAST-MODIFIED:20230112T221640Z
UID:10000282-1680940800-1680973200@brahmanevent.com
SUMMARY:6th Annual Southern Classic Registered Brahman and F1 Sale
DESCRIPTION:EventsBidding will be online at Best Cattle Sales or in person at South East Mississippi Livestock \nCattle will be available to preview on April 7\, 2023 \n6th Annual Southern Classic Registered Brahman and F1 Sale will have something for everyone with lots including show prospects\, donor females\, bred cows\, cow/calf pairs\, herd sire prospects\, golden certified F-1 pairs\, bred\, and open females\, Certified F-1 pairs\, F-1 plus pairs\, super baldy bred & F-1 heifers and a few select Angus and Hereford bulls. \nF-1's will sell at 11 AM and Brahmans will sell at 1 PM. \nHost Hotel\nDoubletree by Hilton\n601-296-0302\nAsk for the Southern Classic Rate
URL:https://brahmanevent.com/event/6th-annual-southern-classic-registered-brahman-and-f1-sale/
LOCATION:Hattiesburg\, MS\, Hattiesburg\, MS\, United States
CATEGORIES:Best Cattle Sales,Online Events,Sales
ATTACH;FMTTYPE=image/jpeg:https://brahmanevent.com/wp-content/uploads/SouthernClassic_v1-1.jpg
GEO:31.3271189;-89.2903392
END:VEVENT
BEGIN:VEVENT
DTSTART;TZID=America/Chicago:20230407T080000
DTEND;TZID=America/Chicago:20230407T170000
DTSTAMP:20260424T052404
CREATED:20221021T195404Z
LAST-MODIFIED:20221021T195405Z
UID:10000184-1680854400-1680886800@brahmanevent.com
SUMMARY:Heritage Cattle Company First Friday Genetic Drop
DESCRIPTION:EventsDon't miss the Heritage Cattle Company First Friday Genetic Drop!
URL:https://brahmanevent.com/event/heritage-cattle-company-first-friday-genetic-drop/2023-04-07/
CATEGORIES:Sales
ATTACH;FMTTYPE=image/jpeg:https://brahmanevent.com/wp-content/uploads/HeritageCattle_Badge_Logo-01.jpg
ORGANIZER;CN="Heritage Cattle Company":MAILTO:heritagecattle1@yahoo.com
END:VEVENT
BEGIN:VEVENT
DTSTART;TZID=America/Chicago:20230405T080000
DTEND;TZID=America/Chicago:20230406T170000
DTSTAMP:20260424T052404
CREATED:20230314T155954Z
LAST-MODIFIED:20230314T155954Z
UID:10000378-1680681600-1680800400@brahmanevent.com
SUMMARY:Diamond & Aces Online Sale
DESCRIPTION:EventsMake plans to bid in the Diamond & Aces Online Sale!
URL:https://brahmanevent.com/event/diamond-aces-online-sale/
LOCATION:Premier Livestock Auctions
CATEGORIES:Online Events,Sales
ATTACH;FMTTYPE=image/jpeg:https://brahmanevent.com/wp-content/uploads/IMG_7100.jpg
END:VEVENT
BEGIN:VEVENT
DTSTART;TZID=America/Chicago:20230405T080000
DTEND;TZID=America/Chicago:20230406T170000
DTSTAMP:20260424T052404
CREATED:20230103T192158Z
LAST-MODIFIED:20230328T202506Z
UID:10000228-1680681600-1680800400@brahmanevent.com
SUMMARY:KI Cattle Company Spring Online Sale
DESCRIPTION:EventsSelling progeny by JDH MASSAI MANSO 608/6\, +MR. V8 380/6\, MR. V8 146/8 "SLOAN"\, +MR WCC MAXIMUS ROJO 82/4\, and more! \nVisit CattleInMotion.com for more information
URL:https://brahmanevent.com/event/ki-cattle-company-spring-online-sale-2/
LOCATION:Cattle In Motion
CATEGORIES:Online Events,Sales
ATTACH;FMTTYPE=image/jpeg:https://brahmanevent.com/wp-content/uploads/KiSpringSale_v2.jpg
END:VEVENT
BEGIN:VEVENT
DTSTART;TZID=America/Chicago:20230403T080000
DTEND;TZID=America/Chicago:20230404T170000
DTSTAMP:20260424T052404
CREATED:20221021T194713Z
LAST-MODIFIED:20230130T160839Z
UID:10000323-1680508800-1680627600@brahmanevent.com
SUMMARY:Two Fast Nickels Bull & Heifer Sale\, Fullblood Fleckviehs\, Purebred Simmentals & Simbrahs
DESCRIPTION:EventsMake plans to bid in the Two Fast Nickels Bull & Heifer Sale\, Fullblood Fleckviehs\, Purebred Simmentals & Simbrahs online at BestCattleSales.com \nConsignors:\nK5 Raftor Top Simmentals\nStark Cattle Company\nT5 Livestock Company\nSimmentals of Texas
URL:https://brahmanevent.com/event/two-fast-nickels-bull-heifer-sale-fullblood-fleckviehs-purebred-simmentals-simbrahs-2/
LOCATION:Best Cattle Sales\, United States
CATEGORIES:Best Cattle Sales
ATTACH;FMTTYPE=image/jpeg:https://brahmanevent.com/wp-content/uploads/2FastNickels-2023.jpg
GEO:37.09024;-95.712891
END:VEVENT
BEGIN:VEVENT
DTSTART;TZID=America/Chicago:20230401T080000
DTEND;TZID=America/Chicago:20230402T170000
DTSTAMP:20260424T052404
CREATED:20221021T194515Z
LAST-MODIFIED:20230328T201444Z
UID:10000322-1680336000-1680454800@brahmanevent.com
SUMMARY:FJBA Spring Fling at Turner Center
DESCRIPTION:EventsMake plans to attend the FJBA Spring Fling at Turner Center! \nFriday Check in (Optional) 4-8pm\nSaturday Check In 6-8am (Optional)\nShowmanship 9am\nF-1/Red/Grey Females (After Showmanship)\nDinner/Dance 5pm\nSunday\nChurch 9am\nRed/Grey Bulls 10am
URL:https://brahmanevent.com/event/fjba-spring-fling-at-turner-center/
CATEGORIES:Junior Shows
ATTACH;FMTTYPE=image/png:https://brahmanevent.com/wp-content/uploads/2021/12/Brahman-Event-logo.png
END:VEVENT
BEGIN:VEVENT
DTSTART;TZID=America/Chicago:20230401T080000
DTEND;TZID=America/Chicago:20230401T170000
DTSTAMP:20260424T052404
CREATED:20221206T140016Z
LAST-MODIFIED:20221219T145017Z
UID:10000353-1680336000-1680368400@brahmanevent.com
SUMMARY:Heart of TX Special Replacement Female Sale
DESCRIPTION:EventsMake plans to bid in the Heart of TX Special Replacement Female Sale!
URL:https://brahmanevent.com/event/heart-of-tx-special-replacement-female-sale/
LOCATION:Groesbeck\, TX
CATEGORIES:Sales
ATTACH;FMTTYPE=image/png:https://brahmanevent.com/wp-content/uploads/2021/12/Brahman-Event-logo.png
ORGANIZER;CN="Tom Johnson":MAILTO:mailto:johnsoncattlemarketing@gmail.com
END:VEVENT
BEGIN:VEVENT
DTSTART;TZID=America/Chicago:20230401T080000
DTEND;TZID=America/Chicago:20230401T170000
DTSTAMP:20260424T052404
CREATED:20221104T153926Z
LAST-MODIFIED:20221104T153927Z
UID:10000325-1680336000-1680368400@brahmanevent.com
SUMMARY:TBF Summer Leadership Camp Applications Open
DESCRIPTION:EventsFor more information click HERE
URL:https://brahmanevent.com/event/tbf-summer-leadership-camp-applications-open/
CATEGORIES:Other
ATTACH;FMTTYPE=image/png:https://brahmanevent.com/wp-content/uploads/BrahmanFoundation-LogoWeb-1.png
END:VEVENT
BEGIN:VEVENT
DTSTART;TZID=America/Chicago:20230401T080000
DTEND;TZID=America/Chicago:20230401T170000
DTSTAMP:20260424T052404
CREATED:20221021T193941Z
LAST-MODIFIED:20230113T191721Z
UID:10000321-1680336000-1680368400@brahmanevent.com
SUMMARY:ABBA National F1 Female Sale
DESCRIPTION:EventsDon't miss the ABBA National F1 Female Sale! \nSCHEDULE OF EVENTS\n37th Annual ABBA National F1 and Brahman Female and Bull Sale\nWHEN: Saturday\, April 1\, 2023 at 1:00 p.m.\nWHERE: Bryan\, Texas \nThursday\, March 30\, 2023 \nCattle must arrive at sale facility by 3:00 p.m. \nFriday\, March 31\, 2023\n9:00 a.m.- Judging of F1 cattle begins\nAfter judging is complete\, cattle will be available for viewing.\n6:00 p.m.- Appreciation Dinner Served \nSaturday\, April 1\, 2023\n7:00 a.m.- Cattle Available for Viewing\n11:30 a.m.- Buyer’s Lunch Served\n12:30 p.m.- Sale Dedication\n1:00 p.m.- ABBA National F-1 Female Sale Begins \nHotel Accommodations\nBest Western Premier\n1920 Austin’s Colony Pkwy\nBryan\, TX 77802\nPhone: 979-731-5300\nRoom Block Code: ABBA23
URL:https://brahmanevent.com/event/abba-national-f1-female-sale-2/
CATEGORIES:Sales
ATTACH;FMTTYPE=image/jpeg:https://brahmanevent.com/wp-content/uploads/ABBA-F1-Sale_mag-proof.jpg
ORGANIZER;CN="ABBA":MAILTO:abba@brahman.org
END:VEVENT
BEGIN:VEVENT
DTSTART;TZID=America/Chicago:20230331T080000
DTEND;TZID=America/Chicago:20230402T170000
DTSTAMP:20260424T052404
CREATED:20221020T205655Z
LAST-MODIFIED:20230227T181409Z
UID:10000310-1680249600-1680454800@brahmanevent.com
SUMMARY:SUBASTA DE PRIMAVERA – PRESENTED BY DESARROLLO GANADERO LAS PIEDRAS Y GENÉTICA TROPICAL
DESCRIPTION:EventsMake plans to bid in the SUBASTA DE PRIMAVERA – PRESENTED BY DESARROLLO GANADERO LAS PIEDRAS Y GENÉTICA TROPICAL! \nFor more information visit www.bestcattlesales.com
URL:https://brahmanevent.com/event/subasta-de-primavera/
LOCATION:Best Cattle Sales\, United States
CATEGORIES:Best Cattle Sales
ATTACH;FMTTYPE=image/jpeg:https://brahmanevent.com/wp-content/uploads/2020-BestCattleSales-FB-Topper.jpg
GEO:37.09024;-95.712891
END:VEVENT
BEGIN:VEVENT
DTSTART;TZID=America/Chicago:20230325T080000
DTEND;TZID=America/Chicago:20230325T170000
DTSTAMP:20260424T052404
CREATED:20221021T162340Z
LAST-MODIFIED:20230103T222310Z
UID:10000318-1679731200-1679763600@brahmanevent.com
SUMMARY:Annual LBA Brahman & F1 Invitational Sale
DESCRIPTION:EventsDon't miss out on the Annual LBA Brahman & F1 Invitational Sale!
URL:https://brahmanevent.com/event/annual-lba-brahman-f1-invitational-sale/
CATEGORIES:Sales
ATTACH;FMTTYPE=image/jpeg:https://brahmanevent.com/wp-content/uploads/bkgd_LBA_Feb2023-V2.jpg
END:VEVENT
BEGIN:VEVENT
DTSTART;TZID=America/Chicago:20230325T080000
DTEND;TZID=America/Chicago:20230325T170000
DTSTAMP:20260424T052404
CREATED:20221021T162044Z
LAST-MODIFIED:20230103T165513Z
UID:10000317-1679731200-1679763600@brahmanevent.com
SUMMARY:South Texas State Fair Open & Junior Brahman Show
DESCRIPTION:EventsMake plans to attend the South Texas State Fair Open & Junior Brahman Show! \nClick here to learn more!
URL:https://brahmanevent.com/event/south-texas-state-fair-open-junior-brahman-show-2/
LOCATION:South Texas State Fair\, 5115 Interstate 10 South\, Beaumont\, TX\, 77705\, United States
CATEGORIES:Junior Shows,Open Shows
ATTACH;FMTTYPE=image/jpeg:https://brahmanevent.com/wp-content/uploads/SouthTexasStateFair_v1.jpg
GEO:30.0111091;-94.1797292
X-APPLE-STRUCTURED-LOCATION;VALUE=URI;X-ADDRESS=South Texas State Fair 5115 Interstate 10 South Beaumont TX 77705 United States;X-APPLE-RADIUS=500;X-TITLE=5115 Interstate 10 South:geo:-94.1797292,30.0111091
END:VEVENT
BEGIN:VEVENT
DTSTART;TZID=America/Chicago:20230324T080000
DTEND;TZID=America/Chicago:20230326T170000
DTSTAMP:20260424T052404
CREATED:20221021T160641Z
LAST-MODIFIED:20221021T160641Z
UID:10000316-1679644800-1679850000@brahmanevent.com
SUMMARY:TSCRA Cattle Raisers Convention & Expo
DESCRIPTION:EventsDon't miss out on the TSCRA Cattle Raisers Convention & Expo! \ \nClick here for more information.
URL:https://brahmanevent.com/event/tscra-cattle-raisers-convention-expo/
CATEGORIES:Conventions
ATTACH;FMTTYPE=image/png:https://brahmanevent.com/wp-content/uploads/Main-Logo-8.png
END:VEVENT
BEGIN:VEVENT
DTSTART;TZID=America/Chicago:20230324T080000
DTEND;TZID=America/Chicago:20230325T170000
DTSTAMP:20260424T052404
CREATED:20221213T195228Z
LAST-MODIFIED:20230130T173202Z
UID:10000356-1679644800-1679763600@brahmanevent.com
SUMMARY:Expica Rotativa Panama 2023
DESCRIPTION:EventsMake plans to attend the Expica Rotativa Panama 2023!
URL:https://brahmanevent.com/event/expica-rotativa-panama-2023/
LOCATION:Chiriqui\, Panama\, Panama
CATEGORIES:International
ATTACH;FMTTYPE=image/jpeg:https://brahmanevent.com/wp-content/uploads/ExpicaPanama_v1.jpg
GEO:37.09024;-95.712891
END:VEVENT
BEGIN:VEVENT
DTSTART;TZID=America/Chicago:20230323T080000
DTEND;TZID=America/Chicago:20230323T170000
DTSTAMP:20260424T052404
CREATED:20221020T212359Z
LAST-MODIFIED:20221219T160008Z
UID:10000315-1679558400-1679590800@brahmanevent.com
SUMMARY:Miami-Dade County Fair Open Brahman Show
DESCRIPTION:EventsMake plans to attend the Miami-Dade County Fair Open Brahman Show! Click here to learn more!
URL:https://brahmanevent.com/event/miami-dade-county-fair-open-brahman-show-2/
LOCATION:Miami-Dade County Fair & Expo\, 10901 SW 24 St\, Miami\, FL\, 33165\, United States
CATEGORIES:Open Shows
ATTACH;FMTTYPE=image/png:https://brahmanevent.com/wp-content/uploads/2021/12/Brahman-Event-logo.png
GEO:25.7467082;-80.3719312
X-APPLE-STRUCTURED-LOCATION;VALUE=URI;X-ADDRESS=Miami-Dade County Fair & Expo 10901 SW 24 St Miami FL 33165 United States;X-APPLE-RADIUS=500;X-TITLE=10901 SW 24 St:geo:-80.3719312,25.7467082
END:VEVENT
BEGIN:VEVENT
DTSTART;TZID=America/Chicago:20230318T130000
DTEND;TZID=America/Chicago:20230318T170000
DTSTAMP:20260424T052404
CREATED:20230221T144523Z
LAST-MODIFIED:20230221T144523Z
UID:10000369-1679144400-1679158800@brahmanevent.com
SUMMARY:Midwest Brahman Cattle Association Spring Sale
DESCRIPTION:EventsOnline bidding available through www.imaauctions.com \nTo consign cattle call: \n\n Carl Scotten - 816-769-3380\nmidwestbrahmancattle@gmail.com\nSteve Wheeler - 417-840-4149
URL:https://brahmanevent.com/event/midwest-brahman-cattle-association-spring-sale/
LOCATION:MoKan Livestock Market\, RR 2 Box 152\, Passaic\, MO\, 64730\, United States
CATEGORIES:Online Events,Sales
ATTACH;FMTTYPE=image/jpeg:https://brahmanevent.com/wp-content/uploads/Spring-2023-Sale.jpg
ORGANIZER;CN="Midwest Brahman Cattle Association":MAILTO:midwestbrahmancattle@gmail.com
GEO:38.3241008;-94.3453883
X-APPLE-STRUCTURED-LOCATION;VALUE=URI;X-ADDRESS=MoKan Livestock Market RR 2 Box 152 Passaic MO 64730 United States;X-APPLE-RADIUS=500;X-TITLE=RR 2 Box 152:geo:-94.3453883,38.3241008
END:VEVENT
BEGIN:VEVENT
DTSTART;TZID=America/Chicago:20230318T080000
DTEND;TZID=America/Chicago:20230318T170000
DTSTAMP:20260424T052404
CREATED:20221020T211843Z
LAST-MODIFIED:20230221T144951Z
UID:10000314-1679126400-1679158800@brahmanevent.com
SUMMARY:Texas Elite F1 & Brahman Female Sale
DESCRIPTION:EventsMake plans to attend the Texas Elite F1 & Brahman Female Sale! Click here to learn more!
URL:https://brahmanevent.com/event/texas-elite-f1-brahman-female-sale/
LOCATION:Cattle In Motion
CATEGORIES:Sales
ATTACH;FMTTYPE=image/jpeg:https://brahmanevent.com/wp-content/uploads/2022_TexasElite_v1.jpg
ORGANIZER;CN="Broken Triangle Cattle Company":MAILTO:milton@brokentrianglecattle.com
END:VEVENT
BEGIN:VEVENT
DTSTART;TZID=America/Chicago:20230316T120000
DTEND;TZID=America/Chicago:20230316T170000
DTSTAMP:20260424T052404
CREATED:20221020T211011Z
LAST-MODIFIED:20230306T170826Z
UID:10000312-1678968000-1678986000@brahmanevent.com
SUMMARY:RGV Livestock Show - Open Brahman Show
DESCRIPTION:EventsMake plans to attend the RGV Livestock Show - Open Brahman Show! \nJudge: Steve Hudgins \nClick here to view the schedule!
URL:https://brahmanevent.com/event/rgv-livestock-show-open-brahman-show-2/
LOCATION:Rio Grande Valley Livestock Show\, Inc.\, 1000 N Texas Ave\, Mercedes\, TX\, 78570\, United States
CATEGORIES:Open Shows
ATTACH;FMTTYPE=image/jpeg:https://brahmanevent.com/wp-content/uploads/RGV-Logo.jpg
GEO:26.1632988;-97.9140933
X-APPLE-STRUCTURED-LOCATION;VALUE=URI;X-ADDRESS=Rio Grande Valley Livestock Show Inc. 1000 N Texas Ave Mercedes TX 78570 United States;X-APPLE-RADIUS=500;X-TITLE=1000 N Texas Ave:geo:-97.9140933,26.1632988
END:VEVENT
BEGIN:VEVENT
DTSTART;TZID=America/Chicago:20230316T080000
DTEND;TZID=America/Chicago:20230316T170000
DTSTAMP:20260424T052404
CREATED:20221020T211520Z
LAST-MODIFIED:20230103T165819Z
UID:10000313-1678953600-1678986000@brahmanevent.com
SUMMARY:GKB Cattle Co. & Barber Ranch Spring Bull Sale
DESCRIPTION:EventsMake plans to bid in the GKB Cattle Co. & Barber Ranch Spring Bull Sale! Click here to learn more!
URL:https://brahmanevent.com/event/gkb-cattle-co-barber-ranch-spring-bull-sale/
CATEGORIES:Sales
ATTACH;FMTTYPE=image/jpeg:https://brahmanevent.com/wp-content/uploads/GKB_v1.jpg
END:VEVENT
BEGIN:VEVENT
DTSTART;TZID=America/Chicago:20230315T080000
DTEND;TZID=America/Chicago:20230315T170000
DTSTAMP:20260424T052404
CREATED:20221020T210716Z
LAST-MODIFIED:20221219T155203Z
UID:10000311-1678867200-1678899600@brahmanevent.com
SUMMARY:RGV Livestock Show - Junior Brahman Show
DESCRIPTION:EventsMake plans to attend the RGV Livestock Show - Junior Brahman Show! \nClick here to view the schedule!
URL:https://brahmanevent.com/event/rgv-livestock-show-junior-brahman-show/
LOCATION:Rio Grande Valley Livestock Show\, Inc.\, 1000 N Texas Ave\, Mercedes\, TX\, 78570\, United States
CATEGORIES:Junior Shows
ATTACH;FMTTYPE=image/jpeg:https://brahmanevent.com/wp-content/uploads/RGV-Logo.jpg
GEO:26.1632988;-97.9140933
X-APPLE-STRUCTURED-LOCATION;VALUE=URI;X-ADDRESS=Rio Grande Valley Livestock Show Inc. 1000 N Texas Ave Mercedes TX 78570 United States;X-APPLE-RADIUS=500;X-TITLE=1000 N Texas Ave:geo:-97.9140933,26.1632988
END:VEVENT
BEGIN:VEVENT
DTSTART;TZID=America/Chicago:20230308T080000
DTEND;TZID=America/Chicago:20230308T170000
DTSTAMP:20260424T052404
CREATED:20221020T204925Z
LAST-MODIFIED:20221020T204926Z
UID:10000308-1678262400-1678294800@brahmanevent.com
SUMMARY:HLS&R Junior Breeding Beef Heifer Show - Gray Brahmans Show
DESCRIPTION:EventsMake plans to attend the HLS&R Junior Breeding Beef Heifer Show - Grey Brahmans Show! \nTo learn more\, click here.
URL:https://brahmanevent.com/event/hlsr-junior-breeding-beef-heifer-show-gray-brahmans-show-2/
CATEGORIES:Junior Shows
ATTACH;FMTTYPE=image/jpeg:https://brahmanevent.com/wp-content/uploads/HLSR-Logo-.jpg
ORGANIZER;CN="Houston Livestock & Rodeo":MAILTO:questions@rodeohouston.com
END:VEVENT
BEGIN:VEVENT
DTSTART;TZID=America/Chicago:20230307T080000
DTEND;TZID=America/Chicago:20230307T170000
DTSTAMP:20260424T052404
CREATED:20221020T204712Z
LAST-MODIFIED:20221020T204712Z
UID:10000309-1678176000-1678208400@brahmanevent.com
SUMMARY:HLS&R Junior Breeding Beef Heifer Show - Red Brahmans Show
DESCRIPTION:EventsMake plans to attend the HLS&R Junior Breeding Beef Heifer Show - Red Brahmans Show! \nTo learn more\, click here.
URL:https://brahmanevent.com/event/hlsr-junior-breeding-beef-heifer-show-red-brahmans-show/
CATEGORIES:Junior Shows
ATTACH;FMTTYPE=image/jpeg:https://brahmanevent.com/wp-content/uploads/HLSR-Logo-.jpg
ORGANIZER;CN="Houston Livestock & Rodeo":MAILTO:questions@rodeohouston.com
END:VEVENT
BEGIN:VEVENT
DTSTART;TZID=America/Chicago:20230305T080000
DTEND;TZID=America/Chicago:20230305T170000
DTSTAMP:20260424T052404
CREATED:20221020T204234Z
LAST-MODIFIED:20230221T145828Z
UID:10000307-1678003200-1678035600@brahmanevent.com
SUMMARY:5th Annual STgenetics Brahman and HK Cattle Spring Production Sale
DESCRIPTION:EventsMake plans to bid in the 5th Annual STgenetics Brahman and HK Cattle Spring Production Sale! \nFor more information check www.bestcattlesales.com
URL:https://brahmanevent.com/event/5th-annual-stgenetics-brahman-and-hk-cattle-spring-production-sale/
LOCATION:Best Cattle Sales\, United States
CATEGORIES:Best Cattle Sales
ATTACH;FMTTYPE=image/jpeg:https://brahmanevent.com/wp-content/uploads/2022_STGenetics_v1.jpg
GEO:37.09024;-95.712891
END:VEVENT
BEGIN:VEVENT
DTSTART;TZID=America/Chicago:20230304T190000
DTEND;TZID=America/Chicago:20230304T220000
DTSTAMP:20260424T052404
CREATED:20230109T161822Z
LAST-MODIFIED:20230114T161842Z
UID:10000232-1677956400-1677967200@brahmanevent.com
SUMMARY:BRC Brahman Night in Wharton County
DESCRIPTION:EventsMake plans to attend the BRC Brahman Night in Wharton County\, at The Ranch Downtown.\nCelebrate a great week at Houston by joining BRC for a concert featuring Zac Walther Band in their social club venue in the historic Wharton Square.\nThis fun event will feature Brahman beef dinner and drinks! All international guests are invited to attend.
URL:https://brahmanevent.com/event/brc-brahman-night-in-wharton-county/
LOCATION:The Ranch\, 111 S. Polk Street\, Wharton\, TX\, 77488\, United States
CATEGORIES:Social Events
ATTACH;FMTTYPE=image/png:https://brahmanevent.com/wp-content/uploads/BRC-BullLogo-2-FINAL.png
END:VEVENT
BEGIN:VEVENT
DTSTART;TZID=America/Chicago:20230304T120000
DTEND;TZID=America/Chicago:20230304T210000
DTSTAMP:20260424T052404
CREATED:20221021T192700Z
LAST-MODIFIED:20230125T165425Z
UID:10000320-1677931200-1677963600@brahmanevent.com
SUMMARY:Rio Ranch Brahman & Equine Social
DESCRIPTION:EventsRSVP || Por Favor RespondaWe invite you to the Grand Opening of RIO RANCH. We have been working hard gathering the best Brahman genetics from prominent breeders in the USA and Mexico\, with the aim of improving our herds. Our Mission is clear\, produce cattle that we at RIO RANCH are excited to showcase to fellow cattlemen.\nThere will be food\, drink\, live mariachi music\, and an exhibition of highly trained Andalusian horses.\nAt 4 pm we will begin with our formal Opening Ceremony\, which will mark the first presentation of the herds at RIO RANCH.\nWe will be at Houston Livestock Show and Rodeo showcasing our cattle. So please make plans to stop by our booth and take time to visit with us before attending the celebration and big event at the ranch.\nIf you need assistance with transportation\, please do not hesitate to contact us or visit our website to sign up. \nLe invitamos a la Gran Inauguración de RIO RANCH. Hemos estado trabajando arduamente reuniendo la mejor genética Brahman de destacados criadores de Estados Unidos y México\, con el objetivo de mejorar nuestro ganado. Nuestra Misión es clara\, producir ganado que en RIO RANCH estemos emocionados de mostrar a nuestros compañeros ganaderos.\nHabrá comida\, bebida\, música mariachi en vivo y una exhibición de caballos andaluces altamente entrenados.\nA las 4 pm comenzaremos con nuestra Ceremonia de Apertura formal\, que marcará la primera presentación de los rebaños de RIO RANCH.\nEstaremos en el Show Internacional de Houston exhibiendo nuestro ganado. Así que por favor haga planes para pasar por nuestro stand y tómese un tiempo con nosotros antes de asistir a la celebración y el gran evento en el rancho.\nSi necesita ayuda con el transporte\, no dude en ponerse en contacto con nosotros o visite nuestro sitio web para inscribirse. \nVISIT RIORANCHTX.COM || VISITAR RIORANCHTX.COM
URL:https://brahmanevent.com/event/rio-ranch-brahman-equine-social/
LOCATION:Rio Ranch\, 39606 FM 1736\, Hempstead\, TX\, 77445\, United States
CATEGORIES:Social Events
ATTACH;FMTTYPE=image/jpeg:https://brahmanevent.com/wp-content/uploads/RioRanch_v6.jpg
END:VEVENT
BEGIN:VEVENT
DTSTART;TZID=America/Chicago:20230304T110000
DTEND;TZID=America/Chicago:20230304T160000
DTSTAMP:20260424T052404
CREATED:20221020T203739Z
LAST-MODIFIED:20230112T214057Z
UID:10000306-1677927600-1677945600@brahmanevent.com
SUMMARY:J.D. Hudgins “Wine Down”
DESCRIPTION:EventsDon't miss out on the J.D. Hudgins “Wine Down” event! \nJoin us from 11:00 AM - 3:00 PM at the JDH Sale Pens in Hungerford for food\, cattle\, and fun!
URL:https://brahmanevent.com/event/j-d-hudgins-wine-down/
LOCATION:J.D. Hudgins Sale Pens\, CR 215\, Hungerford\, TX\, 77448\, United States
CATEGORIES:Social Events
ATTACH;FMTTYPE=image/jpeg:https://brahmanevent.com/wp-content/uploads/Hudgins_v1-2.jpg
ORGANIZER;CN="J.D. Hudgins%2C Inc.":MAILTO:manso@jdhudgins.com
GEO:29.426642;-96.0912844
X-APPLE-STRUCTURED-LOCATION;VALUE=URI;X-ADDRESS=J.D. Hudgins Sale Pens CR 215 Hungerford TX 77448 United States;X-APPLE-RADIUS=500;X-TITLE=CR 215:geo:-96.0912844,29.426642
END:VEVENT
BEGIN:VEVENT
DTSTART;TZID=America/Chicago:20230304T080000
DTEND;TZID=America/Chicago:20230305T170000
DTSTAMP:20260424T052404
CREATED:20230208T205949Z
LAST-MODIFIED:20230223T214457Z
UID:10000365-1677916800-1678035600@brahmanevent.com
SUMMARY:"Road To Success" Replacement Brahman Online Sale
DESCRIPTION:EventsConsignments are welcome! \nAsa Lee: (601) 916-6138\nAnn Rileigh Holder: (601) 335-4744
URL:https://brahmanevent.com/event/road-to-success-replacement-brahman-online-sale/
LOCATION:Lee Cattle Sales\, United States
CATEGORIES:Online Events,Sales
ATTACH;FMTTYPE=image/png:https://brahmanevent.com/wp-content/uploads/FFCtgUtAmIAwC53EvVvxUgn7.png
END:VEVENT
BEGIN:VEVENT
DTSTART;TZID=America/Chicago:20230304T080000
DTEND;TZID=America/Chicago:20230304T170000
DTSTAMP:20260424T052404
CREATED:20221214T213420Z
LAST-MODIFIED:20221219T154824Z
UID:10000357-1677916800-1677949200@brahmanevent.com
SUMMARY:Cattleman's Opportunity Spring Replacement Female Sale
DESCRIPTION:EventsMake plans to attend the Cattleman's Opportunity Spring Replacement Female Sale! Click here to learn more!
URL:https://brahmanevent.com/event/cattlemans-opportunity-spring-replacement-female-sale/
LOCATION:Nixon Livestock Commission\, 1924 U.S. 87\, Nixon\, TX\, 78140\, United States
CATEGORIES:Sales
ATTACH;FMTTYPE=image/png:https://brahmanevent.com/wp-content/uploads/South-TX-Marketing.png
ORGANIZER;CN="South Texas Cattle Marketing":MAILTO:southtexascattle@sbcglobal.net
GEO:29.2621164;-97.7623221
X-APPLE-STRUCTURED-LOCATION;VALUE=URI;X-ADDRESS=Nixon Livestock Commission 1924 U.S. 87 Nixon TX 78140 United States;X-APPLE-RADIUS=500;X-TITLE=1924 U.S. 87:geo:-97.7623221,29.2621164
END:VEVENT
BEGIN:VEVENT
DTSTART;TZID=America/Chicago:20230303T080000
DTEND;TZID=America/Chicago:20230303T170000
DTSTAMP:20260424T052404
CREATED:20221020T202619Z
LAST-MODIFIED:20230103T164042Z
UID:10000305-1677830400-1677862800@brahmanevent.com
SUMMARY:HLS&R International Brahman Bull Show
DESCRIPTION:EventsMake plans to attend the HLS&R International Brahman Bull Show! \nTo learn more\, click here. \nHotel Room Block information:\nSpringhill Suites Houston- NRG Park\n1400 Old Spanish Trail\, Houston\, TX 77054\nPhone: 713-796-1000\nRate: $239 USD per night\nLast Day to Book: Monday January 16\, 2023\nCode: American Brahman Breeders Association (ABBA) \nHoliday Inn Express & Suites\n9300 S. Main St\, Houston\, TX 77054\nPhone: 832-371-9300\nRate: $175 USD per night\nLast Day to Book: Monday February 13\, 2023\nCode: American Brahman Breeders Association (ABBA)
URL:https://brahmanevent.com/event/hlsr-international-brahman-bull-show/
LOCATION:NRG Center\, 1 Reliant Pkwy\, Houston\, TX\, 77054\, United States
CATEGORIES:Open Shows
ATTACH;FMTTYPE=image/jpeg:https://brahmanevent.com/wp-content/uploads/HLSR-Logo-.jpg
ORGANIZER;CN="Houston Livestock & Rodeo":MAILTO:questions@rodeohouston.com
GEO:29.6848334;-95.4081877
X-APPLE-STRUCTURED-LOCATION;VALUE=URI;X-ADDRESS=NRG Center 1 Reliant Pkwy Houston TX 77054 United States;X-APPLE-RADIUS=500;X-TITLE=1 Reliant Pkwy:geo:-95.4081877,29.6848334
END:VEVENT
BEGIN:VEVENT
DTSTART;TZID=America/Chicago:20230302T190000
DTEND;TZID=America/Chicago:20230302T190000
DTSTAMP:20260424T052404
CREATED:20221020T201023Z
LAST-MODIFIED:20230125T170648Z
UID:10000304-1677783600-1677783600@brahmanevent.com
SUMMARY:ABBA International Brahman Sale
DESCRIPTION:EventsABBA International Sale \n\nSale Viewing at 5:00 PM\nMeet & Greet at 5:30 PM\nSale at 7:00 PM\n\nClick the photo or HERE to view the sale catalog\nBidding will take place in person and online at CattleInMotion.com\nFor questions or phone bidding contact Chris Shivers with Infinity Cattle Services at 713-202-1727 \nHotel Room Block Information:\nSpringhill Suites Houston- NRG Park\n1400 Old Spanish Trail\, Houston\, TX 77054\nPhone: 713-796-1000\nRate: $239 USD per night\nLast Day to Book: Monday January 16\, 2023\nCode: American Brahman Breeders Association (ABBA) \nHoliday Inn Express & Suites\n9300 S. Main St\, Houston\, TX 77054\nPhone: 832-371-9300\nRate: $175 USD per night\nLast Day to Book: Monday February 13\, 2023\nCode: American Brahman Breeders Association (ABBA)
URL:https://brahmanevent.com/event/abba-international-sale-2/
LOCATION:NRG Center\, 1 Reliant Pkwy\, Houston\, TX\, 77054\, United States
CATEGORIES:International,Sales
ATTACH;FMTTYPE=image/jpeg:https://brahmanevent.com/wp-content/uploads/ABBA-INT-SALE_Cover-1.jpg
ORGANIZER;CN="ABBA":MAILTO:abba@brahman.org
GEO:29.6848334;-95.4081877
X-APPLE-STRUCTURED-LOCATION;VALUE=URI;X-ADDRESS=NRG Center 1 Reliant Pkwy Houston TX 77054 United States;X-APPLE-RADIUS=500;X-TITLE=1 Reliant Pkwy:geo:-95.4081877,29.6848334
END:VEVENT
END:VCALENDAR