BEGIN:VCALENDAR
VERSION:2.0
PRODID:-//Brahman Event - ECPv6.15.15//NONSGML v1.0//EN
CALSCALE:GREGORIAN
METHOD:PUBLISH
X-ORIGINAL-URL:https://brahmanevent.com
X-WR-CALDESC:Events for Brahman Event
REFRESH-INTERVAL;VALUE=DURATION:PT1H
X-Robots-Tag:noindex
X-PUBLISHED-TTL:PT1H
BEGIN:VTIMEZONE
TZID:America/Chicago
BEGIN:DAYLIGHT
TZOFFSETFROM:-0600
TZOFFSETTO:-0500
TZNAME:CDT
DTSTART:20220313T080000
END:DAYLIGHT
BEGIN:STANDARD
TZOFFSETFROM:-0500
TZOFFSETTO:-0600
TZNAME:CST
DTSTART:20221106T070000
END:STANDARD
BEGIN:DAYLIGHT
TZOFFSETFROM:-0600
TZOFFSETTO:-0500
TZNAME:CDT
DTSTART:20230312T080000
END:DAYLIGHT
BEGIN:STANDARD
TZOFFSETFROM:-0500
TZOFFSETTO:-0600
TZNAME:CST
DTSTART:20231105T070000
END:STANDARD
BEGIN:DAYLIGHT
TZOFFSETFROM:-0600
TZOFFSETTO:-0500
TZNAME:CDT
DTSTART:20240310T080000
END:DAYLIGHT
BEGIN:STANDARD
TZOFFSETFROM:-0500
TZOFFSETTO:-0600
TZNAME:CST
DTSTART:20241103T070000
END:STANDARD
END:VTIMEZONE
BEGIN:VEVENT
DTSTART;TZID=America/Chicago:20230518T080000
DTEND;TZID=America/Chicago:20230520T170000
DTSTAMP:20260424T022718
CREATED:20230209T214122Z
LAST-MODIFIED:20230421T224317Z
UID:10000366-1684396800-1684602000@brahmanevent.com
SUMMARY:VIII Expo Brahman
DESCRIPTION:EventsThursday\, May 18 - Jueves 18 de MayoFriday\, May 19 - Viernes 19 de MayoSaturday\, May 20 -Sabado 20 de MayoThursday\, May 18 - Jueves 18 de Mayo\n \nFriday\, May 19 - Viernes 19 de Mayo\n \nSaturday\, May 20 -Sabado 20 de Mayo
URL:https://brahmanevent.com/event/viii-expo-brahman/2023-05-18/
LOCATION:Petén\, Guatemala\, Guatemala
CATEGORIES:International
ATTACH;FMTTYPE=image/jpeg:https://brahmanevent.com/wp-content/uploads/WhatsApp-Image-2023-02-09-at-3.31.57-PM.jpeg
GEO:37.09024;-95.712891
END:VEVENT
BEGIN:VEVENT
DTSTART;TZID=America/Chicago:20230512T080000
DTEND;TZID=America/Chicago:20230512T170000
DTSTAMP:20260424T022718
CREATED:20230314T155643Z
LAST-MODIFIED:20230314T155718Z
UID:10000377-1683878400-1683910800@brahmanevent.com
SUMMARY:University of Florida Brahman Bull & Heifer Sale
DESCRIPTION:EventsMake plans to bid in the University of Florida Brahman Bull & Heifer Sale!
URL:https://brahmanevent.com/event/university-of-florida-brahman-bull-heifer-sale/
LOCATION:University of Florida\, Gainesville\, FL\, 32611\, United States
CATEGORIES:Sales
ATTACH;FMTTYPE=image/jpeg:https://brahmanevent.com/wp-content/uploads/UF_v1-scaled.jpg
GEO:29.6130239;-82.371937
END:VEVENT
BEGIN:VEVENT
DTSTART;TZID=America/Chicago:20230510T080000
DTEND;TZID=America/Chicago:20230512T170000
DTSTAMP:20260424T022718
CREATED:20221102T153025Z
LAST-MODIFIED:20221102T153025Z
UID:10000195-1683705600-1683910800@brahmanevent.com
SUMMARY:University of Florida Beef Cattle Short Course
DESCRIPTION:EventsMake plans to attend the University of Florida Beef Cattle Short Course!
URL:https://brahmanevent.com/event/university-of-florida-beef-cattle-short-course-2/
LOCATION:University of Florida\, Gainesville\, FL\, 32611\, United States
CATEGORIES:Conventions
ATTACH;FMTTYPE=image/png:https://brahmanevent.com/wp-content/uploads/800px-University_of_Florida_Vertical_Signature.svg.png
GEO:29.6130239;-82.371937
END:VEVENT
BEGIN:VEVENT
DTSTART;TZID=America/Chicago:20230510T080000
DTEND;TZID=America/Chicago:20230511T190000
DTSTAMP:20260424T022718
CREATED:20221104T163440Z
LAST-MODIFIED:20230508T164022Z
UID:10000327-1683705600-1683831600@brahmanevent.com
SUMMARY:Bulls Eye Ranch Good As Gold Genetics Online Sale
DESCRIPTION:EventsFor more information visit CattleInMotion.com
URL:https://brahmanevent.com/event/set-your-sights-on-bulls-eye-genetics-sale/
LOCATION:Cattle In Motion
CATEGORIES:Online Events,Sales
ATTACH;FMTTYPE=image/jpeg:https://brahmanevent.com/wp-content/uploads/BullsEyeRanch.jpg
ORGANIZER;CN="Bulls Eye Ranch":MAILTO:csmith8465@icloud.com
END:VEVENT
BEGIN:VEVENT
DTSTART;TZID=America/Chicago:20230505T080000
DTEND;TZID=America/Chicago:20230505T170000
DTSTAMP:20260424T022718
CREATED:20221102T151954Z
LAST-MODIFIED:20221102T151955Z
UID:10000193-1683273600-1683306000@brahmanevent.com
SUMMARY:Heritage Cattle Company First Friday Genetic Drop
DESCRIPTION:EventsDon't miss the Heritage Cattle Company First Friday Genetic Drop!
URL:https://brahmanevent.com/event/heritage-cattle-company-first-friday-genetic-drop-2/2023-05-05/
CATEGORIES:Sales
ATTACH;FMTTYPE=image/jpeg:https://brahmanevent.com/wp-content/uploads/HeritageCattle_Badge_Logo-01.jpg
ORGANIZER;CN="Heritage Cattle Company":MAILTO:heritagecattle1@yahoo.com
END:VEVENT
BEGIN:VEVENT
DTSTART;TZID=America/Chicago:20230430T080000
DTEND;TZID=America/Chicago:20230430T170000
DTSTAMP:20260424T022718
CREATED:20230309T214227Z
LAST-MODIFIED:20230414T205527Z
UID:10000375-1682841600-1682874000@brahmanevent.com
SUMMARY:Females with "The Look" Online Sale - Watkins Cattle Co.
DESCRIPTION:EventsMake plans to bid in the Females with "The Look" Online Sale - Watkins Cattle Co.!
URL:https://brahmanevent.com/event/females-with-the-look-online-sale-watkins-cattle-co/
LOCATION:Best Cattle Sales\, United States
CATEGORIES:Best Cattle Sales
ATTACH;FMTTYPE=image/jpeg:https://brahmanevent.com/wp-content/uploads/2020-BestCattleSales-FB-Topper.jpg
GEO:37.09024;-95.712891
END:VEVENT
BEGIN:VEVENT
DTSTART;TZID=America/Chicago:20230429T130000
DTEND;TZID=America/Chicago:20230429T170000
DTSTAMP:20260424T022718
CREATED:20221021T202451Z
LAST-MODIFIED:20230221T150033Z
UID:10000189-1682773200-1682787600@brahmanevent.com
SUMMARY:Deep South Brahman Association; Brahman & F-1 Sale
DESCRIPTION:EventsMake plans to bid in the Deep South Brahman Association; Brahman & F-1 Sale!
URL:https://brahmanevent.com/event/deep-south-brahman-association-brahman-f-1-sale/
LOCATION:Meridian Stock Yards Inc\, 10365 Old Hwy 80 W\, Meridian\, MS\, 39307\, United States
CATEGORIES:Sales
ATTACH;FMTTYPE=image/jpeg:https://brahmanevent.com/wp-content/uploads/DeepSouth_v1.jpg
ORGANIZER;CN="Infinity Cattle Service":MAILTO:infinitycattleservices@gmail.com
GEO:32.344183;-88.789993
X-APPLE-STRUCTURED-LOCATION;VALUE=URI;X-ADDRESS=Meridian Stock Yards Inc 10365 Old Hwy 80 W Meridian MS 39307 United States;X-APPLE-RADIUS=500;X-TITLE=10365 Old Hwy 80 W:geo:-88.789993,32.344183
END:VEVENT
BEGIN:VEVENT
DTSTART;TZID=America/Chicago:20230429T100000
DTEND;TZID=America/Chicago:20230429T140000
DTSTAMP:20260424T022718
CREATED:20230221T143101Z
LAST-MODIFIED:20230221T143102Z
UID:10000368-1682762400-1682776800@brahmanevent.com
SUMMARY:South Texas Brahman Association Spring Meeting
DESCRIPTION:EventsRSVP by April 15\, 2023 with Beth @ (210) 365-6305 \nGuest Speakers\nDr. Richard Machen\nKing Ranch Institute for Ranch Management \nDr. Tanner Machado\nMeat Science & Meat Processing
URL:https://brahmanevent.com/event/south-texas-brahman-association-spring-meeting/
LOCATION:Texas A&M-Kingsville\, 955 University Blvd\, Kingsville\, TX\, United States
CATEGORIES:Meetings,Social Events
ATTACH;FMTTYPE=image/jpeg:https://brahmanevent.com/wp-content/uploads/2022_IMG_5398.jpg
END:VEVENT
BEGIN:VEVENT
DTSTART;TZID=America/Chicago:20230427T080000
DTEND;TZID=America/Chicago:20230429T170000
DTSTAMP:20260424T022718
CREATED:20230314T122650Z
LAST-MODIFIED:20230314T133123Z
UID:10000376-1682582400-1682787600@brahmanevent.com
SUMMARY:FCRAP 2023 National Cattle Congress
DESCRIPTION:EventsMake plans to attend the 2023 Beef Congress of the Federation of Cattle Raisers Association of the Philippines!
URL:https://brahmanevent.com/event/fcrap-2023-national-cattle-congress/
LOCATION:Isabella State University\, Philippines
CATEGORIES:Conventions,International
ATTACH;FMTTYPE=image/png:https://brahmanevent.com/wp-content/uploads/2021/12/Brahman-Event-logo.png
END:VEVENT
BEGIN:VEVENT
DTSTART;TZID=America/Chicago:20230423T080000
DTEND;TZID=America/Chicago:20230424T190000
DTSTAMP:20260424T022718
CREATED:20221021T162712Z
LAST-MODIFIED:20230317T220937Z
UID:10000319-1682236800-1682362800@brahmanevent.com
SUMMARY:Hill Country Queens Spring Sale - Presented by RedSmith Genetics
DESCRIPTION:EventsHill Country Queens Spring Sale - Presented by RedSmith Genetics
URL:https://brahmanevent.com/event/hill-country-queens-spring-sale-presented-by-redsmith-genetics/
LOCATION:Best Cattle Sales\, United States
CATEGORIES:Best Cattle Sales,Sales
ATTACH;FMTTYPE=image/jpeg:https://brahmanevent.com/wp-content/uploads/red-smith-half-page-4-23.jpg
GEO:37.09024;-95.712891
END:VEVENT
BEGIN:VEVENT
DTSTART;TZID=America/Chicago:20230422T080000
DTEND;TZID=America/Chicago:20230422T170000
DTSTAMP:20260424T022718
CREATED:20221104T161117Z
LAST-MODIFIED:20230112T222005Z
UID:10000326-1682150400-1682182800@brahmanevent.com
SUMMARY:Florida Brahman Field Day and Heifer Sale
DESCRIPTION:EventsJoin us at The University of Florida in Gainesville\, FL for the Florida Brahman Field Day and Heifer Sale \nVisit the Florida Brahman Assoc. website to see the replacement heifers and show prospects from some of Florida's top herds. The females are gentle; halter and kid broke! \nFor more information click HERE.
URL:https://brahmanevent.com/event/florida-brahman-field-day-and-heifer-sale/
LOCATION:University of Florida\, Gainesville\, FL\, 32611\, United States
CATEGORIES:Meetings,Sales
ATTACH;FMTTYPE=image/jpeg:https://brahmanevent.com/wp-content/uploads/FBA-Half-Apri-v2.jpg
ORGANIZER;CN="Florida Brahman Association":MAILTO:info@floridabrahman.org
GEO:29.6130239;-82.371937
END:VEVENT
BEGIN:VEVENT
DTSTART;TZID=America/Chicago:20230416T080000
DTEND;TZID=America/Chicago:20230417T170000
DTSTAMP:20260424T022718
CREATED:20221021T202111Z
LAST-MODIFIED:20221021T202112Z
UID:10000188-1681632000-1681750800@brahmanevent.com
SUMMARY:AT Brahmans Fall Born Prospect Sale
DESCRIPTION:EventsMake plans to bid in the AT Brahmans Fall Born Prospect Sale!
URL:https://brahmanevent.com/event/at-brahmans-fall-born-prospect-sale/
LOCATION:Best Cattle Sales\, United States
CATEGORIES:Best Cattle Sales
ATTACH;FMTTYPE=image/jpeg:https://brahmanevent.com/wp-content/uploads/2020-BestCattleSales-FB-Topper.jpg
GEO:37.09024;-95.712891
END:VEVENT
BEGIN:VEVENT
DTSTART;TZID=America/Chicago:20230416T080000
DTEND;TZID=America/Chicago:20230416T170000
DTSTAMP:20260424T022718
CREATED:20221021T201758Z
LAST-MODIFIED:20230310T165756Z
UID:10000187-1681632000-1681664400@brahmanevent.com
SUMMARY:16th Annual Miami International Junior Brahman Show
DESCRIPTION:EventsMake plans to attend the 16th Annual Miami International Junior Brahman Show!
URL:https://brahmanevent.com/event/16th-annual-miami-international-junior-brahman-show/
LOCATION:Ronald Reagan Equestrian Center\, Tropical Park 7900 SW 40 Street\, Miami\, FL\, United States
CATEGORIES:Junior Shows
ATTACH;FMTTYPE=image/jpeg:https://brahmanevent.com/wp-content/uploads/2023-Miami-Ad-NEW-SCHEDULE-scaled.jpg
GEO:25.7259619;-80.3235077
X-APPLE-STRUCTURED-LOCATION;VALUE=URI;X-ADDRESS=Ronald Reagan Equestrian Center Tropical Park 7900 SW 40 Street Miami FL United States;X-APPLE-RADIUS=500;X-TITLE=Tropical Park 7900 SW 40 Street:geo:-80.3235077,25.7259619
END:VEVENT
BEGIN:VEVENT
DTSTART;TZID=America/Chicago:20230415T080000
DTEND;TZID=America/Chicago:20230415T170000
DTSTAMP:20260424T022718
CREATED:20221102T151608Z
LAST-MODIFIED:20230310T165730Z
UID:10000191-1681545600-1681578000@brahmanevent.com
SUMMARY:16th Annual Miami International Open Brahman Show
DESCRIPTION:EventsMake plans to attend the 16th Annual Miami International Open Brahman Show!
URL:https://brahmanevent.com/event/16th-annual-miami-international-open-brahman-show/
LOCATION:Ronald Reagan Equestrian Center\, Tropical Park 7900 SW 40 Street\, Miami\, FL\, United States
CATEGORIES:Open Shows
ATTACH;FMTTYPE=image/jpeg:https://brahmanevent.com/wp-content/uploads/2023-Miami-Ad-NEW-SCHEDULE-scaled.jpg
GEO:25.7259619;-80.3235077
X-APPLE-STRUCTURED-LOCATION;VALUE=URI;X-ADDRESS=Ronald Reagan Equestrian Center Tropical Park 7900 SW 40 Street Miami FL United States;X-APPLE-RADIUS=500;X-TITLE=Tropical Park 7900 SW 40 Street:geo:-80.3235077,25.7259619
END:VEVENT
BEGIN:VEVENT
DTSTART;TZID=America/Chicago:20230414T080000
DTEND;TZID=America/Chicago:20230415T190000
DTSTAMP:20260424T022718
CREATED:20220901T165430Z
LAST-MODIFIED:20230221T150200Z
UID:10000270-1681459200-1681585200@brahmanevent.com
SUMMARY:4T & BOX R 8TH FAMILY TRADITIONS ONLINE SALE
DESCRIPTION:EventsMake plans to bid in the 4T & BOX R 8TH FAMILY TRADITIONS ONLINE SALE!
URL:https://brahmanevent.com/event/4t-box-r-8th-family-traditions-online-sale/
LOCATION:Best Cattle Sales\, United States
CATEGORIES:Best Cattle Sales,Sales
ATTACH;FMTTYPE=image/jpeg:https://brahmanevent.com/wp-content/uploads/2022_4TBoxR_v1.jpg
GEO:37.09024;-95.712891
END:VEVENT
BEGIN:VEVENT
DTSTART;TZID=America/Chicago:20230414T080000
DTEND;TZID=America/Chicago:20230414T170000
DTSTAMP:20260424T022718
CREATED:20221021T201143Z
LAST-MODIFIED:20230310T165612Z
UID:10000186-1681459200-1681491600@brahmanevent.com
SUMMARY:Magic City Sale
DESCRIPTION:EventsMake plans to bid in the Magic City Sale!
URL:https://brahmanevent.com/event/magic-city-sale/
LOCATION:Tropical Park\, Ronald Raegan Equestrian Center\, 7900 SW 40 Street\, Miami\, FL\, 33155\, United States
CATEGORIES:Sales
ATTACH;FMTTYPE=image/jpeg:https://brahmanevent.com/wp-content/uploads/2023-Miami-Ad-NEW-SCHEDULE-scaled.jpg
GEO:25.7300061;-80.3237043
X-APPLE-STRUCTURED-LOCATION;VALUE=URI;X-ADDRESS=Tropical Park Ronald Raegan Equestrian Center 7900 SW 40 Street Miami FL 33155 United States;X-APPLE-RADIUS=500;X-TITLE=7900 SW 40 Street:geo:-80.3237043,25.7300061
END:VEVENT
BEGIN:VEVENT
DTSTART;TZID=America/Chicago:20230413T080000
DTEND;TZID=America/Chicago:20230414T170000
DTSTAMP:20260424T022718
CREATED:20230223T213716Z
LAST-MODIFIED:20230310T231325Z
UID:10000371-1681372800-1681491600@brahmanevent.com
SUMMARY:LIX EXPOSICIÓN NACIONAL DE CEBÚ EN TAMPICO
DESCRIPTION:EventsMake plans to attend the LIX Exposición Nacional Cebú Tampico! Click here to view the full schedule.
URL:https://brahmanevent.com/event/lix-exposicion-nacional-cebu-tampico/
CATEGORIES:International,Open Shows
ATTACH;FMTTYPE=image/jpeg:https://brahmanevent.com/wp-content/uploads/AMCC-Mar23_v1-1.jpg
ORGANIZER;CN="ASOCEB%C3%9A":MAILTO:asocebu@asocebu.com 
END:VEVENT
BEGIN:VEVENT
DTSTART;TZID=America/Chicago:20230412T080000
DTEND;TZID=America/Chicago:20230413T170000
DTSTAMP:20260424T022718
CREATED:20221021T200245Z
LAST-MODIFIED:20221021T200245Z
UID:10000185-1681286400-1681405200@brahmanevent.com
SUMMARY:Expect the Best Spring Heifer Sale - Bulls Eye Ranch
DESCRIPTION:EventsMake plans to bid in the Expect the Best Spring Heifer Sale - Bulls Eye Ranch!
URL:https://brahmanevent.com/event/expect-the-best-spring-heifer-sale-bulls-eye-ranch/
CATEGORIES:Sales
ATTACH;FMTTYPE=image/png:https://brahmanevent.com/wp-content/uploads/2021/12/Brahman-Event-logo.png
ORGANIZER;CN="Bulls Eye Ranch":MAILTO:csmith8465@icloud.com
END:VEVENT
BEGIN:VEVENT
DTSTART;TZID=America/Chicago:20230412T080000
DTEND;TZID=America/Chicago:20230412T170000
DTSTAMP:20260424T022718
CREATED:20230308T200148Z
LAST-MODIFIED:20230308T200149Z
UID:10000374-1681286400-1681318800@brahmanevent.com
SUMMARY:Ganaderia Las Huastecas Field Day
DESCRIPTION:EventsMake plans to attend the Ganaderia Las Huastecas Field Day!
URL:https://brahmanevent.com/event/ganaderia-las-huastecas-field-day/
LOCATION:Ganaderia Las Huastecas\, Tamaulipas\, Mexico
CATEGORIES:International,Social Events
ATTACH;FMTTYPE=image/jpeg:https://brahmanevent.com/wp-content/uploads/Huastecas-Field-Day.jpeg
END:VEVENT
BEGIN:VEVENT
DTSTART;TZID=America/Chicago:20230410T080000
DTEND;TZID=America/Chicago:20230411T170000
DTSTAMP:20260424T022718
CREATED:20230117T210925Z
LAST-MODIFIED:20230117T210926Z
UID:10000362-1681113600-1681232400@brahmanevent.com
SUMMARY:Satterfield Ranch - Southern Royalty V Online Sale
DESCRIPTION:EventsMake plans to bid in the Satterfield Ranch - Southern Royalty V Online Sale!
URL:https://brahmanevent.com/event/satterfield-ranch-southern-royalty-v-online-sale/
LOCATION:Cattle In Motion
CATEGORIES:Online Events,Sales
ATTACH;FMTTYPE=image/jpeg:https://brahmanevent.com/wp-content/uploads/Satterfield_v2-2.jpg
END:VEVENT
BEGIN:VEVENT
DTSTART;TZID=America/Chicago:20230408T080000
DTEND;TZID=America/Chicago:20230408T170000
DTSTAMP:20260424T022718
CREATED:20221005T205754Z
LAST-MODIFIED:20230112T221640Z
UID:10000282-1680940800-1680973200@brahmanevent.com
SUMMARY:6th Annual Southern Classic Registered Brahman and F1 Sale
DESCRIPTION:EventsBidding will be online at Best Cattle Sales or in person at South East Mississippi Livestock \nCattle will be available to preview on April 7\, 2023 \n6th Annual Southern Classic Registered Brahman and F1 Sale will have something for everyone with lots including show prospects\, donor females\, bred cows\, cow/calf pairs\, herd sire prospects\, golden certified F-1 pairs\, bred\, and open females\, Certified F-1 pairs\, F-1 plus pairs\, super baldy bred & F-1 heifers and a few select Angus and Hereford bulls. \nF-1's will sell at 11 AM and Brahmans will sell at 1 PM. \nHost Hotel\nDoubletree by Hilton\n601-296-0302\nAsk for the Southern Classic Rate
URL:https://brahmanevent.com/event/6th-annual-southern-classic-registered-brahman-and-f1-sale/
LOCATION:Hattiesburg\, MS\, Hattiesburg\, MS\, United States
CATEGORIES:Best Cattle Sales,Online Events,Sales
ATTACH;FMTTYPE=image/jpeg:https://brahmanevent.com/wp-content/uploads/SouthernClassic_v1-1.jpg
GEO:31.3271189;-89.2903392
END:VEVENT
BEGIN:VEVENT
DTSTART;TZID=America/Chicago:20230407T080000
DTEND;TZID=America/Chicago:20230407T170000
DTSTAMP:20260424T022718
CREATED:20221021T195404Z
LAST-MODIFIED:20221021T195405Z
UID:10000184-1680854400-1680886800@brahmanevent.com
SUMMARY:Heritage Cattle Company First Friday Genetic Drop
DESCRIPTION:EventsDon't miss the Heritage Cattle Company First Friday Genetic Drop!
URL:https://brahmanevent.com/event/heritage-cattle-company-first-friday-genetic-drop/2023-04-07/
CATEGORIES:Sales
ATTACH;FMTTYPE=image/jpeg:https://brahmanevent.com/wp-content/uploads/HeritageCattle_Badge_Logo-01.jpg
ORGANIZER;CN="Heritage Cattle Company":MAILTO:heritagecattle1@yahoo.com
END:VEVENT
BEGIN:VEVENT
DTSTART;TZID=America/Chicago:20230405T080000
DTEND;TZID=America/Chicago:20230406T170000
DTSTAMP:20260424T022718
CREATED:20230314T155954Z
LAST-MODIFIED:20230314T155954Z
UID:10000378-1680681600-1680800400@brahmanevent.com
SUMMARY:Diamond & Aces Online Sale
DESCRIPTION:EventsMake plans to bid in the Diamond & Aces Online Sale!
URL:https://brahmanevent.com/event/diamond-aces-online-sale/
LOCATION:Premier Livestock Auctions
CATEGORIES:Online Events,Sales
ATTACH;FMTTYPE=image/jpeg:https://brahmanevent.com/wp-content/uploads/IMG_7100.jpg
END:VEVENT
BEGIN:VEVENT
DTSTART;TZID=America/Chicago:20230405T080000
DTEND;TZID=America/Chicago:20230406T170000
DTSTAMP:20260424T022718
CREATED:20230103T192158Z
LAST-MODIFIED:20230328T202506Z
UID:10000228-1680681600-1680800400@brahmanevent.com
SUMMARY:KI Cattle Company Spring Online Sale
DESCRIPTION:EventsSelling progeny by JDH MASSAI MANSO 608/6\, +MR. V8 380/6\, MR. V8 146/8 "SLOAN"\, +MR WCC MAXIMUS ROJO 82/4\, and more! \nVisit CattleInMotion.com for more information
URL:https://brahmanevent.com/event/ki-cattle-company-spring-online-sale-2/
LOCATION:Cattle In Motion
CATEGORIES:Online Events,Sales
ATTACH;FMTTYPE=image/jpeg:https://brahmanevent.com/wp-content/uploads/KiSpringSale_v2.jpg
END:VEVENT
BEGIN:VEVENT
DTSTART;TZID=America/Chicago:20230403T080000
DTEND;TZID=America/Chicago:20230404T170000
DTSTAMP:20260424T022718
CREATED:20221021T194713Z
LAST-MODIFIED:20230130T160839Z
UID:10000323-1680508800-1680627600@brahmanevent.com
SUMMARY:Two Fast Nickels Bull & Heifer Sale\, Fullblood Fleckviehs\, Purebred Simmentals & Simbrahs
DESCRIPTION:EventsMake plans to bid in the Two Fast Nickels Bull & Heifer Sale\, Fullblood Fleckviehs\, Purebred Simmentals & Simbrahs online at BestCattleSales.com \nConsignors:\nK5 Raftor Top Simmentals\nStark Cattle Company\nT5 Livestock Company\nSimmentals of Texas
URL:https://brahmanevent.com/event/two-fast-nickels-bull-heifer-sale-fullblood-fleckviehs-purebred-simmentals-simbrahs-2/
LOCATION:Best Cattle Sales\, United States
CATEGORIES:Best Cattle Sales
ATTACH;FMTTYPE=image/jpeg:https://brahmanevent.com/wp-content/uploads/2FastNickels-2023.jpg
GEO:37.09024;-95.712891
END:VEVENT
BEGIN:VEVENT
DTSTART;TZID=America/Chicago:20230401T080000
DTEND;TZID=America/Chicago:20230402T170000
DTSTAMP:20260424T022718
CREATED:20221021T194515Z
LAST-MODIFIED:20230328T201444Z
UID:10000322-1680336000-1680454800@brahmanevent.com
SUMMARY:FJBA Spring Fling at Turner Center
DESCRIPTION:EventsMake plans to attend the FJBA Spring Fling at Turner Center! \nFriday Check in (Optional) 4-8pm\nSaturday Check In 6-8am (Optional)\nShowmanship 9am\nF-1/Red/Grey Females (After Showmanship)\nDinner/Dance 5pm\nSunday\nChurch 9am\nRed/Grey Bulls 10am
URL:https://brahmanevent.com/event/fjba-spring-fling-at-turner-center/
CATEGORIES:Junior Shows
ATTACH;FMTTYPE=image/png:https://brahmanevent.com/wp-content/uploads/2021/12/Brahman-Event-logo.png
END:VEVENT
BEGIN:VEVENT
DTSTART;TZID=America/Chicago:20230401T080000
DTEND;TZID=America/Chicago:20230401T170000
DTSTAMP:20260424T022718
CREATED:20221206T140016Z
LAST-MODIFIED:20221219T145017Z
UID:10000353-1680336000-1680368400@brahmanevent.com
SUMMARY:Heart of TX Special Replacement Female Sale
DESCRIPTION:EventsMake plans to bid in the Heart of TX Special Replacement Female Sale!
URL:https://brahmanevent.com/event/heart-of-tx-special-replacement-female-sale/
LOCATION:Groesbeck\, TX
CATEGORIES:Sales
ATTACH;FMTTYPE=image/png:https://brahmanevent.com/wp-content/uploads/2021/12/Brahman-Event-logo.png
ORGANIZER;CN="Tom Johnson":MAILTO:mailto:johnsoncattlemarketing@gmail.com
END:VEVENT
BEGIN:VEVENT
DTSTART;TZID=America/Chicago:20230401T080000
DTEND;TZID=America/Chicago:20230401T170000
DTSTAMP:20260424T022718
CREATED:20221104T153926Z
LAST-MODIFIED:20221104T153927Z
UID:10000325-1680336000-1680368400@brahmanevent.com
SUMMARY:TBF Summer Leadership Camp Applications Open
DESCRIPTION:EventsFor more information click HERE
URL:https://brahmanevent.com/event/tbf-summer-leadership-camp-applications-open/
CATEGORIES:Other
ATTACH;FMTTYPE=image/png:https://brahmanevent.com/wp-content/uploads/BrahmanFoundation-LogoWeb-1.png
END:VEVENT
BEGIN:VEVENT
DTSTART;TZID=America/Chicago:20230401T080000
DTEND;TZID=America/Chicago:20230401T170000
DTSTAMP:20260424T022718
CREATED:20221021T193941Z
LAST-MODIFIED:20230113T191721Z
UID:10000321-1680336000-1680368400@brahmanevent.com
SUMMARY:ABBA National F1 Female Sale
DESCRIPTION:EventsDon't miss the ABBA National F1 Female Sale! \nSCHEDULE OF EVENTS\n37th Annual ABBA National F1 and Brahman Female and Bull Sale\nWHEN: Saturday\, April 1\, 2023 at 1:00 p.m.\nWHERE: Bryan\, Texas \nThursday\, March 30\, 2023 \nCattle must arrive at sale facility by 3:00 p.m. \nFriday\, March 31\, 2023\n9:00 a.m.- Judging of F1 cattle begins\nAfter judging is complete\, cattle will be available for viewing.\n6:00 p.m.- Appreciation Dinner Served \nSaturday\, April 1\, 2023\n7:00 a.m.- Cattle Available for Viewing\n11:30 a.m.- Buyer’s Lunch Served\n12:30 p.m.- Sale Dedication\n1:00 p.m.- ABBA National F-1 Female Sale Begins \nHotel Accommodations\nBest Western Premier\n1920 Austin’s Colony Pkwy\nBryan\, TX 77802\nPhone: 979-731-5300\nRoom Block Code: ABBA23
URL:https://brahmanevent.com/event/abba-national-f1-female-sale-2/
CATEGORIES:Sales
ATTACH;FMTTYPE=image/jpeg:https://brahmanevent.com/wp-content/uploads/ABBA-F1-Sale_mag-proof.jpg
ORGANIZER;CN="ABBA":MAILTO:abba@brahman.org
END:VEVENT
BEGIN:VEVENT
DTSTART;TZID=America/Chicago:20230331T080000
DTEND;TZID=America/Chicago:20230402T170000
DTSTAMP:20260424T022718
CREATED:20221020T205655Z
LAST-MODIFIED:20230227T181409Z
UID:10000310-1680249600-1680454800@brahmanevent.com
SUMMARY:SUBASTA DE PRIMAVERA – PRESENTED BY DESARROLLO GANADERO LAS PIEDRAS Y GENÉTICA TROPICAL
DESCRIPTION:EventsMake plans to bid in the SUBASTA DE PRIMAVERA – PRESENTED BY DESARROLLO GANADERO LAS PIEDRAS Y GENÉTICA TROPICAL! \nFor more information visit www.bestcattlesales.com
URL:https://brahmanevent.com/event/subasta-de-primavera/
LOCATION:Best Cattle Sales\, United States
CATEGORIES:Best Cattle Sales
ATTACH;FMTTYPE=image/jpeg:https://brahmanevent.com/wp-content/uploads/2020-BestCattleSales-FB-Topper.jpg
GEO:37.09024;-95.712891
END:VEVENT
END:VCALENDAR