BEGIN:VCALENDAR
VERSION:2.0
PRODID:-//Brahman Event - ECPv6.15.15//NONSGML v1.0//EN
CALSCALE:GREGORIAN
METHOD:PUBLISH
X-ORIGINAL-URL:https://brahmanevent.com
X-WR-CALDESC:Events for Brahman Event
REFRESH-INTERVAL;VALUE=DURATION:PT1H
X-Robots-Tag:noindex
X-PUBLISHED-TTL:PT1H
BEGIN:VTIMEZONE
TZID:America/Chicago
BEGIN:DAYLIGHT
TZOFFSETFROM:-0600
TZOFFSETTO:-0500
TZNAME:CDT
DTSTART:20220313T080000
END:DAYLIGHT
BEGIN:STANDARD
TZOFFSETFROM:-0500
TZOFFSETTO:-0600
TZNAME:CST
DTSTART:20221106T070000
END:STANDARD
BEGIN:DAYLIGHT
TZOFFSETFROM:-0600
TZOFFSETTO:-0500
TZNAME:CDT
DTSTART:20230312T080000
END:DAYLIGHT
BEGIN:STANDARD
TZOFFSETFROM:-0500
TZOFFSETTO:-0600
TZNAME:CST
DTSTART:20231105T070000
END:STANDARD
BEGIN:DAYLIGHT
TZOFFSETFROM:-0600
TZOFFSETTO:-0500
TZNAME:CDT
DTSTART:20240310T080000
END:DAYLIGHT
BEGIN:STANDARD
TZOFFSETFROM:-0500
TZOFFSETTO:-0600
TZNAME:CST
DTSTART:20241103T070000
END:STANDARD
END:VTIMEZONE
BEGIN:VEVENT
DTSTART;TZID=America/Chicago:20230927T080000
DTEND;TZID=America/Chicago:20230928T170000
DTSTAMP:20260423T170027
CREATED:20230814T153843Z
LAST-MODIFIED:20230814T153844Z
UID:10000447-1695801600-1695920400@brahmanevent.com
SUMMARY:England Cattle Co. "Rio Queens Elite Heifer Sale" Vol. III
DESCRIPTION:EventsMake plans to bid in the England Cattle Co. "Rio Queens Elite Heifer Sale" Vol. III!
URL:https://brahmanevent.com/event/england-cattle-co-rio-queens-elite-heifer-sale-vol-iii/
LOCATION:Premier Livestock Auctions
CATEGORIES:Sales
ATTACH;FMTTYPE=image/png:https://brahmanevent.com/wp-content/uploads/2021/12/Brahman-Event-logo.png
END:VEVENT
BEGIN:VEVENT
DTSTART;TZID=America/Chicago:20230926T080000
DTEND;TZID=America/Chicago:20230926T170000
DTSTAMP:20260423T170027
CREATED:20230425T140531Z
LAST-MODIFIED:20230821T154113Z
UID:10000393-1695715200-1695747600@brahmanevent.com
SUMMARY:East Texas State Fair Open Brahman Show
DESCRIPTION:EventsMake plans to join us at the East Texas State Fair Open Brahman Show\, with judge: Katy Wunderlich!
URL:https://brahmanevent.com/event/east-texas-state-fair-open-brahman-show/
LOCATION:East Texas State Fair\,  2112 W Front St\, Tyler\, TX\, 75702\, United States
CATEGORIES:Open Shows
ATTACH;FMTTYPE=image/png:https://brahmanevent.com/wp-content/uploads/image-25.png
GEO:32.3437165;-95.3252005
X-APPLE-STRUCTURED-LOCATION;VALUE=URI;X-ADDRESS=East Texas State Fair  2112 W Front St Tyler TX 75702 United States;X-APPLE-RADIUS=500;X-TITLE=2112 W Front St:geo:-95.3252005,32.3437165
END:VEVENT
BEGIN:VEVENT
DTSTART;TZID=America/Chicago:20230924T080000
DTEND;TZID=America/Chicago:20230925T170000
DTSTAMP:20260423T170027
CREATED:20230501T193213Z
LAST-MODIFIED:20230501T193213Z
UID:10000399-1695542400-1695661200@brahmanevent.com
SUMMARY:79 CATTLE PRODUCTION ONLINE SALE
DESCRIPTION:EventsMake plans to bid in the 79 CATTLE PRODUCTION ONLINE SALE!
URL:https://brahmanevent.com/event/79-cattle-production-online-sale-2/
LOCATION:Best Cattle Sales\, United States
CATEGORIES:Best Cattle Sales
ATTACH;FMTTYPE=image/jpeg:https://brahmanevent.com/wp-content/uploads/2020-BestCattleSales-FB-Topper.jpg
GEO:37.09024;-95.712891
END:VEVENT
BEGIN:VEVENT
DTSTART;TZID=America/Chicago:20230923T080000
DTEND;TZID=America/Chicago:20230924T170000
DTSTAMP:20260423T170027
CREATED:20230725T144820Z
LAST-MODIFIED:20230725T144820Z
UID:10000439-1695456000-1695574800@brahmanevent.com
SUMMARY:Herzog Cattle "Dare to be Different" Fall Production Sale
DESCRIPTION:EventsMake plans to bid in the Herzog Cattle "Dare to be Different" Fall Production Sale!
URL:https://brahmanevent.com/event/herzog-cattle-dare-to-be-different-fall-production-sale/
LOCATION:Best Cattle Sales\, United States
CATEGORIES:Best Cattle Sales
ATTACH;FMTTYPE=image/jpeg:https://brahmanevent.com/wp-content/uploads/2020-BestCattleSales-FB-Topper.jpg
GEO:37.09024;-95.712891
END:VEVENT
BEGIN:VEVENT
DTSTART;TZID=America/Chicago:20230922T080000
DTEND;TZID=America/Chicago:20230922T170000
DTSTAMP:20260423T170027
CREATED:20230831T143442Z
LAST-MODIFIED:20230831T143442Z
UID:10000473-1695369600-1695402000@brahmanevent.com
SUMMARY:CEN-TEX Beef Symposium
DESCRIPTION:EventsMake plans to attend the CEN-TEX Beef Symposium!
URL:https://brahmanevent.com/event/cen-tex-beef-symposium/
LOCATION:Moreno Raches\, 948 FM 2307\, Riesel\, TX\, 76682\, United States
CATEGORIES:Conventions
ATTACH;FMTTYPE=image/jpeg:https://brahmanevent.com/wp-content/uploads/369935521_10162853644411521_5309162886481429265_n.jpg
ORGANIZER;CN="Texas Agrilife Extension ":MAILTO:extansc@ag.tamu.edu
END:VEVENT
BEGIN:VEVENT
DTSTART;TZID=America/Chicago:20230922T080000
DTEND;TZID=America/Chicago:20230922T170000
DTSTAMP:20260423T170027
CREATED:20230815T161017Z
LAST-MODIFIED:20230830T211537Z
UID:10000462-1695369600-1695402000@brahmanevent.com
SUMMARY:National Brahman Show in Guapiles Costa Rica
DESCRIPTION:EventsMake plans to attend the National Brahman Show in Guapiles Costa Rica with Judge: José Otávio Lemos!!
URL:https://brahmanevent.com/event/national-brahman-show-in-guapiles-costa-rica/
LOCATION:TX
CATEGORIES:International
ATTACH;FMTTYPE=image/png:https://brahmanevent.com/wp-content/uploads/image-25-1.png
END:VEVENT
BEGIN:VEVENT
DTSTART;TZID=America/Chicago:20230920T080000
DTEND;TZID=America/Chicago:20230921T170000
DTSTAMP:20260423T170027
CREATED:20230814T140736Z
LAST-MODIFIED:20230925T160858Z
UID:10000446-1695196800-1695315600@brahmanevent.com
SUMMARY:Pinnacle Brahmans Fall Online Sale
DESCRIPTION:EventsMake plans to bid in the Pinnacle Brahmans Fall Online Sale!
URL:https://brahmanevent.com/event/pinnacle-brahmans-fall-online-sale/
LOCATION:Cattle In Motion
CATEGORIES:Sales
ATTACH;FMTTYPE=image/jpeg:https://brahmanevent.com/wp-content/uploads/PinnacleBrahmans_v2-1.jpg
END:VEVENT
BEGIN:VEVENT
DTSTART;TZID=America/Chicago:20230919T080000
DTEND;TZID=America/Chicago:20230924T170000
DTSTAMP:20260423T170027
CREATED:20230821T160224Z
LAST-MODIFIED:20230821T160224Z
UID:10000465-1695110400-1695574800@brahmanevent.com
SUMMARY:VI Exposición Nacional de Razas de Origen Indiano
DESCRIPTION:EventsMake plans to attend the VI Exposición Nacional de Razas de Origen Indiano!
URL:https://brahmanevent.com/event/vi-exposicion-nacional-de-razas-de-origen-indiano/
LOCATION:TX
CATEGORIES:International
ATTACH;FMTTYPE=image/png:https://brahmanevent.com/wp-content/uploads/image-26.png
ORGANIZER;CN="Asociaci%C3%B3n Mexicana de Criadores de Ceb%C3%BA":MAILTO:info@cebumexico.com
END:VEVENT
BEGIN:VEVENT
DTSTART;TZID=America/Chicago:20230916T080000
DTEND;TZID=America/Chicago:20230917T170000
DTSTAMP:20260423T170027
CREATED:20230706T205139Z
LAST-MODIFIED:20230706T205140Z
UID:10000430-1694851200-1694970000@brahmanevent.com
SUMMARY:FJBA “Blazing Brahman Bash”
DESCRIPTION:EventsMake plans to attend the FJBA “Blazing Brahman Bash”!
URL:https://brahmanevent.com/event/fjba-blazing-brahman-bash/
LOCATION:Wauchula Cattlemen’s Arena\, Wauchula\, FL\, United States
CATEGORIES:Junior Shows
ATTACH;FMTTYPE=image/png:https://brahmanevent.com/wp-content/uploads/2021/12/Brahman-Event-logo.png
END:VEVENT
BEGIN:VEVENT
DTSTART;TZID=America/Chicago:20230916T080000
DTEND;TZID=America/Chicago:20230917T170000
DTSTAMP:20260423T170027
CREATED:20230612T134419Z
LAST-MODIFIED:20230921T225253Z
UID:10000417-1694851200-1694970000@brahmanevent.com
SUMMARY:Detering Red Brahmans Online Production Sale
DESCRIPTION:EventsJOIN US SATURDAY\, SEPTEMBER 16 FROM 10:00 AM TO 2:00 PM FOR AN OPEN HOUSE AT THE RANCH. \n\nTHREE WAYS TO WIN WITH THE 2019 HLS&R INTERNATIONAL GRAND CHAMPION BULL\, DB ATLAS 1/328! \n#1 - SIGN UP BEFORE THE SALE STARTS TO BE ELIGIBLE TO WIN ONE FREE STRAW OF DB ATLAS 1/328 SEMEN. \n#2 - BID IN THE SALE TO BE ELIGIBLE TO WIN ONE FREE STRAW OF DB ATLAS 1/328 SEMEN. EVERYONE WHO BIDS HAS A CHANCE TO WIN! \n#3 - BID OFTEN! BE ONE OF THE TOP 5 BIDDERS BY NUMBER OF BIDS DURING THE SALE AND YOU COULD WIN!
URL:https://brahmanevent.com/event/detering-red-brahmans-online-production-sale/
LOCATION:Best Cattle Sales\, United States
CATEGORIES:Best Cattle Sales
ATTACH;FMTTYPE=image/jpeg:https://brahmanevent.com/wp-content/uploads/bkgd_Detering-FB.jpg
GEO:37.09024;-95.712891
END:VEVENT
BEGIN:VEVENT
DTSTART;TZID=America/Chicago:20230916T080000
DTEND;TZID=America/Chicago:20230916T170000
DTSTAMP:20260423T170027
CREATED:20230530T181047Z
LAST-MODIFIED:20230530T181328Z
UID:10000406-1694851200-1694883600@brahmanevent.com
SUMMARY:Oklahoma State Fair Open Brahman Show
DESCRIPTION:EventsMake plans to attend the Oklahoma State Fair Open Brahman Show!
URL:https://brahmanevent.com/event/oklahoma-state-fair-open-brahman-show/
LOCATION:Oklahoma Youth Expo\, 21 Land Rush Street\, Oklahoma\, OK\, 73107\, United States
CATEGORIES:Open Shows
ATTACH;FMTTYPE=image/png:https://brahmanevent.com/wp-content/uploads/2021/12/Brahman-Event-logo.png
GEO:35.4650254;-97.5688536
X-APPLE-STRUCTURED-LOCATION;VALUE=URI;X-ADDRESS=Oklahoma Youth Expo 21 Land Rush Street Oklahoma OK 73107 United States;X-APPLE-RADIUS=500;X-TITLE=21 Land Rush Street:geo:-97.5688536,35.4650254
END:VEVENT
BEGIN:VEVENT
DTSTART;TZID=America/Chicago:20230916T080000
DTEND;TZID=America/Chicago:20230916T170000
DTSTAMP:20260423T170027
CREATED:20230530T180830Z
LAST-MODIFIED:20230530T180831Z
UID:10000405-1694851200-1694883600@brahmanevent.com
SUMMARY:Oklahoma State Fair Junior Brahman Show
DESCRIPTION:EventsMake plans to attend the Oklahoma State Fair Junior Brahman Show!
URL:https://brahmanevent.com/event/oklahoma-state-fair-junior-brahman-show/
LOCATION:Oklahoma Youth Expo\, 21 Land Rush Street\, Oklahoma\, OK\, 73107\, United States
CATEGORIES:Junior Shows
ATTACH;FMTTYPE=image/png:https://brahmanevent.com/wp-content/uploads/2021/12/Brahman-Event-logo.png
GEO:35.4650254;-97.5688536
X-APPLE-STRUCTURED-LOCATION;VALUE=URI;X-ADDRESS=Oklahoma Youth Expo 21 Land Rush Street Oklahoma OK 73107 United States;X-APPLE-RADIUS=500;X-TITLE=21 Land Rush Street:geo:-97.5688536,35.4650254
END:VEVENT
BEGIN:VEVENT
DTSTART;TZID=America/Chicago:20230909T080000
DTEND;TZID=America/Chicago:20230909T170000
DTSTAMP:20260423T170027
CREATED:20230623T214439Z
LAST-MODIFIED:20230626T210750Z
UID:10000420-1694246400-1694278800@brahmanevent.com
SUMMARY:Washington County Open Brahman Show
DESCRIPTION:EventsMake plans to attend the Washington County Open Brahman Show with Judge: Jim Reeves!
URL:https://brahmanevent.com/event/washington-county-open-brahman-show/
LOCATION:TX
CATEGORIES:Open Shows
ATTACH;FMTTYPE=image/png:https://brahmanevent.com/wp-content/uploads/2021/12/Brahman-Event-logo.png
ORGANIZER;CN="Washington County Fair":MAILTO:washingtoncofair@sbcglobal.net
END:VEVENT
BEGIN:VEVENT
DTSTART;TZID=America/Chicago:20230909T080000
DTEND;TZID=America/Chicago:20230909T170000
DTSTAMP:20260423T170027
CREATED:20230120T164230Z
LAST-MODIFIED:20230130T155855Z
UID:10000364-1694246400-1694278800@brahmanevent.com
SUMMARY:Fall Fest Live and Online Sale
DESCRIPTION:EventsBid online at BestCattleSales.com\nThis sale is hosted by the East Texas Simmental/Simbrah Association & The Heart of Texas Simmental/Simbrah Association \nCattle available for viewing Saturday 9 AM - 12 PM\nLunch @ 12 PM \nSale Location:\nRusk County Youth Expo\n3303 FM 13 W\nHenderson\, Tx 75654 \nOffering:\nFleckvieh Simmental\nPurebred Black & Red Simmental\nPurebred Simbrah & SimAngus\nShow heifers from both breeds.
URL:https://brahmanevent.com/event/fall-fest-live-and-online-sale-2/
LOCATION:Best Cattle Sales\, United States
CATEGORIES:Best Cattle Sales,Sales
ATTACH;FMTTYPE=image/jpeg:https://brahmanevent.com/wp-content/uploads/2023-FallFest-v3.jpg
GEO:37.09024;-95.712891
END:VEVENT
BEGIN:VEVENT
DTSTART;TZID=America/Chicago:20230906T080000
DTEND;TZID=America/Chicago:20230907T170000
DTSTAMP:20260423T170027
CREATED:20230731T210827Z
LAST-MODIFIED:20230731T210828Z
UID:10000442-1693987200-1694106000@brahmanevent.com
SUMMARY:Infinity Cattle Services 'Opening Day' Online Sale
DESCRIPTION:EventsMake plans to bid in the Infinity Cattle Services 'Opening Day' Online Sale!
URL:https://brahmanevent.com/event/infinity-cattle-services-opening-day-online-sale/
LOCATION:Cattle In Motion
CATEGORIES:Online Events,Sales
ATTACH;FMTTYPE=image/jpeg:https://brahmanevent.com/wp-content/uploads/Infinity-OpeningDay_v2.jpg
ORGANIZER;CN="Infinity Cattle Service":MAILTO:infinitycattleservices@gmail.com
END:VEVENT
BEGIN:VEVENT
DTSTART;TZID=America/Chicago:20230903T080000
DTEND;TZID=America/Chicago:20230903T170000
DTSTAMP:20260423T170027
CREATED:20230810T201324Z
LAST-MODIFIED:20230810T201450Z
UID:10000444-1693728000-1693760400@brahmanevent.com
SUMMARY:The Delta Fair and Music Festival’s Open Brahman Show
DESCRIPTION:EventsMake plans to attend The Delta Fair and Music Festival’s Open Brahman Show!
URL:https://brahmanevent.com/event/the-delta-fair-and-music-festivals-open-brahman-show/
LOCATION:Delta Fair and Music Festival\, 7777 Walnut Grove Rd\,\, Memphis\, TN\, 38120\, United States
CATEGORIES:Open Shows
ATTACH;FMTTYPE=image/jpeg:https://brahmanevent.com/wp-content/uploads/delta-fair.jpg
END:VEVENT
BEGIN:VEVENT
DTSTART;TZID=America/Chicago:20230902T100000
DTEND;TZID=America/Chicago:20230902T170000
DTSTAMP:20260423T170027
CREATED:20230720T212834Z
LAST-MODIFIED:20230720T212834Z
UID:10000435-1693648800-1693674000@brahmanevent.com
SUMMARY:South Texas Cattle Marketing - Cattleman's Opportunity Sale
DESCRIPTION:EventsMake plans to bid in the South Texas Cattle Marketing - Cattleman's Opportunity Sale! Click here to learn more.
URL:https://brahmanevent.com/event/south-texas-cattle-marketing-cattlemans-opportunity-sale/
LOCATION:Nixon Livestock Commission\, 1924 U.S. 87\, Nixon\, TX\, 78140\, United States
CATEGORIES:Sales
ATTACH;FMTTYPE=image/png:https://brahmanevent.com/wp-content/uploads/2021/12/Brahman-Event-logo.png
GEO:29.2621164;-97.7623221
X-APPLE-STRUCTURED-LOCATION;VALUE=URI;X-ADDRESS=Nixon Livestock Commission 1924 U.S. 87 Nixon TX 78140 United States;X-APPLE-RADIUS=500;X-TITLE=1924 U.S. 87:geo:-97.7623221,29.2621164
END:VEVENT
BEGIN:VEVENT
DTSTART;TZID=America/Chicago:20230902T080000
DTEND;TZID=America/Chicago:20230903T000000
DTSTAMP:20260423T170027
CREATED:20230602T150327Z
LAST-MODIFIED:20230829T164319Z
UID:10000408-1693641600-1693699200@brahmanevent.com
SUMMARY:Louisiana Sugar Classic Brahman Show
DESCRIPTION:Events2023 Sugar Classic \nSugArena @ Acadiana Fairgrounds \n713 Northwest Bypass (HWY 3212) \nNew Iberia\, LA 70560 \nJudge: Pasquale Swaner \nSunday\, August 20 \n               11 p.m. – Early Registration Closed \nWednesday\, August 23 \n               11 p.m. – Late Registration Closed \nThursday\, August 31 \n               12:00 p.m. – Cattle may arrive \nFriday\, September 1  \n               6:30 p.m. – All cattle must be in place \nSaturday\, September 2 \n               8:00 a.m. – Open Show – Group Classes. Followed by open bull show & open heifer show \nSunday\, September 3 \n               8:00 a.m. – Junior Show Showmanship. Followed by Junior Bull & Junior Heifer show. \nThe cut off for tie spot preferences will be August 25th. NO REQUESTS WILL BE TAKEN AFTER THIS DATE! \n*No outside shavings allowed* \nFor more information about the Sugar Classic\, please text or call Jessica Fairchild @ 225-625-4327 \nHotel Accommodations: \nHoliday Inn Express & Suites New Iberia-Avery Island \n318 Hwy. 90 \nNew Iberia\, LA 70360 \n337-408-2700 \nName of Group: 2023 Louisiana Sugar Classic \n*Room block rate expires on 8/15/2023 \nCamper Spots: \nSugArena \n337-365-7539
URL:https://brahmanevent.com/event/louisiana-sugar-classic-brahman-show/
LOCATION:Ike SugArena\, 713 Northwest Bypass (Hwy 3212)\, New Iberia\, LA\, United States
CATEGORIES:Junior Shows,Open Shows
ATTACH;FMTTYPE=image/jpeg:https://brahmanevent.com/wp-content/uploads/SugarClassic_v1.jpg
GEO:30.0257898;-91.8582935
X-APPLE-STRUCTURED-LOCATION;VALUE=URI;X-ADDRESS=Ike SugArena 713 Northwest Bypass (Hwy 3212) New Iberia LA United States;X-APPLE-RADIUS=500;X-TITLE=713 Northwest Bypass (Hwy 3212):geo:-91.8582935,30.0257898
END:VEVENT
BEGIN:VEVENT
DTSTART;TZID=America/Chicago:20230901T080000
DTEND;TZID=America/Chicago:20230903T170000
DTSTAMP:20260423T170027
CREATED:20221130T183814Z
LAST-MODIFIED:20230814T133449Z
UID:10000335-1693555200-1693760400@brahmanevent.com
SUMMARY:VI Subasta Genética Tropical
DESCRIPTION:EventsMake plans to bid in the VI Subasta Genética Tropical! \nFor more information visit www.bestcattlesales.com
URL:https://brahmanevent.com/event/vi-subasta-genetica-tropical/
LOCATION:Best Cattle Sales\, United States
CATEGORIES:Best Cattle Sales
ATTACH;FMTTYPE=image/png:https://brahmanevent.com/wp-content/uploads/image-19.png
GEO:37.09024;-95.712891
END:VEVENT
BEGIN:VEVENT
DTSTART;TZID=America/Chicago:20230901T080000
DTEND;TZID=America/Chicago:20230901T170000
DTSTAMP:20260423T170027
CREATED:20221130T184047Z
LAST-MODIFIED:20221130T184047Z
UID:10000338-1693555200-1693587600@brahmanevent.com
SUMMARY:Heritage Cattle Company First Friday Genetic Drop
DESCRIPTION:EventsDon't miss the Heritage Cattle Company First Friday Genetic Drop!
URL:https://brahmanevent.com/event/heritage-cattle-company-first-friday-genetic-drop-4/2023-09-01/
LOCATION:TX
CATEGORIES:Sales
ATTACH;FMTTYPE=image/jpeg:https://brahmanevent.com/wp-content/uploads/HeritageCattle_Badge_Logo-01.jpg
ORGANIZER;CN="Heritage Cattle Company":MAILTO:heritagecattle1@yahoo.com
END:VEVENT
BEGIN:VEVENT
DTSTART;TZID=America/Chicago:20230830T080000
DTEND;TZID=America/Chicago:20230831T170000
DTSTAMP:20260423T170027
CREATED:20230810T201753Z
LAST-MODIFIED:20230810T201821Z
UID:10000445-1693382400-1693501200@brahmanevent.com
SUMMARY:KI Cattle Co. Labor Day Online Sale
DESCRIPTION:EventsMake plans to bid in the KI Cattle Co. Labor Day Online Sale!
URL:https://brahmanevent.com/event/ki-cattle-co-labor-day-online-sale/
LOCATION:Cattle In Motion
CATEGORIES:Sales
ATTACH;FMTTYPE=image/jpeg:https://brahmanevent.com/wp-content/uploads/2023-LABORDAYSALE_v2-1.jpg
ORGANIZER;CN="KI Cattle Co":MAILTO:jake@kicattle.com
END:VEVENT
BEGIN:VEVENT
DTSTART;TZID=America/Chicago:20230826T080000
DTEND;TZID=America/Chicago:20230827T170000
DTSTAMP:20260423T170027
CREATED:20230721T140147Z
LAST-MODIFIED:20230721T140148Z
UID:10000437-1693036800-1693155600@brahmanevent.com
SUMMARY:HBBA Junior Kick-Off Show
DESCRIPTION:EventsMake plans to attend the HBBA Junior Kick-Off Show!
URL:https://brahmanevent.com/event/hbba-junior-kick-off-show-2/
LOCATION:Union County Ag Education Center\, 15120 SW 84th Street\, Lake Butler\, FL\, United States
CATEGORIES:Junior Shows
ATTACH;FMTTYPE=image/jpeg:https://brahmanevent.com/wp-content/uploads/361095508_757235173071117_4619538725937163417_n-1.jpg
END:VEVENT
BEGIN:VEVENT
DTSTART;TZID=America/Chicago:20230826T080000
DTEND;TZID=America/Chicago:20230826T170000
DTSTAMP:20260423T170027
CREATED:20221005T211505Z
LAST-MODIFIED:20221130T184445Z
UID:10000284-1693036800-1693069200@brahmanevent.com
SUMMARY:Southern Invitational Sale
DESCRIPTION:EventsMake plans to bid in the Southern Invitational Sale!
URL:https://brahmanevent.com/event/southern-invitational-sale-2/
LOCATION:Best Cattle Sales\, United States
CATEGORIES:Sales
ATTACH;FMTTYPE=image/jpeg:https://brahmanevent.com/wp-content/uploads/SouthernInvitational-CAL_v1.jpg
GEO:37.09024;-95.712891
END:VEVENT
BEGIN:VEVENT
DTSTART;TZID=America/Chicago:20230825T110000
DTEND;TZID=America/Chicago:20230825T170000
DTSTAMP:20260423T170027
CREATED:20230718T191804Z
LAST-MODIFIED:20230718T191838Z
UID:10000434-1692961200-1692982800@brahmanevent.com
SUMMARY:25th Herd Builder Replacement Female Sale
DESCRIPTION:EventsMake plans to bid in the 25th Herd Builder Replacement Female Sale!
URL:https://brahmanevent.com/event/25th-herd-builder-replacement-female-sale/
LOCATION:Alabama Livestock Auction\, Uniontown\, AL\, United States
CATEGORIES:Sales
ATTACH;FMTTYPE=image/jpeg:https://brahmanevent.com/wp-content/uploads/2023-Herdbuilder-Ad-scaled.jpg
END:VEVENT
BEGIN:VEVENT
DTSTART;TZID=America/Chicago:20230825T080000
DTEND;TZID=America/Chicago:20230828T170000
DTSTAMP:20260423T170027
CREATED:20221130T185707Z
LAST-MODIFIED:20221130T185708Z
UID:10000345-1692950400-1693242000@brahmanevent.com
SUMMARY:Southern Invitational Frozen Genetic Online Sale
DESCRIPTION:EventsMake plans to bid in the Southern Invitational Frozen Genetic Online Sale!
URL:https://brahmanevent.com/event/southern-invitational-frozen-genetic-online-sale/
LOCATION:Best Cattle Sales\, United States
CATEGORIES:Best Cattle Sales,Online Events,Sales
ATTACH;FMTTYPE=image/jpeg:https://brahmanevent.com/wp-content/uploads/2020-BestCattleSales-FB-Topper.jpg
GEO:37.09024;-95.712891
END:VEVENT
BEGIN:VEVENT
DTSTART;TZID=America/Chicago:20230818T080000
DTEND;TZID=America/Chicago:20230819T170000
DTSTAMP:20260423T170027
CREATED:20230608T204558Z
LAST-MODIFIED:20230608T204558Z
UID:10000415-1692345600-1692464400@brahmanevent.com
SUMMARY:David A. Daniel Memorial Cattle Battle
DESCRIPTION:EventsMake plans to attend the David A. Daniel Memorial Cattle Battle!
URL:https://brahmanevent.com/event/david-a-daniel-memorial-cattle-battle/
LOCATION:TX
CATEGORIES:Junior Shows
ATTACH;FMTTYPE=image/jpeg:https://brahmanevent.com/wp-content/uploads/IMG_8224.jpg
END:VEVENT
BEGIN:VEVENT
DTSTART;TZID=America/Chicago:20230817T080000
DTEND;TZID=America/Chicago:20230817T170000
DTSTAMP:20260423T170027
CREATED:20230418T200455Z
LAST-MODIFIED:20230726T211533Z
UID:10000382-1692259200-1692291600@brahmanevent.com
SUMMARY:Tennessee State Fair Open Brahman Show
DESCRIPTION:EventsMake plans to attend the Tennessee State Fair Open Brahman Show! For more information click here. Open Show Judge: – Dakota Smith
URL:https://brahmanevent.com/event/tennessee-state-fair-open-brahman-show-2/
LOCATION:Wilson County Fairgrounds\, 945 E. Baddour Parkway\, Lebanon\, TN\, United States
CATEGORIES:Open Shows
ATTACH;FMTTYPE=image/png:https://brahmanevent.com/wp-content/uploads/2021/12/Brahman-Event-logo.png
END:VEVENT
BEGIN:VEVENT
DTSTART;TZID=America/Chicago:20230808T080000
DTEND;TZID=America/Chicago:20230809T170000
DTSTAMP:20260423T170027
CREATED:20230731T161410Z
LAST-MODIFIED:20230731T210548Z
UID:10000441-1691481600-1691600400@brahmanevent.com
SUMMARY:Feria Ganadera Managua 2023
DESCRIPTION:EventsMake plans to attend the Feria Ganadera Managua 2023!
URL:https://brahmanevent.com/event/feria-ganadera-managua-2023/
LOCATION:Managua\, Niceragua\, Managua\, Nicaragua
CATEGORIES:International
ATTACH;FMTTYPE=image/png:https://brahmanevent.com/wp-content/uploads/image-20.png
GEO:12.1149926;-86.2361744
END:VEVENT
BEGIN:VEVENT
DTSTART;TZID=America/Chicago:20230807T080000
DTEND;TZID=America/Chicago:20230809T170000
DTSTAMP:20260423T170027
CREATED:20221130T185214Z
LAST-MODIFIED:20230411T212130Z
UID:10000342-1691395200-1691600400@brahmanevent.com
SUMMARY:Texas A&M Beef Cattle Short Course
DESCRIPTION:EventsMake plans to attend the Texas A&M Beef Cattle Short Course!
URL:https://brahmanevent.com/event/texas-am-beef-cattle-short-course/
LOCATION:Texas A&M\, 241 Kleberg Bldg. • 2471 TAMU\, College Station\, TX\, 77843-2471\, United States
CATEGORIES:Conventions,Social Events
ATTACH;FMTTYPE=image/jpeg:https://brahmanevent.com/wp-content/uploads/IMG_9331.jpg
ORGANIZER;CN="Texas A&M Beef Cattle Short Course":MAILTO: jjcleere@ag.tamu.edu
GEO:27.4308339;-97.6982272
X-APPLE-STRUCTURED-LOCATION;VALUE=URI;X-ADDRESS=Texas A&M 241 Kleberg Bldg. • 2471 TAMU College Station TX 77843-2471 United States;X-APPLE-RADIUS=500;X-TITLE=241 Kleberg Bldg. • 2471 TAMU:geo:-97.6982272,27.4308339
END:VEVENT
BEGIN:VEVENT
DTSTART;TZID=America/Chicago:20230804T080000
DTEND;TZID=America/Chicago:20230804T170000
DTSTAMP:20260423T170027
CREATED:20221130T183903Z
LAST-MODIFIED:20221130T183904Z
UID:10000336-1691136000-1691168400@brahmanevent.com
SUMMARY:Heritage Cattle Company First Friday Genetic Drop
DESCRIPTION:EventsDon't miss the Heritage Cattle Company First Friday Genetic Drop!
URL:https://brahmanevent.com/event/heritage-cattle-company-first-friday-genetic-drop-3/2023-08-04/
LOCATION:TX
CATEGORIES:Sales
ATTACH;FMTTYPE=image/jpeg:https://brahmanevent.com/wp-content/uploads/HeritageCattle_Badge_Logo-01.jpg
ORGANIZER;CN="Heritage Cattle Company":MAILTO:heritagecattle1@yahoo.com
END:VEVENT
END:VCALENDAR