BEGIN:VCALENDAR
VERSION:2.0
PRODID:-//Brahman Event - ECPv6.15.15//NONSGML v1.0//EN
CALSCALE:GREGORIAN
METHOD:PUBLISH
X-ORIGINAL-URL:https://brahmanevent.com
X-WR-CALDESC:Events for Brahman Event
REFRESH-INTERVAL;VALUE=DURATION:PT1H
X-Robots-Tag:noindex
X-PUBLISHED-TTL:PT1H
BEGIN:VTIMEZONE
TZID:America/Chicago
BEGIN:DAYLIGHT
TZOFFSETFROM:-0600
TZOFFSETTO:-0500
TZNAME:CDT
DTSTART:20220313T080000
END:DAYLIGHT
BEGIN:STANDARD
TZOFFSETFROM:-0500
TZOFFSETTO:-0600
TZNAME:CST
DTSTART:20221106T070000
END:STANDARD
BEGIN:DAYLIGHT
TZOFFSETFROM:-0600
TZOFFSETTO:-0500
TZNAME:CDT
DTSTART:20230312T080000
END:DAYLIGHT
BEGIN:STANDARD
TZOFFSETFROM:-0500
TZOFFSETTO:-0600
TZNAME:CST
DTSTART:20231105T070000
END:STANDARD
BEGIN:DAYLIGHT
TZOFFSETFROM:-0600
TZOFFSETTO:-0500
TZNAME:CDT
DTSTART:20240310T080000
END:DAYLIGHT
BEGIN:STANDARD
TZOFFSETFROM:-0500
TZOFFSETTO:-0600
TZNAME:CST
DTSTART:20241103T070000
END:STANDARD
END:VTIMEZONE
BEGIN:VEVENT
DTSTART;TZID=America/Chicago:20231018T080000
DTEND;TZID=America/Chicago:20231019T170000
DTSTAMP:20260423T142526
CREATED:20230814T155716Z
LAST-MODIFIED:20230925T153458Z
UID:10000451-1697616000-1697734800@brahmanevent.com
SUMMARY:Infinity Cattle Services "Tip Of Texas" Online Sale
DESCRIPTION:EventsMake plans to bid in the Infinity Cattle Services "Tip Of Texas" Online Sale!
URL:https://brahmanevent.com/event/infinity-cattle-services-tip-of-texas-online-sale/
LOCATION:Cattle In Motion
CATEGORIES:Sales
ATTACH;FMTTYPE=image/jpeg:https://brahmanevent.com/wp-content/uploads/bkgd_TipOfTexas-2023.jpg
ORGANIZER;CN="Infinity Cattle Service":MAILTO:infinitycattleservices@gmail.com
END:VEVENT
BEGIN:VEVENT
DTSTART;TZID=America/Chicago:20231017T080000
DTEND;TZID=America/Chicago:20231018T170000
DTSTAMP:20260423T142526
CREATED:20230810T200626Z
LAST-MODIFIED:20230810T200626Z
UID:10000443-1697529600-1697648400@brahmanevent.com
SUMMARY:ABBA Bull Development Marketing Program
DESCRIPTION:EventsYou won't want to miss the ABBA Bull Development Marketing Program!
URL:https://brahmanevent.com/event/abba-bull-development-marketing-program/
LOCATION:TX
CATEGORIES:Other
ATTACH;FMTTYPE=image/jpeg:https://brahmanevent.com/wp-content/uploads/2021/08/ABBA.jpg
ORGANIZER;CN="ABBA":MAILTO:abba@brahman.org
END:VEVENT
BEGIN:VEVENT
DTSTART;TZID=America/Chicago:20231017T080000
DTEND;TZID=America/Chicago:20231017T170000
DTSTAMP:20260423T142526
CREATED:20230607T214833Z
LAST-MODIFIED:20230607T214833Z
UID:10000412-1697529600-1697562000@brahmanevent.com
SUMMARY:BRC Best of the Spring Borns Online Sale
DESCRIPTION:EventsMake plans to bid in the BRC Best of the Spring Borns Online Sale!
URL:https://brahmanevent.com/event/brc-best-of-the-spring-borns-online-sale/
LOCATION:TX
CATEGORIES:Sales
ATTACH;FMTTYPE=image/png:https://brahmanevent.com/wp-content/uploads/2021/12/Brahman-Event-logo.png
ORGANIZER;CN="BR Cutrer":MAILTO:rachel@brcutrer.com
END:VEVENT
BEGIN:VEVENT
DTSTART;TZID=America/Chicago:20231016T080000
DTEND;TZID=America/Chicago:20231017T170000
DTSTAMP:20260423T142526
CREATED:20230814T155405Z
LAST-MODIFIED:20230814T155405Z
UID:10000450-1697443200-1697562000@brahmanevent.com
SUMMARY:Bentke Cattle Co. "Your Key to Success" Online Sale\, Vol. III
DESCRIPTION:EventsMake plans to bid in the Bentke Cattle Co. "Your Key to Success" Online Sale\, Vol. III!
URL:https://brahmanevent.com/event/bentke-cattle-co-your-key-to-success-online-sale-vol-iii/
LOCATION:Cattle In Motion
CATEGORIES:Sales
ATTACH;FMTTYPE=image/png:https://brahmanevent.com/wp-content/uploads/2021/12/Brahman-Event-logo.png
ORGANIZER;CN="Infinity Cattle Service":MAILTO:infinitycattleservices@gmail.com
END:VEVENT
BEGIN:VEVENT
DTSTART;TZID=America/Chicago:20231014T080000
DTEND;TZID=America/Chicago:20231014T170000
DTSTAMP:20260423T142526
CREATED:20230828T144034Z
LAST-MODIFIED:20230828T150120Z
UID:10000467-1697270400-1697302800@brahmanevent.com
SUMMARY:Inspire Academy Texas 2023
DESCRIPTION:EventsMake plans to attend the Inspire Academy Texas 2023!
URL:https://brahmanevent.com/event/inspire-academy-texas-summer-2023/
LOCATION:Design Spark Innovation Center\, 3891 South Traditions Drive\, Bryan\, TX\, 77807\, United States
CATEGORIES:Conventions
ATTACH;FMTTYPE=image/jpeg:https://brahmanevent.com/wp-content/uploads/CodieWright_v3.jpg
END:VEVENT
BEGIN:VEVENT
DTSTART;TZID=America/Chicago:20231014T080000
DTEND;TZID=America/Chicago:20231014T170000
DTSTAMP:20260423T142526
CREATED:20230821T153821Z
LAST-MODIFIED:20230821T153821Z
UID:10000463-1697270400-1697302800@brahmanevent.com
SUMMARY:2023 ABBA Bull Marketing Day
DESCRIPTION:EventsDon't miss out on the 2023 ABBA Bull Marketing Day!
URL:https://brahmanevent.com/event/2023-abba-bull-marketing-day/
LOCATION:Texana Feeders\, 3493 FM 539\, Floresville\, TX\, 78114\, United States
CATEGORIES:Sales
ATTACH;FMTTYPE=image/jpeg:https://brahmanevent.com/wp-content/uploads/2021/08/ABBA.jpg
ORGANIZER;CN="ABBA":MAILTO:abba@brahman.org
GEO:29.2273748;-98.1060376
X-APPLE-STRUCTURED-LOCATION;VALUE=URI;X-ADDRESS=Texana Feeders 3493 FM 539 Floresville TX 78114 United States;X-APPLE-RADIUS=500;X-TITLE=3493 FM 539:geo:-98.1060376,29.2273748
END:VEVENT
BEGIN:VEVENT
DTSTART;TZID=America/Chicago:20231014T080000
DTEND;TZID=America/Chicago:20231014T170000
DTSTAMP:20260423T142526
CREATED:20230605T155858Z
LAST-MODIFIED:20230925T153629Z
UID:10000411-1697270400-1697302800@brahmanevent.com
SUMMARY:2023 Circle F Farms Fall Sale
DESCRIPTION:Events\nThis year’s Circle F Farms Fall Sale is scheduled for October 14\, 2023 in Baxley!\n\n\nRegistered Brahman bulls and bred/open heifers. F1 Brangus and Braford bulls and heifers\, and this year for the first time we are offering bred\, 1/8 brahman influenced heifers\, all bred back to angus bulls in addition to some cow/calf pairs!
URL:https://brahmanevent.com/event/2023-circle-f-farms-fall-sale/
LOCATION:Circle F Sale Arena\, 70 Prentiss Road\, Baxley\, Georgia\, 31513
CATEGORIES:Sales
ATTACH;FMTTYPE=image/jpeg:https://brahmanevent.com/wp-content/uploads/Circle-F_V1-2.jpg
GEO:31.7933247;-82.3966575
X-APPLE-STRUCTURED-LOCATION;VALUE=URI;X-ADDRESS=Circle F Sale Arena 70 Prentiss Road Baxley Georgia 31513;X-APPLE-RADIUS=500;X-TITLE=70 Prentiss Road:geo:-82.3966575,31.7933247
END:VEVENT
BEGIN:VEVENT
DTSTART;TZID=America/Chicago:20231011T080000
DTEND;TZID=America/Chicago:20231012T170000
DTSTAMP:20260423T142526
CREATED:20230814T155003Z
LAST-MODIFIED:20230925T153738Z
UID:10000449-1697011200-1697130000@brahmanevent.com
SUMMARY:KI Cattle Company Fall Online Sale
DESCRIPTION:EventsMake plans to bid in the KI Cattle Company Fall Online Sale!
URL:https://brahmanevent.com/event/ki-cattle-company-fall-online-sale-2/
LOCATION:Cattle In Motion
CATEGORIES:Sales
ATTACH;FMTTYPE=image/jpeg:https://brahmanevent.com/wp-content/uploads/bkgd_Ki-V3-1.jpg
ORGANIZER;CN="Infinity Cattle Service":MAILTO:infinitycattleservices@gmail.com
END:VEVENT
BEGIN:VEVENT
DTSTART;TZID=America/Chicago:20231011T080000
DTEND;TZID=America/Chicago:20231012T170000
DTSTAMP:20260423T142526
CREATED:20230425T134544Z
LAST-MODIFIED:20230823T153507Z
UID:10000388-1697011200-1697130000@brahmanevent.com
SUMMARY:ANNUAL STGENETICS BRAHMAN AND HK CATTLE OCTOBER ONLINE SALE
DESCRIPTION:EventsMake plans to bid in the ANNUAL STGENETICS BRAHMAN AND HK CATTLE OCTOBER ONLINE SALE!
URL:https://brahmanevent.com/event/annual-stgenetics-brahman-and-hk-cattle-october-online-sale/
LOCATION:Best Cattle Sales\, United States
CATEGORIES:Best Cattle Sales
ATTACH;FMTTYPE=image/jpeg:https://brahmanevent.com/wp-content/uploads/HK_v3.jpg
GEO:37.09024;-95.712891
END:VEVENT
BEGIN:VEVENT
DTSTART;TZID=America/Chicago:20231011T000000
DTEND;TZID=America/Chicago:20231011T000000
DTSTAMP:20260423T142526
CREATED:20230424T142831Z
LAST-MODIFIED:20230424T142925Z
UID:10000385-1696982400-1696982400@brahmanevent.com
SUMMARY:2023 State Fair of Texas Junior Brahman Show
DESCRIPTION:EventsJoin us in Dallas for the State Fair of Texas!
URL:https://brahmanevent.com/event/2023-state-fair-of-texas-junior-brahman-show/
LOCATION:State Fair of Texas\, 3921 Martin Luther King Blvd.\, Dallas\, TX\, 75210\, United States
CATEGORIES:Junior Shows
ATTACH;FMTTYPE=image/jpeg:https://brahmanevent.com/wp-content/uploads/STATEFAIR_V1.jpg
ORGANIZER;CN="State Fair of Texas":MAILTO:livestock@bigtex.com
GEO:32.7782494;-96.7584284
X-APPLE-STRUCTURED-LOCATION;VALUE=URI;X-ADDRESS=State Fair of Texas 3921 Martin Luther King Blvd. Dallas TX 75210 United States;X-APPLE-RADIUS=500;X-TITLE=3921 Martin Luther King Blvd.:geo:-96.7584284,32.7782494
END:VEVENT
BEGIN:VEVENT
DTSTART;TZID=America/Chicago:20231010T000000
DTEND;TZID=America/Chicago:20231010T000000
DTSTAMP:20260423T142526
CREATED:20230726T211932Z
LAST-MODIFIED:20230726T211933Z
UID:10000384-1696896000-1696896000@brahmanevent.com
SUMMARY:2023 State Fair of Texas Open Brahman Show
DESCRIPTION:EventsJoin us in Dallas for the State Fair of Texas with judge: Derrick Smith! Click here to view the current schedule.
URL:https://brahmanevent.com/event/2023-state-fair-of-texas-open-brahman-show-2/
LOCATION:State Fair of Texas\, 3921 Martin Luther King Blvd.\, Dallas\, TX\, 75210\, United States
CATEGORIES:Open Shows
ATTACH;FMTTYPE=image/jpeg:https://brahmanevent.com/wp-content/uploads/STATEFAIR_V1.jpg
ORGANIZER;CN="State Fair of Texas":MAILTO:livestock@bigtex.com
GEO:32.7782494;-96.7584284
X-APPLE-STRUCTURED-LOCATION;VALUE=URI;X-ADDRESS=State Fair of Texas 3921 Martin Luther King Blvd. Dallas TX 75210 United States;X-APPLE-RADIUS=500;X-TITLE=3921 Martin Luther King Blvd.:geo:-96.7584284,32.7782494
END:VEVENT
BEGIN:VEVENT
DTSTART;TZID=America/Chicago:20231008T080000
DTEND;TZID=America/Chicago:20231009T170000
DTSTAMP:20260423T142526
CREATED:20230425T140103Z
LAST-MODIFIED:20230425T140104Z
UID:10000392-1696752000-1696870800@brahmanevent.com
SUMMARY:BAYOU BRAHMANS ELITE ONLINE SALE
DESCRIPTION:EventsMake plans to bid in the BAYOU BRAHMANS ELITE ONLINE SALE!
URL:https://brahmanevent.com/event/bayou-brahmans-elite-online-sale-3/
LOCATION:Best Cattle Sales\, United States
CATEGORIES:Best Cattle Sales
ATTACH;FMTTYPE=image/jpeg:https://brahmanevent.com/wp-content/uploads/2020-BestCattleSales-FB-Topper.jpg
GEO:37.09024;-95.712891
END:VEVENT
BEGIN:VEVENT
DTSTART;TZID=America/Chicago:20231007T080000
DTEND;TZID=America/Chicago:20231008T170000
DTSTAMP:20260423T142526
CREATED:20220901T165742Z
LAST-MODIFIED:20230823T153351Z
UID:10000271-1696665600-1696784400@brahmanevent.com
SUMMARY:4T & BOX R 9TH FAMILY TRADITIONS ONLINE SALE
DESCRIPTION:EventsMake plans to bid in the 4T & BOX R 9TH FAMILY TRADITIONS ONLINE SALE!
URL:https://brahmanevent.com/event/4t-box-r-9th-family-traditions-online-sale/
LOCATION:TX
CATEGORIES:Best Cattle Sales,Sales
ATTACH;FMTTYPE=image/jpeg:https://brahmanevent.com/wp-content/uploads/4TBoxR_v1.jpg
END:VEVENT
BEGIN:VEVENT
DTSTART;TZID=America/Chicago:20231007T080000
DTEND;TZID=America/Chicago:20231007T170000
DTSTAMP:20260423T142526
CREATED:20221130T185806Z
LAST-MODIFIED:20221130T185807Z
UID:10000346-1696665600-1696698000@brahmanevent.com
SUMMARY:South Texas Field Day
DESCRIPTION:EventsMore info coming soon...
URL:https://brahmanevent.com/event/south-texas-field-day/
LOCATION:Floresville\, Texas\, United States
CATEGORIES:Social Events
ATTACH;FMTTYPE=image/png:https://brahmanevent.com/wp-content/uploads/cropped-brahman-event-favicon-icon.png
END:VEVENT
BEGIN:VEVENT
DTSTART;TZID=America/Chicago:20231007T080000
DTEND;TZID=America/Chicago:20231007T170000
DTSTAMP:20260423T142526
CREATED:20221130T185050Z
LAST-MODIFIED:20221130T185051Z
UID:10000340-1696665600-1696698000@brahmanevent.com
SUMMARY:36th Annual LMC Jr. Round Up & Futurity
DESCRIPTION:EventsInformation coming soon...
URL:https://brahmanevent.com/event/36th-annual-lmc-jr-round-up-futurity/
LOCATION:TX
CATEGORIES:Junior Shows
ATTACH;FMTTYPE=image/png:https://brahmanevent.com/wp-content/uploads/cropped-brahman-event-favicon-icon.png
ORGANIZER;CN="La Muneca Cattle Co.":MAILTO:LaMunecaCattle@aol.com
END:VEVENT
BEGIN:VEVENT
DTSTART;TZID=America/Chicago:20231006T080000
DTEND;TZID=America/Chicago:20231009T170000
DTSTAMP:20260423T142527
CREATED:20230913T144008Z
LAST-MODIFIED:20230914T154519Z
UID:10000475-1696579200-1696870800@brahmanevent.com
SUMMARY:LXXVIII Expoferia Ganadera
DESCRIPTION:Events\n		\n		\n			\n				\n			\n			\n				\n			\n			\n				\n			\n		\n\nMake plans to attend the LXXVIII Expoferia Ganadera!
URL:https://brahmanevent.com/event/lxxviii-expoferia-ganadera/
LOCATION:TX
CATEGORIES:International
ATTACH;FMTTYPE=image/jpeg:https://brahmanevent.com/wp-content/uploads/Aglyg_Brahman-Journal-RRSS-2023-4-1.jpg
END:VEVENT
BEGIN:VEVENT
DTSTART;TZID=America/Chicago:20231006T080000
DTEND;TZID=America/Chicago:20231006T170000
DTSTAMP:20260423T142527
CREATED:20221130T184222Z
LAST-MODIFIED:20221130T185149Z
UID:10000339-1696579200-1696611600@brahmanevent.com
SUMMARY:Heritage Cattle Company First Friday Genetic Drop
DESCRIPTION:EventsVisit ShopBrahman.com to see the genetic drop
URL:https://brahmanevent.com/event/heritage-cattle-company-first-friday-genetic-drop-6/
LOCATION:Heritage Cattle Company\, 1832 FM 1161 West\, Wharton\, TX\, 77448\, United States
CATEGORIES:Online Events,Sales
ORGANIZER;CN="Heritage Cattle Company":MAILTO:heritagecattle1@yahoo.com
GEO:29.3996707;-96.105873
X-APPLE-STRUCTURED-LOCATION;VALUE=URI;X-ADDRESS=Heritage Cattle Company 1832 FM 1161 West Wharton TX 77448 United States;X-APPLE-RADIUS=500;X-TITLE=1832 FM 1161 West:geo:-96.105873,29.3996707
END:VEVENT
BEGIN:VEVENT
DTSTART;TZID=America/Chicago:20231004T080000
DTEND;TZID=America/Chicago:20231005T190000
DTSTAMP:20260423T142527
CREATED:20221130T183546Z
LAST-MODIFIED:20230922T141552Z
UID:10000333-1696406400-1696532400@brahmanevent.com
SUMMARY:Rise to the Top Fall Heifer Sale - Bulls Eye Ranch
DESCRIPTION:EventsTo view this sale visit CattleInMotion.com
URL:https://brahmanevent.com/event/rise-to-the-top-fall-heifer-sale-bulls-eye-ranch/
LOCATION:Cattle In Motion
CATEGORIES:Online Events,Sales
ATTACH;FMTTYPE=image/jpeg:https://brahmanevent.com/wp-content/uploads/BullsEye_v1.jpg
ORGANIZER;CN="Bulls Eye Ranch":MAILTO:csmith8465@icloud.com
END:VEVENT
BEGIN:VEVENT
DTSTART;TZID=America/Chicago:20231002T080000
DTEND;TZID=America/Chicago:20231003T170000
DTSTAMP:20260423T142527
CREATED:20230814T154557Z
LAST-MODIFIED:20230925T154322Z
UID:10000448-1696233600-1696352400@brahmanevent.com
SUMMARY:MF Ranch "La Reinas" Online Sale
DESCRIPTION:EventsMake plans to bid in the MF Ranch "La Reinas" Online Sale!
URL:https://brahmanevent.com/event/mf-ranch-la-reinas-online-sale/
LOCATION:Cattle In Motion
CATEGORIES:Sales
ATTACH;FMTTYPE=image/jpeg:https://brahmanevent.com/wp-content/uploads/MFRanch_v3-1.jpg
ORGANIZER;CN="Infinity Cattle Service":MAILTO:infinitycattleservices@gmail.com
END:VEVENT
BEGIN:VEVENT
DTSTART;TZID=America/Chicago:20231002T080000
DTEND;TZID=America/Chicago:20231002T170000
DTSTAMP:20260423T142527
CREATED:20221116T144640Z
LAST-MODIFIED:20230821T132138Z
UID:10000329-1696233600-1696266000@brahmanevent.com
SUMMARY:J&L Cattle Services Online Sale
DESCRIPTION:EventsMake plans to bid in the J&L Cattle Services Online Sale!
URL:https://brahmanevent.com/event/jl-cattle-services-online-sale/
LOCATION:Best Cattle Sales\, United States
CATEGORIES:Best Cattle Sales
ATTACH;FMTTYPE=image/jpeg:https://brahmanevent.com/wp-content/uploads/2020-BestCattleSales-FB-Topper.jpg
GEO:37.09024;-95.712891
END:VEVENT
BEGIN:VEVENT
DTSTART;TZID=America/Chicago:20230927T080000
DTEND;TZID=America/Chicago:20230928T170000
DTSTAMP:20260423T142527
CREATED:20230814T153843Z
LAST-MODIFIED:20230814T153844Z
UID:10000447-1695801600-1695920400@brahmanevent.com
SUMMARY:England Cattle Co. "Rio Queens Elite Heifer Sale" Vol. III
DESCRIPTION:EventsMake plans to bid in the England Cattle Co. "Rio Queens Elite Heifer Sale" Vol. III!
URL:https://brahmanevent.com/event/england-cattle-co-rio-queens-elite-heifer-sale-vol-iii/
LOCATION:Premier Livestock Auctions
CATEGORIES:Sales
ATTACH;FMTTYPE=image/png:https://brahmanevent.com/wp-content/uploads/2021/12/Brahman-Event-logo.png
END:VEVENT
BEGIN:VEVENT
DTSTART;TZID=America/Chicago:20230926T080000
DTEND;TZID=America/Chicago:20230926T170000
DTSTAMP:20260423T142527
CREATED:20230425T140531Z
LAST-MODIFIED:20230821T154113Z
UID:10000393-1695715200-1695747600@brahmanevent.com
SUMMARY:East Texas State Fair Open Brahman Show
DESCRIPTION:EventsMake plans to join us at the East Texas State Fair Open Brahman Show\, with judge: Katy Wunderlich!
URL:https://brahmanevent.com/event/east-texas-state-fair-open-brahman-show/
LOCATION:East Texas State Fair\,  2112 W Front St\, Tyler\, TX\, 75702\, United States
CATEGORIES:Open Shows
ATTACH;FMTTYPE=image/png:https://brahmanevent.com/wp-content/uploads/image-25.png
GEO:32.3437165;-95.3252005
X-APPLE-STRUCTURED-LOCATION;VALUE=URI;X-ADDRESS=East Texas State Fair  2112 W Front St Tyler TX 75702 United States;X-APPLE-RADIUS=500;X-TITLE=2112 W Front St:geo:-95.3252005,32.3437165
END:VEVENT
BEGIN:VEVENT
DTSTART;TZID=America/Chicago:20230924T080000
DTEND;TZID=America/Chicago:20230925T170000
DTSTAMP:20260423T142527
CREATED:20230501T193213Z
LAST-MODIFIED:20230501T193213Z
UID:10000399-1695542400-1695661200@brahmanevent.com
SUMMARY:79 CATTLE PRODUCTION ONLINE SALE
DESCRIPTION:EventsMake plans to bid in the 79 CATTLE PRODUCTION ONLINE SALE!
URL:https://brahmanevent.com/event/79-cattle-production-online-sale-2/
LOCATION:Best Cattle Sales\, United States
CATEGORIES:Best Cattle Sales
ATTACH;FMTTYPE=image/jpeg:https://brahmanevent.com/wp-content/uploads/2020-BestCattleSales-FB-Topper.jpg
GEO:37.09024;-95.712891
END:VEVENT
BEGIN:VEVENT
DTSTART;TZID=America/Chicago:20230923T080000
DTEND;TZID=America/Chicago:20230924T170000
DTSTAMP:20260423T142527
CREATED:20230725T144820Z
LAST-MODIFIED:20230725T144820Z
UID:10000439-1695456000-1695574800@brahmanevent.com
SUMMARY:Herzog Cattle "Dare to be Different" Fall Production Sale
DESCRIPTION:EventsMake plans to bid in the Herzog Cattle "Dare to be Different" Fall Production Sale!
URL:https://brahmanevent.com/event/herzog-cattle-dare-to-be-different-fall-production-sale/
LOCATION:Best Cattle Sales\, United States
CATEGORIES:Best Cattle Sales
ATTACH;FMTTYPE=image/jpeg:https://brahmanevent.com/wp-content/uploads/2020-BestCattleSales-FB-Topper.jpg
GEO:37.09024;-95.712891
END:VEVENT
BEGIN:VEVENT
DTSTART;TZID=America/Chicago:20230922T080000
DTEND;TZID=America/Chicago:20230922T170000
DTSTAMP:20260423T142527
CREATED:20230831T143442Z
LAST-MODIFIED:20230831T143442Z
UID:10000473-1695369600-1695402000@brahmanevent.com
SUMMARY:CEN-TEX Beef Symposium
DESCRIPTION:EventsMake plans to attend the CEN-TEX Beef Symposium!
URL:https://brahmanevent.com/event/cen-tex-beef-symposium/
LOCATION:Moreno Raches\, 948 FM 2307\, Riesel\, TX\, 76682\, United States
CATEGORIES:Conventions
ATTACH;FMTTYPE=image/jpeg:https://brahmanevent.com/wp-content/uploads/369935521_10162853644411521_5309162886481429265_n.jpg
ORGANIZER;CN="Texas Agrilife Extension ":MAILTO:extansc@ag.tamu.edu
END:VEVENT
BEGIN:VEVENT
DTSTART;TZID=America/Chicago:20230922T080000
DTEND;TZID=America/Chicago:20230922T170000
DTSTAMP:20260423T142527
CREATED:20230815T161017Z
LAST-MODIFIED:20230830T211537Z
UID:10000462-1695369600-1695402000@brahmanevent.com
SUMMARY:National Brahman Show in Guapiles Costa Rica
DESCRIPTION:EventsMake plans to attend the National Brahman Show in Guapiles Costa Rica with Judge: José Otávio Lemos!!
URL:https://brahmanevent.com/event/national-brahman-show-in-guapiles-costa-rica/
LOCATION:TX
CATEGORIES:International
ATTACH;FMTTYPE=image/png:https://brahmanevent.com/wp-content/uploads/image-25-1.png
END:VEVENT
BEGIN:VEVENT
DTSTART;TZID=America/Chicago:20230920T080000
DTEND;TZID=America/Chicago:20230921T170000
DTSTAMP:20260423T142527
CREATED:20230814T140736Z
LAST-MODIFIED:20230925T160858Z
UID:10000446-1695196800-1695315600@brahmanevent.com
SUMMARY:Pinnacle Brahmans Fall Online Sale
DESCRIPTION:EventsMake plans to bid in the Pinnacle Brahmans Fall Online Sale!
URL:https://brahmanevent.com/event/pinnacle-brahmans-fall-online-sale/
LOCATION:Cattle In Motion
CATEGORIES:Sales
ATTACH;FMTTYPE=image/jpeg:https://brahmanevent.com/wp-content/uploads/PinnacleBrahmans_v2-1.jpg
END:VEVENT
BEGIN:VEVENT
DTSTART;TZID=America/Chicago:20230919T080000
DTEND;TZID=America/Chicago:20230924T170000
DTSTAMP:20260423T142527
CREATED:20230821T160224Z
LAST-MODIFIED:20230821T160224Z
UID:10000465-1695110400-1695574800@brahmanevent.com
SUMMARY:VI Exposición Nacional de Razas de Origen Indiano
DESCRIPTION:EventsMake plans to attend the VI Exposición Nacional de Razas de Origen Indiano!
URL:https://brahmanevent.com/event/vi-exposicion-nacional-de-razas-de-origen-indiano/
LOCATION:TX
CATEGORIES:International
ATTACH;FMTTYPE=image/png:https://brahmanevent.com/wp-content/uploads/image-26.png
ORGANIZER;CN="Asociaci%C3%B3n Mexicana de Criadores de Ceb%C3%BA":MAILTO:info@cebumexico.com
END:VEVENT
BEGIN:VEVENT
DTSTART;TZID=America/Chicago:20230916T080000
DTEND;TZID=America/Chicago:20230917T170000
DTSTAMP:20260423T142527
CREATED:20230706T205139Z
LAST-MODIFIED:20230706T205140Z
UID:10000430-1694851200-1694970000@brahmanevent.com
SUMMARY:FJBA “Blazing Brahman Bash”
DESCRIPTION:EventsMake plans to attend the FJBA “Blazing Brahman Bash”!
URL:https://brahmanevent.com/event/fjba-blazing-brahman-bash/
LOCATION:Wauchula Cattlemen’s Arena\, Wauchula\, FL\, United States
CATEGORIES:Junior Shows
ATTACH;FMTTYPE=image/png:https://brahmanevent.com/wp-content/uploads/2021/12/Brahman-Event-logo.png
END:VEVENT
BEGIN:VEVENT
DTSTART;TZID=America/Chicago:20230916T080000
DTEND;TZID=America/Chicago:20230917T170000
DTSTAMP:20260423T142527
CREATED:20230612T134419Z
LAST-MODIFIED:20230921T225253Z
UID:10000417-1694851200-1694970000@brahmanevent.com
SUMMARY:Detering Red Brahmans Online Production Sale
DESCRIPTION:EventsJOIN US SATURDAY\, SEPTEMBER 16 FROM 10:00 AM TO 2:00 PM FOR AN OPEN HOUSE AT THE RANCH. \n\nTHREE WAYS TO WIN WITH THE 2019 HLS&R INTERNATIONAL GRAND CHAMPION BULL\, DB ATLAS 1/328! \n#1 - SIGN UP BEFORE THE SALE STARTS TO BE ELIGIBLE TO WIN ONE FREE STRAW OF DB ATLAS 1/328 SEMEN. \n#2 - BID IN THE SALE TO BE ELIGIBLE TO WIN ONE FREE STRAW OF DB ATLAS 1/328 SEMEN. EVERYONE WHO BIDS HAS A CHANCE TO WIN! \n#3 - BID OFTEN! BE ONE OF THE TOP 5 BIDDERS BY NUMBER OF BIDS DURING THE SALE AND YOU COULD WIN!
URL:https://brahmanevent.com/event/detering-red-brahmans-online-production-sale/
LOCATION:Best Cattle Sales\, United States
CATEGORIES:Best Cattle Sales
ATTACH;FMTTYPE=image/jpeg:https://brahmanevent.com/wp-content/uploads/bkgd_Detering-FB.jpg
GEO:37.09024;-95.712891
END:VEVENT
END:VCALENDAR