BEGIN:VCALENDAR
VERSION:2.0
PRODID:-//Brahman Event - ECPv6.15.15//NONSGML v1.0//EN
CALSCALE:GREGORIAN
METHOD:PUBLISH
X-ORIGINAL-URL:https://brahmanevent.com
X-WR-CALDESC:Events for Brahman Event
REFRESH-INTERVAL;VALUE=DURATION:PT1H
X-Robots-Tag:noindex
X-PUBLISHED-TTL:PT1H
BEGIN:VTIMEZONE
TZID:America/Chicago
BEGIN:DAYLIGHT
TZOFFSETFROM:-0600
TZOFFSETTO:-0500
TZNAME:CDT
DTSTART:20230312T080000
END:DAYLIGHT
BEGIN:STANDARD
TZOFFSETFROM:-0500
TZOFFSETTO:-0600
TZNAME:CST
DTSTART:20231105T070000
END:STANDARD
BEGIN:DAYLIGHT
TZOFFSETFROM:-0600
TZOFFSETTO:-0500
TZNAME:CDT
DTSTART:20240310T080000
END:DAYLIGHT
BEGIN:STANDARD
TZOFFSETFROM:-0500
TZOFFSETTO:-0600
TZNAME:CST
DTSTART:20241103T070000
END:STANDARD
BEGIN:DAYLIGHT
TZOFFSETFROM:-0600
TZOFFSETTO:-0500
TZNAME:CDT
DTSTART:20250309T080000
END:DAYLIGHT
BEGIN:STANDARD
TZOFFSETFROM:-0500
TZOFFSETTO:-0600
TZNAME:CST
DTSTART:20251102T070000
END:STANDARD
END:VTIMEZONE
BEGIN:VEVENT
DTSTART;TZID=America/Chicago:20240321T080000
DTEND;TZID=America/Chicago:20240321T170000
DTSTAMP:20260420T014503
CREATED:20231018T212316Z
LAST-MODIFIED:20240117T205531Z
UID:10000556-1711008000-1711040400@brahmanevent.com
SUMMARY:GKB Cattle Co. & Barber Ranch Spring Bull Sale
DESCRIPTION:EventsMake plans to attend the GKB Cattle Co. & Barber Ranch Spring Bull Sale! Click here to learn more!
URL:https://brahmanevent.com/event/gkb-cattle-co-barber-ranch-spring-bull-sale-2/
CATEGORIES:Sales
ATTACH;FMTTYPE=image/png:https://brahmanevent.com/wp-content/uploads/2021/12/Brahman-Event-logo.png
END:VEVENT
BEGIN:VEVENT
DTSTART;TZID=America/Chicago:20240320T080000
DTEND;TZID=America/Chicago:20240320T170000
DTSTAMP:20260420T014503
CREATED:20231003T212544Z
LAST-MODIFIED:20231003T212704Z
UID:10000497-1710921600-1710954000@brahmanevent.com
SUMMARY:2024 Miami Dade County Fair Open Brahman Show
DESCRIPTION:EventsMake plans to attend the 2024 Miami Dade County Fair Open Brahman Show! Click here to learn more.
URL:https://brahmanevent.com/event/2024-miami-dade-county-fair-open-brahman-show/
LOCATION:Miami-Dade County Fair & Expo\, 10901 SW 24 St\, Miami\, FL\, 33165\, United States
CATEGORIES:Open Shows
ATTACH;FMTTYPE=image/png:https://brahmanevent.com/wp-content/uploads/logo-no-ribbon.png
GEO:25.7467082;-80.3719312
X-APPLE-STRUCTURED-LOCATION;VALUE=URI;X-ADDRESS=Miami-Dade County Fair & Expo 10901 SW 24 St Miami FL 33165 United States;X-APPLE-RADIUS=500;X-TITLE=10901 SW 24 St:geo:-80.3719312,25.7467082
END:VEVENT
BEGIN:VEVENT
DTSTART;TZID=America/Chicago:20240317T080000
DTEND;TZID=America/Chicago:20240318T170000
DTSTAMP:20260420T014503
CREATED:20231012T164740Z
LAST-MODIFIED:20240304T165600Z
UID:10000518-1710662400-1710781200@brahmanevent.com
SUMMARY:Bulls Eye Ranch - Expect the Best Summer Born Heifer Sale
DESCRIPTION:EventsMake plans to bid in the Bulls Eye Ranch - Expect the Best Summer Born Heifer Sale!
URL:https://brahmanevent.com/event/bulls-eye-ranch-expect-the-best-summer-born-heifer-sale/
LOCATION:Best Cattle Sales\, United States
CATEGORIES:Best Cattle Sales
ATTACH;FMTTYPE=image/jpeg:https://brahmanevent.com/wp-content/uploads/2020-BestCattleSales-FB-Topper.jpg
GEO:37.09024;-95.712891
END:VEVENT
BEGIN:VEVENT
DTSTART;TZID=America/Chicago:20240316T110000
DTEND;TZID=America/Chicago:20240316T170000
DTSTAMP:20260420T014503
CREATED:20240312T210127Z
LAST-MODIFIED:20240313T140843Z
UID:10000624-1710586800-1710608400@brahmanevent.com
SUMMARY:Spanish Lookout Cattle Show 2024
DESCRIPTION:EventsMake plans to attend the Spanish Lookout Cattle Show 2024!
URL:https://brahmanevent.com/event/spanish-lookout-cattle-show-2024/
ATTACH;FMTTYPE=image/png:https://brahmanevent.com/wp-content/uploads/image-14.png
END:VEVENT
BEGIN:VEVENT
DTSTART;TZID=America/Chicago:20240316T080000
DTEND;TZID=America/Chicago:20240316T170000
DTSTAMP:20260420T014503
CREATED:20231018T211835Z
LAST-MODIFIED:20231018T211835Z
UID:10000555-1710576000-1710608400@brahmanevent.com
SUMMARY:Texas Elite F1 & Brahman Female Sale
DESCRIPTION:EventsMake plans to attend the Texas Elite F1 & Brahman Female Sale!
URL:https://brahmanevent.com/event/texas-elite-f1-brahman-female-sale-2/
LOCATION:Caldwell Livestock Commission\, 270 County Road 107\, Caldwell\, TX\, 77836\, United States
CATEGORIES:Sales
ATTACH;FMTTYPE=image/png:https://brahmanevent.com/wp-content/uploads/2021/12/Brahman-Event-logo.png
ORGANIZER;CN="Broken Triangle Cattle Company":MAILTO:milton@brokentrianglecattle.com
GEO:30.5167215;-96.6868169
X-APPLE-STRUCTURED-LOCATION;VALUE=URI;X-ADDRESS=Caldwell Livestock Commission 270 County Road 107 Caldwell TX 77836 United States;X-APPLE-RADIUS=500;X-TITLE=270 County Road 107:geo:-96.6868169,30.5167215
END:VEVENT
BEGIN:VEVENT
DTSTART;TZID=America/Chicago:20240314T170000
DTEND;TZID=America/Chicago:20240315T170000
DTSTAMP:20260420T014503
CREATED:20231221T183143Z
LAST-MODIFIED:20231221T183218Z
UID:10000597-1710435600-1710522000@brahmanevent.com
SUMMARY:Southwest Beef Symposium
DESCRIPTION:EventsMake plans to attend the Southwest Beef Symposium!
URL:https://brahmanevent.com/event/southwest-beef-symposium/
LOCATION:Roswell Convention Center\, 921 N. Main Street\, Roswell\, NM\, 88201\, United States
CATEGORIES:Conventions
ATTACH;FMTTYPE=image/jpeg:https://brahmanevent.com/wp-content/uploads/Wheres-the-Beef-Washington-County-Expo-Event-Center_Page_2-Copy.jpg
ORGANIZER;CN="Texas Agrilife Extension ":MAILTO:extansc@ag.tamu.edu
GEO:33.402378;-104.5227584
X-APPLE-STRUCTURED-LOCATION;VALUE=URI;X-ADDRESS=Roswell Convention Center 921 N. Main Street Roswell NM 88201 United States;X-APPLE-RADIUS=500;X-TITLE=921 N. Main Street:geo:-104.5227584,33.402378
END:VEVENT
BEGIN:VEVENT
DTSTART;TZID=America/Chicago:20240314T080000
DTEND;TZID=America/Chicago:20240314T170000
DTSTAMP:20260420T014503
CREATED:20231003T211854Z
LAST-MODIFIED:20231003T211854Z
UID:10000496-1710403200-1710435600@brahmanevent.com
SUMMARY:Rio Grande Valley Livestock Show - Open Brahman Show
DESCRIPTION:EventsMake plans to attend the Rio Grande Valley Livestock Show - Open Brahman Show!
URL:https://brahmanevent.com/event/rio-grande-valley-livestock-show-open-brahman-show-2/
LOCATION:Rio Grande Valley Livestock Show\, Inc.\, 1000 N Texas Ave\, Mercedes\, TX\, 78570\, United States
CATEGORIES:Open Shows
ATTACH;FMTTYPE=image/jpeg:https://brahmanevent.com/wp-content/uploads/RGV-Logo.jpg
GEO:26.1632988;-97.9140933
X-APPLE-STRUCTURED-LOCATION;VALUE=URI;X-ADDRESS=Rio Grande Valley Livestock Show Inc. 1000 N Texas Ave Mercedes TX 78570 United States;X-APPLE-RADIUS=500;X-TITLE=1000 N Texas Ave:geo:-97.9140933,26.1632988
END:VEVENT
BEGIN:VEVENT
DTSTART;TZID=America/Chicago:20240313T080000
DTEND;TZID=America/Chicago:20240313T170000
DTSTAMP:20260420T014503
CREATED:20231003T211523Z
LAST-MODIFIED:20231003T211524Z
UID:10000495-1710316800-1710349200@brahmanevent.com
SUMMARY:Rio Grande Valley Livestock Show - Junior Brahman Show
DESCRIPTION:EventsMake plans to attend the Rio Grande Valley Livestock Show - Junior Brahman Show!
URL:https://brahmanevent.com/event/rio-grande-valley-livestock-show-junior-brahman-show-2/
LOCATION:Rio Grande Valley Livestock Show\, Inc.\, 1000 N Texas Ave\, Mercedes\, TX\, 78570\, United States
CATEGORIES:Junior Shows
ATTACH;FMTTYPE=image/jpeg:https://brahmanevent.com/wp-content/uploads/RGV-Logo.jpg
GEO:26.1632988;-97.9140933
X-APPLE-STRUCTURED-LOCATION;VALUE=URI;X-ADDRESS=Rio Grande Valley Livestock Show Inc. 1000 N Texas Ave Mercedes TX 78570 United States;X-APPLE-RADIUS=500;X-TITLE=1000 N Texas Ave:geo:-97.9140933,26.1632988
END:VEVENT
BEGIN:VEVENT
DTSTART;TZID=America/Chicago:20240308T080000
DTEND;TZID=America/Chicago:20240317T170000
DTSTAMP:20260420T014503
CREATED:20240204T204345Z
LAST-MODIFIED:20240304T231907Z
UID:10000605-1709884800-1710694800@brahmanevent.com
SUMMARY:Feria Agropecuaria Nacional 2024
DESCRIPTION:EventsMake plans to attend the Feria Agropecuaria Nacional 2024 in the Dominican Republic!
URL:https://brahmanevent.com/event/feria-agropecuaria-nacional-2024/
CATEGORIES:International
ATTACH;FMTTYPE=image/jpeg:https://brahmanevent.com/wp-content/uploads/WhatsApp-Image-2024-01-31-at-08.19.44_af30fb9e.jpg
END:VEVENT
BEGIN:VEVENT
DTSTART;TZID=America/Chicago:20240307T080000
DTEND;TZID=America/Chicago:20240308T170000
DTSTAMP:20260420T014503
CREATED:20240221T155121Z
LAST-MODIFIED:20240305T193423Z
UID:10000618-1709798400-1709917200@brahmanevent.com
SUMMARY:2024 Southwest Beef Symposium
DESCRIPTION:EventsMake plans to attend the 2024 Southwest Beef Symposium! Click here for more information.
URL:https://brahmanevent.com/event/2024-southwest-beef-symposium/
LOCATION:Roswell Civic Center\, 912 N Main Street\, Roswell\, NM\, 88201\, United States
CATEGORIES:Conventions,Social Events
ATTACH;FMTTYPE=image/jpeg:https://brahmanevent.com/wp-content/uploads/SWBS-2024-Flyer-4-1.jpg
ORGANIZER;CN="Texas Agrilife Extension ":MAILTO:extansc@ag.tamu.edu
END:VEVENT
BEGIN:VEVENT
DTSTART;TZID=America/Chicago:20240306T080000
DTEND;TZID=America/Chicago:20240306T170000
DTSTAMP:20260420T014503
CREATED:20231003T210203Z
LAST-MODIFIED:20231003T210203Z
UID:10000493-1709712000-1709744400@brahmanevent.com
SUMMARY:HLS&R Junior Breeding Heifer Show - Grey Brahman
DESCRIPTION:EventsMake plans to attend the HLS&R Junior Breeding Heifer Show! To view the current schedule\, click here.
URL:https://brahmanevent.com/event/hlsr-junior-breeding-heifer-show-grey-brahman/
LOCATION:Reliant Center\, 8334 Fannin Street \, Houston\, TX\, 77054\, United States
CATEGORIES:Junior Shows
ATTACH;FMTTYPE=image/jpeg:https://brahmanevent.com/wp-content/uploads/HLSR-Logo-.jpg
ORGANIZER;CN="Houston Livestock & Rodeo":MAILTO:questions@rodeohouston.com
GEO:29.6871556;-95.4054645
X-APPLE-STRUCTURED-LOCATION;VALUE=URI;X-ADDRESS=Reliant Center 8334 Fannin Street  Houston TX 77054 United States;X-APPLE-RADIUS=500;X-TITLE=8334 Fannin Street:geo:-95.4054645,29.6871556
END:VEVENT
BEGIN:VEVENT
DTSTART;TZID=America/Chicago:20240305T080000
DTEND;TZID=America/Chicago:20240305T170000
DTSTAMP:20260420T014503
CREATED:20231003T210927Z
LAST-MODIFIED:20231003T210927Z
UID:10000494-1709625600-1709658000@brahmanevent.com
SUMMARY:HLS&R Junior Breeding Heifer Show - Red Brahman
DESCRIPTION:EventsMake plans to attend the HLS&R Junior Breeding Heifer Show! To view the current schedule\, click here.
URL:https://brahmanevent.com/event/hlsr-junior-breeding-heifer-show-red-brahman-2/
LOCATION:Reliant Center\, 8334 Fannin Street \, Houston\, TX\, 77054\, United States
CATEGORIES:Junior Shows
ATTACH;FMTTYPE=image/jpeg:https://brahmanevent.com/wp-content/uploads/HLSR-Logo-.jpg
ORGANIZER;CN="Houston Livestock & Rodeo":MAILTO:questions@rodeohouston.com
GEO:29.6871556;-95.4054645
X-APPLE-STRUCTURED-LOCATION;VALUE=URI;X-ADDRESS=Reliant Center 8334 Fannin Street  Houston TX 77054 United States;X-APPLE-RADIUS=500;X-TITLE=8334 Fannin Street:geo:-95.4054645,29.6871556
END:VEVENT
BEGIN:VEVENT
DTSTART;TZID=America/Chicago:20240303T100000
DTEND;TZID=America/Chicago:20240303T170000
DTSTAMP:20260420T014503
CREATED:20240220T223928Z
LAST-MODIFIED:20240220T224133Z
UID:10000614-1709460000-1709485200@brahmanevent.com
SUMMARY:Open House - Santa Elena Ranch
DESCRIPTION:EventsMake plans to attend the Open House from Santa Elena Ranch! Click here for more information.
URL:https://brahmanevent.com/event/open-house-santa-elena-ranch/
LOCATION:Madisonville\, Texas\, 7020 Hwy 75 South\, Madisonville\, Texas\, United States
CATEGORIES:Social Events
ATTACH;FMTTYPE=image/jpeg:https://brahmanevent.com/wp-content/uploads/Santa-Elena-calendar-scaled.jpg
ORGANIZER;CN="Alfredo & Josephine Muskus":MAILTO:amuskus@santaelenaranch.com
END:VEVENT
BEGIN:VEVENT
DTSTART;TZID=America/Chicago:20240303T080000
DTEND;TZID=America/Chicago:20240303T170000
DTSTAMP:20260420T014503
CREATED:20230425T134749Z
LAST-MODIFIED:20240115T224948Z
UID:10000389-1709452800-1709485200@brahmanevent.com
SUMMARY:ANNUAL ST GENETICS BRAHMAN & HK CATTLE SPRING PRODUCTION SALE
DESCRIPTION:EventsMake plans to bid in the ANNUAL ST GENETICS BRAHMAN & HK CATTLE SPRING PRODUCTION SALE!
URL:https://brahmanevent.com/event/annual-st-genetics-brahman-hk-cattle-spring-production-sale/
LOCATION:Best Cattle Sales\, United States
CATEGORIES:Best Cattle Sales
ATTACH;FMTTYPE=image/jpeg:https://brahmanevent.com/wp-content/uploads/ST-genetics_v1.jpg
GEO:37.09024;-95.712891
END:VEVENT
BEGIN:VEVENT
DTSTART;TZID=America/Chicago:20240302T160000
DTEND;TZID=America/Chicago:20240302T200000
DTSTAMP:20260420T014503
CREATED:20231023T220027Z
LAST-MODIFIED:20231218T172007Z
UID:10000564-1709395200-1709409600@brahmanevent.com
SUMMARY:Rio Ranch Cattle & Equine Social
DESCRIPTION:EventsMake plans to attend the Rio Ranch Cattle & Equine Social!
URL:https://brahmanevent.com/event/rio-ranch-cattle-equine-social/
LOCATION:Rio Ranch\, 39606 FM 1736\, Hempstead\, TX\, 77445\, United States
CATEGORIES:Social Events
ATTACH;FMTTYPE=image/jpeg:https://brahmanevent.com/wp-content/uploads/Rio-Ranch_Calendar_V2.jpg
END:VEVENT
BEGIN:VEVENT
DTSTART;TZID=America/Chicago:20240302T130000
DTEND;TZID=America/Chicago:20240302T160000
DTSTAMP:20260420T014503
CREATED:20230623T215313Z
LAST-MODIFIED:20240116T200726Z
UID:10000422-1709384400-1709395200@brahmanevent.com
SUMMARY:International Field Day at Heritage Cattle Company
DESCRIPTION:EventsInvitation from the Cullers Family: \nDear Esteemed Brahman Breeders\, \nWe are thrilled to extend an invitation to Brahman breeders from around the world to join us for an enriching and inspiring event - the 2024 International Field Day\, featuring Women in Agriculture\, hosted at Heritage Cattle Company. This promises to be a unique gathering that celebrates the role of women in agriculture and provides valuable insights into the world of Brahman breeding. \nAgenda Highlights: \n\nWelcome and Ranch Tour: Immerse yourself in the beauty of our ranch as we kick off the day with a warm welcome and a self-guided tour of our Brahman breeding facilities.\n\n\nWomen in Agriculture Panel: Engage in thought-provoking discussions with our distinguished panel of women in agriculture who have made significant contributions to the industry. Gain insights into their experiences\, challenges\, and successes.\n\n\nBrahman Champion of the World Presentation: Congratulate the winners of the 2023 Brahman Champion of the World Contest\, as PJ Budler conveys awards to both BR Cutrer and Rancho Chapopote.\n\n\nBrahman Structure and Confirmation Workshop: Learn from Brahman expert\, Dr. Joe Pascal\, as he shares his expertise and best practices in selection through a live animal demonstration.\n\n\nNetworking: Enjoy delicious snacks and drinks while connecting with fellow breeders\, exchanging ideas\, and fostering international collaborations.\n\n\nQ&A Session: Have your burning questions answered by our panelists and experts during an interactive question and answer session.\n\nEvent Focus: Spend the afternoon with an informal social gathering\, fostering camaraderie and friendships within the global Brahman breeding community. \nAttire: Casual and comfortable attire\, suitable for a day outdoors. \nWe look forward to welcoming you to our Ranch for an afternoon filled with education\, networking\, and celebration of the remarkable contributions of women in agriculture. Let us know if you have questions or how we can be of assistance. \nBest Regards\, \nJudd & Gayla Cullers and family \nHeritage Cattle Company \nWhatsApp: 979-559-0118 \nEmail: office@heritagecattle.com
URL:https://brahmanevent.com/event/international-field-day-at-heritage-cattle-company/
LOCATION:Heritage Cattle Company\, 1832 FM 1161 West\, Wharton\, TX\, 77448\, United States
CATEGORIES:International,Meetings
ATTACH;FMTTYPE=image/jpeg:https://brahmanevent.com/wp-content/uploads/HeritageCattle_Badge_Logo-01.jpg
ORGANIZER;CN="Heritage Cattle Company":MAILTO:heritagecattle1@yahoo.com
GEO:29.3996707;-96.105873
X-APPLE-STRUCTURED-LOCATION;VALUE=URI;X-ADDRESS=Heritage Cattle Company 1832 FM 1161 West Wharton TX 77448 United States;X-APPLE-RADIUS=500;X-TITLE=1832 FM 1161 West:geo:-96.105873,29.3996707
END:VEVENT
BEGIN:VEVENT
DTSTART;TZID=America/Chicago:20240302T080000
DTEND;TZID=America/Chicago:20240302T170000
DTSTAMP:20260420T014503
CREATED:20231211T221636Z
LAST-MODIFIED:20231211T221637Z
UID:10000591-1709366400-1709398800@brahmanevent.com
SUMMARY:South Texas Cattle Marketing - Cattlemen's Opportunity Female Sale
DESCRIPTION:EventsMake plans to bid in the South Texas Cattle Marketing - Cattlemen's Opportunity Female Sale!
URL:https://brahmanevent.com/event/south-texas-cattle-marketing-cattlemens-opportunity-female-sale/
LOCATION:Nixon Livestock Commission\, 1924 U.S. 87\, Nixon\, TX\, 78140\, United States
CATEGORIES:Sales
ATTACH;FMTTYPE=image/png:https://brahmanevent.com/wp-content/uploads/image-52.png
ORGANIZER;CN="South Texas Cattle Marketing":MAILTO:southtexascattle@sbcglobal.net
GEO:29.2621164;-97.7623221
X-APPLE-STRUCTURED-LOCATION;VALUE=URI;X-ADDRESS=Nixon Livestock Commission 1924 U.S. 87 Nixon TX 78140 United States;X-APPLE-RADIUS=500;X-TITLE=1924 U.S. 87:geo:-97.7623221,29.2621164
END:VEVENT
BEGIN:VEVENT
DTSTART;TZID=America/Chicago:20240302T080000
DTEND;TZID=America/Chicago:20240302T170000
DTSTAMP:20260420T014503
CREATED:20230821T190844Z
LAST-MODIFIED:20240118T174306Z
UID:10000466-1709366400-1709398800@brahmanevent.com
SUMMARY:J.D. Hudgins “Wine Down”
DESCRIPTION:EventsMake plans to attend the J.D. Hudgins “Wine Down”!
URL:https://brahmanevent.com/event/j-d-hudgins-wine-down-2/
LOCATION:J.D. Hudgins Sale Pens\, CR 215\, Hungerford\, TX\, 77448\, United States
CATEGORIES:Social Events
ATTACH;FMTTYPE=image/jpeg:https://brahmanevent.com/wp-content/uploads/Hudgins_v3.jpg
ORGANIZER;CN="J.D. Hudgins%2C Inc.":MAILTO:manso@jdhudgins.com
GEO:29.426642;-96.0912844
X-APPLE-STRUCTURED-LOCATION;VALUE=URI;X-ADDRESS=J.D. Hudgins Sale Pens CR 215 Hungerford TX 77448 United States;X-APPLE-RADIUS=500;X-TITLE=CR 215:geo:-96.0912844,29.426642
END:VEVENT
BEGIN:VEVENT
DTSTART;TZID=America/Chicago:20240301T163000
DTEND;TZID=America/Chicago:20240301T183000
DTSTAMP:20260420T014503
CREATED:20240204T204635Z
LAST-MODIFIED:20240205T150315Z
UID:10000606-1709310600-1709317800@brahmanevent.com
SUMMARY:SFG Cattle Company Stall Social
DESCRIPTION:EventsMake plans to attend the SFG Cattle Company Stall Social!
URL:https://brahmanevent.com/event/sfg-cattle-company-stall-social/
LOCATION:Reliant Center\, 8334 Fannin Street \, Houston\, TX\, 77054\, United States
CATEGORIES:Social Events
ATTACH;FMTTYPE=image/jpeg:https://brahmanevent.com/wp-content/uploads/IMG_1463.jpg
GEO:29.6871556;-95.4054645
X-APPLE-STRUCTURED-LOCATION;VALUE=URI;X-ADDRESS=Reliant Center 8334 Fannin Street  Houston TX 77054 United States;X-APPLE-RADIUS=500;X-TITLE=8334 Fannin Street:geo:-95.4054645,29.6871556
END:VEVENT
BEGIN:VEVENT
DTSTART;TZID=America/Chicago:20240301T080000
DTEND;TZID=America/Chicago:20240302T170000
DTSTAMP:20260420T014503
CREATED:20240220T182633Z
LAST-MODIFIED:20240220T191050Z
UID:10000610-1709280000-1709398800@brahmanevent.com
SUMMARY:Red Carpet Frozen Genetics Sale
DESCRIPTION:EventsMake plans to attend the Red Carpet Frozen Genetics Sale! Click here for more information.
URL:https://brahmanevent.com/event/2024-red-carpet-frozen-genetics-sale/
LOCATION:DVAuction\, 112 S Birch\, Norfolk\, NE\, 68701\, United States
CATEGORIES:Online Events,Sales
ATTACH;FMTTYPE=image/png:https://brahmanevent.com/wp-content/uploads/image-8-1.png
ORGANIZER;CN="DVAuction":MAILTO:dva@dvauction.com
END:VEVENT
BEGIN:VEVENT
DTSTART;TZID=America/Chicago:20240301T080000
DTEND;TZID=America/Chicago:20240301T170000
DTSTAMP:20260420T014503
CREATED:20231018T211153Z
LAST-MODIFIED:20231018T211155Z
UID:10000552-1709280000-1709312400@brahmanevent.com
SUMMARY:Heritage Cattle Company First Friday Genetic Drop
DESCRIPTION:EventsDon't miss the Heritage Cattle Company First Friday Genetic Drop!
URL:https://brahmanevent.com/event/heritage-cattle-company-first-friday-genetic-drop-10-2/
CATEGORIES:Online Events,Sales
ATTACH;FMTTYPE=image/jpeg:https://brahmanevent.com/wp-content/uploads/HeritageCattle_Badge_Logo-01.jpg
ORGANIZER;CN="Heritage Cattle Company":MAILTO:heritagecattle1@yahoo.com
END:VEVENT
BEGIN:VEVENT
DTSTART;TZID=America/Chicago:20240228T160000
DTEND;TZID=America/Chicago:20240228T210000
DTSTAMP:20260420T014503
CREATED:20240115T224733Z
LAST-MODIFIED:20240206T190639Z
UID:10000600-1709136000-1709154000@brahmanevent.com
SUMMARY:ABBA International Brahman Sale
DESCRIPTION:EventsMake plans to attend the ABBA International Brahman Sale! Click here to view the sale catalog!
URL:https://brahmanevent.com/event/abba-international-brahman-sale/
LOCATION:Reliant Center\, 8334 Fannin Street \, Houston\, TX\, 77054\, United States
CATEGORIES:Sales
ATTACH;FMTTYPE=image/jpeg:https://brahmanevent.com/wp-content/uploads/InternationalSale_v1.jpg
ORGANIZER;CN="ABBA":MAILTO:abba@brahman.org
GEO:29.6871556;-95.4054645
X-APPLE-STRUCTURED-LOCATION;VALUE=URI;X-ADDRESS=Reliant Center 8334 Fannin Street  Houston TX 77054 United States;X-APPLE-RADIUS=500;X-TITLE=8334 Fannin Street:geo:-95.4054645,29.6871556
END:VEVENT
BEGIN:VEVENT
DTSTART;TZID=America/Chicago:20240228T100000
DTEND;TZID=America/Chicago:20240228T120000
DTSTAMP:20260420T014503
CREATED:20240116T221934Z
LAST-MODIFIED:20240116T222157Z
UID:10000601-1709114400-1709121600@brahmanevent.com
SUMMARY:England Cattle Co. "Brunch with Brahmans"
DESCRIPTION:EventsMake plans to attend the England Cattle Co. "Brunch with Brahmans"!
URL:https://brahmanevent.com/event/england-cattle-co-brunch-with-brahmans-2/
LOCATION:NRG Center\, 1 Reliant Pkwy\, Houston\, TX\, 77054\, United States
CATEGORIES:Social Events
ATTACH;FMTTYPE=image/jpeg:https://brahmanevent.com/wp-content/uploads/England_v1-1.jpg
GEO:29.6848334;-95.4081877
X-APPLE-STRUCTURED-LOCATION;VALUE=URI;X-ADDRESS=NRG Center 1 Reliant Pkwy Houston TX 77054 United States;X-APPLE-RADIUS=500;X-TITLE=1 Reliant Pkwy:geo:-95.4081877,29.6848334
END:VEVENT
BEGIN:VEVENT
DTSTART;TZID=America/Chicago:20240228T080000
DTEND;TZID=America/Chicago:20240228T170000
DTSTAMP:20260420T014503
CREATED:20231012T172037Z
LAST-MODIFIED:20231211T230053Z
UID:10000524-1709107200-1709139600@brahmanevent.com
SUMMARY:2024 HLS&R All Breeds Bull & Female Sale
DESCRIPTION:EventsMake plans to bid in the 2024 All Breeds Registered Range Bull & Commercial Female Sale! Click here to learn more.
URL:https://brahmanevent.com/event/2024-hlsr-all-breeds-bull-female-sale/
LOCATION:NRG Center\, 1 Reliant Pkwy\, Houston\, TX\, 77054\, United States
CATEGORIES:Sales
ATTACH;FMTTYPE=image/jpeg:https://brahmanevent.com/wp-content/uploads/HLSR-Logo-.jpg
GEO:29.6848334;-95.4081877
X-APPLE-STRUCTURED-LOCATION;VALUE=URI;X-ADDRESS=NRG Center 1 Reliant Pkwy Houston TX 77054 United States;X-APPLE-RADIUS=500;X-TITLE=1 Reliant Pkwy:geo:-95.4081877,29.6848334
END:VEVENT
BEGIN:VEVENT
DTSTART;TZID=America/Chicago:20240228T080000
DTEND;TZID=America/Chicago:20240228T170000
DTSTAMP:20260420T014503
CREATED:20230623T215930Z
LAST-MODIFIED:20230623T215931Z
UID:10000423-1709107200-1709139600@brahmanevent.com
SUMMARY:ABBA Annual Membership Meeting
DESCRIPTION:EventsDon't miss the ABBA Annual Membership Meeting!
URL:https://brahmanevent.com/event/abba-annual-membership-meeting-3/
LOCATION:NRG Center\, 1 Reliant Pkwy\, Houston\, TX\, 77054\, United States
CATEGORIES:Meetings
ATTACH;FMTTYPE=image/jpeg:https://brahmanevent.com/wp-content/uploads/2021/08/ABBA.jpg
ORGANIZER;CN="ABBA":MAILTO:abba@brahman.org
GEO:29.6848334;-95.4081877
X-APPLE-STRUCTURED-LOCATION;VALUE=URI;X-ADDRESS=NRG Center 1 Reliant Pkwy Houston TX 77054 United States;X-APPLE-RADIUS=500;X-TITLE=1 Reliant Pkwy:geo:-95.4081877,29.6848334
END:VEVENT
BEGIN:VEVENT
DTSTART;TZID=America/Chicago:20240227T160000
DTEND;TZID=America/Chicago:20240227T180000
DTSTAMP:20260420T014503
CREATED:20240119T214458Z
LAST-MODIFIED:20240119T214458Z
UID:10000603-1709049600-1709056800@brahmanevent.com
SUMMARY:Razorback Farms Stall Party
DESCRIPTION:EventsMake plans to attend the Razorback Farms Stall Party\, during the 2024 HLS&R!
URL:https://brahmanevent.com/event/razorback-farms-stall-party/
LOCATION:Reliant Center\, 8334 Fannin Street \, Houston\, TX\, 77054\, United States
CATEGORIES:Social Events
ATTACH;FMTTYPE=image/jpeg:https://brahmanevent.com/wp-content/uploads/419104539_918331936706321_4478956148616623429_n-1.jpg
GEO:29.6871556;-95.4054645
X-APPLE-STRUCTURED-LOCATION;VALUE=URI;X-ADDRESS=Reliant Center 8334 Fannin Street  Houston TX 77054 United States;X-APPLE-RADIUS=500;X-TITLE=8334 Fannin Street:geo:-95.4054645,29.6871556
END:VEVENT
BEGIN:VEVENT
DTSTART;TZID=America/Chicago:20240226T000000
DTEND;TZID=America/Chicago:20240301T235900
DTSTAMP:20260420T014503
CREATED:20240204T202914Z
LAST-MODIFIED:20240204T202915Z
UID:10000143-1708905600-1709337540@brahmanevent.com
SUMMARY:HLS&R International Brahman Show
DESCRIPTION:EventsJoin us at the legendary Houston Livestock Show and Rodeo in 2024! \nMONDAY\, FEBRUARY 26 - CATTLE MOVE IN\nTUESDAY\, FEBRUARY 27\n10:00 AM – Weights & Measures & Color Classification – Main Arena\n7:00 PM – 100 Year Anniversary Welcome Celebration – Main Arena\nWEDNESDAY\, FEBRUARY 28\n9:00 AM – ABBA 100th Annual Membership Meeting – NRG Center 2nd Floor\n2:00 PM – International Brahman Show Group Classes followed by\nthe Female Calf Division and Female Junior Yearling Division\n(first two divisions)– Main Arena\n6:30 PM – ABBA Meet & Greet – Sale Pavilion\n7:00 PM – International Sale – Sale Pavilion\nTHURSDAY\, FEBRUARY 29\n8:00 AM – International Brahman Female Show – Main Arena\n7:00 PM – 100 Year Anniversary Celebration Gala –\nJ.W. Marriot Galleria Grand Ballroom\nFRIDAY\, MARCH 1\n10:00 AM – International Brahman Bull Show – Main Arena\n2:00 PM – ABBA 100 Year Birthday Cake Cutting Ceremony – Main Arena\nSATURDAY\, MARCH 2 – MOVE OUT \nClick here for the Houston Livestock Show and Rodeo International Guest Registration
URL:https://brahmanevent.com/event/hlsr-international-brahman-show-2/
LOCATION:NRG Center\, 1 Reliant Pkwy\, Houston\, TX\, 77054\, United States
CATEGORIES:Open Shows
ATTACH;FMTTYPE=image/jpeg:https://brahmanevent.com/wp-content/uploads/HLSR-Logo-.jpg
ORGANIZER;CN="Houston Livestock & Rodeo":MAILTO:questions@rodeohouston.com
GEO:29.6848334;-95.4081877
X-APPLE-STRUCTURED-LOCATION;VALUE=URI;X-ADDRESS=NRG Center 1 Reliant Pkwy Houston TX 77054 United States;X-APPLE-RADIUS=500;X-TITLE=1 Reliant Pkwy:geo:-95.4081877,29.6848334
END:VEVENT
BEGIN:VEVENT
DTSTART;TZID=America/Chicago:20240220T080000
DTEND;TZID=America/Chicago:20240220T170000
DTSTAMP:20260420T014503
CREATED:20231003T205437Z
LAST-MODIFIED:20231003T205437Z
UID:10000492-1708416000-1708448400@brahmanevent.com
SUMMARY:2024 San Antonio Stock Show and Rodeo - Junior Market Steer Show
DESCRIPTION:EventsMake plans to attend the San Antonio Stock Show and Rodeo - Junior Market Steer Show! Click here to view the current schedule.
URL:https://brahmanevent.com/event/2024-san-antonio-stock-show-and-rodeo-junior-market-steer-show/
LOCATION:San Antonio Livestock Show & Rodeo\, 3201 E Houston St\, San Antonio\, TX\, 78219\, United States
CATEGORIES:Junior Shows
ATTACH;FMTTYPE=image/png:https://brahmanevent.com/wp-content/uploads/SanAntonio-Logo-FullColor.png
ORGANIZER;CN="San Antonio Livestock Show & Rodeo":MAILTO: livestock@sarodeo.com
GEO:29.428999;-98.4386199
X-APPLE-STRUCTURED-LOCATION;VALUE=URI;X-ADDRESS=San Antonio Livestock Show & Rodeo 3201 E Houston St San Antonio TX 78219 United States;X-APPLE-RADIUS=500;X-TITLE=3201 E Houston St:geo:-98.4386199,29.428999
END:VEVENT
BEGIN:VEVENT
DTSTART;TZID=America/Chicago:20240215T080000
DTEND;TZID=America/Chicago:20240216T170000
DTSTAMP:20260420T014503
CREATED:20230623T215045Z
LAST-MODIFIED:20240124T215838Z
UID:10000421-1707984000-1708102800@brahmanevent.com
SUMMARY:Heritage Cattle Co. Online Bull Sale
DESCRIPTION:EventsMake plans to bid in the Heritage Cattle Co. Online Bull Sale!
URL:https://brahmanevent.com/event/heritage-cattle-co-online-bull-sale/
LOCATION:Best Cattle Sales\, United States
CATEGORIES:Best Cattle Sales,Sales
ATTACH;FMTTYPE=image/jpeg:https://brahmanevent.com/wp-content/uploads/2020-BestCattleSales-FB-Topper.jpg
ORGANIZER;CN="Heritage Cattle Company":MAILTO:heritagecattle1@yahoo.com
GEO:37.09024;-95.712891
END:VEVENT
BEGIN:VEVENT
DTSTART;TZID=America/Chicago:20240214T080000
DTEND;TZID=America/Chicago:20240215T170000
DTSTAMP:20260420T014503
CREATED:20240115T224154Z
LAST-MODIFIED:20240115T224155Z
UID:10000599-1707897600-1708016400@brahmanevent.com
SUMMARY:KI Cattle Co. Sweetheart of a Sale
DESCRIPTION:EventsMake plans to bid in the KI Cattle Co. Sweetheart of a Sale!
URL:https://brahmanevent.com/event/ki-cattle-co-sweetheart-of-a-sale/
CATEGORIES:Sales
ATTACH;FMTTYPE=image/jpeg:https://brahmanevent.com/wp-content/uploads/Ki_v2-1-1.jpg
ORGANIZER;CN="KI Cattle Co":MAILTO:jake@kicattle.com
END:VEVENT
END:VCALENDAR