BEGIN:VCALENDAR
VERSION:2.0
PRODID:-//Brahman Event - ECPv6.15.15//NONSGML v1.0//EN
CALSCALE:GREGORIAN
METHOD:PUBLISH
X-WR-CALNAME:Brahman Event
X-ORIGINAL-URL:https://brahmanevent.com
X-WR-CALDESC:Events for Brahman Event
REFRESH-INTERVAL;VALUE=DURATION:PT1H
X-Robots-Tag:noindex
X-PUBLISHED-TTL:PT1H
BEGIN:VTIMEZONE
TZID:America/Chicago
BEGIN:DAYLIGHT
TZOFFSETFROM:-0600
TZOFFSETTO:-0500
TZNAME:CDT
DTSTART:20230312T080000
END:DAYLIGHT
BEGIN:STANDARD
TZOFFSETFROM:-0500
TZOFFSETTO:-0600
TZNAME:CST
DTSTART:20231105T070000
END:STANDARD
BEGIN:DAYLIGHT
TZOFFSETFROM:-0600
TZOFFSETTO:-0500
TZNAME:CDT
DTSTART:20240310T080000
END:DAYLIGHT
BEGIN:STANDARD
TZOFFSETFROM:-0500
TZOFFSETTO:-0600
TZNAME:CST
DTSTART:20241103T070000
END:STANDARD
BEGIN:DAYLIGHT
TZOFFSETFROM:-0600
TZOFFSETTO:-0500
TZNAME:CDT
DTSTART:20250309T080000
END:DAYLIGHT
BEGIN:STANDARD
TZOFFSETFROM:-0500
TZOFFSETTO:-0600
TZNAME:CST
DTSTART:20251102T070000
END:STANDARD
END:VTIMEZONE
BEGIN:VEVENT
DTSTART;TZID=America/Chicago:20240427T080000
DTEND;TZID=America/Chicago:20240427T170000
DTSTAMP:20260419T222348
CREATED:20231018T215542Z
LAST-MODIFIED:20240314T214848Z
UID:10000560-1714204800-1714237200@brahmanevent.com
SUMMARY:Deep South Brahman Association; Brahman & F-1 Sale
DESCRIPTION:EventsMake plans to bid in the Deep South Brahman Association; Brahman & F-1 Sale!
URL:https://brahmanevent.com/event/deep-south-brahman-association-brahman-f-1-sale-3/
LOCATION:Cattle In Motion
CATEGORIES:Sales
ATTACH;FMTTYPE=image/jpeg:https://brahmanevent.com/wp-content/uploads/Deepsouth.jpg
ORGANIZER;CN="Infinity Cattle Service":MAILTO:infinitycattleservices@gmail.com
END:VEVENT
BEGIN:VEVENT
DTSTART;TZID=America/Chicago:20240426T080000
DTEND;TZID=America/Chicago:20240426T170000
DTSTAMP:20260419T222348
CREATED:20240403T155347Z
LAST-MODIFIED:20240403T155348Z
UID:10000636-1714118400-1714150800@brahmanevent.com
SUMMARY:Herzog Cattle - Dare to Be Different Sale Vol. 3
DESCRIPTION:EventsMake plans to bid in the Herzog Cattle - Dare to Be Different Sale Vol. 3!
URL:https://brahmanevent.com/event/herzog-cattle-dare-to-be-different-sale-vol-3/
LOCATION:Best Cattle Sales\, United States
CATEGORIES:Best Cattle Sales
ATTACH;FMTTYPE=image/jpeg:https://brahmanevent.com/wp-content/uploads/2020-BestCattleSales-FB-Topper.jpg
GEO:37.09024;-95.712891
END:VEVENT
BEGIN:VEVENT
DTSTART;TZID=America/Chicago:20240422T080000
DTEND;TZID=America/Chicago:20240423T170000
DTSTAMP:20260419T222348
CREATED:20240314T143424Z
LAST-MODIFIED:20240314T150255Z
UID:10000630-1713772800-1713891600@brahmanevent.com
SUMMARY:BRC Ranch Performance Bull Sale
DESCRIPTION:EventsMake plans to bid in the BRC Ranch Performance Bull Sale! For more information and to contact BRC\, click here.
URL:https://brahmanevent.com/event/brc-ranch-performance-bull-sale-2/
LOCATION:DV Auction\, United States
CATEGORIES:Sales
ATTACH;FMTTYPE=image/png:https://brahmanevent.com/wp-content/uploads/BRC-BullLogo-2-FINAL.png
ORGANIZER;CN="BR Cutrer":MAILTO:rachel@brcutrer.com
END:VEVENT
BEGIN:VEVENT
DTSTART;TZID=America/Chicago:20240421T080000
DTEND;TZID=America/Chicago:20240428T170000
DTSTAMP:20260419T222348
CREATED:20240220T220719Z
LAST-MODIFIED:20240305T210305Z
UID:10000612-1713686400-1714323600@brahmanevent.com
SUMMARY:XXVI Exposición Nacional Brahman
DESCRIPTION:EventsMake plans to attend the XXVI Exposición Nacional Brahman! Click here for more information.
URL:https://brahmanevent.com/event/xxvi-exposicion-nacional-brahman/
LOCATION:Villahermosa\, Tabasco\, Villahermosa\, Tabasco\, Mexico
CATEGORIES:International,Open Shows
ATTACH;FMTTYPE=image/jpeg:https://brahmanevent.com/wp-content/uploads/AMCC-Calendar-scaled.jpg
ORGANIZER;CN="Asociaci%C3%B3n Mexicana de Criadores de Ceb%C3%BA":MAILTO:info@cebumexico.com
GEO:17.989456;-92.9475061
END:VEVENT
BEGIN:VEVENT
DTSTART;TZID=America/Chicago:20240421T080000
DTEND;TZID=America/Chicago:20240422T170000
DTSTAMP:20260419T222348
CREATED:20231012T171242Z
LAST-MODIFIED:20240318T182722Z
UID:10000521-1713686400-1713805200@brahmanevent.com
SUMMARY:2024 AT Brahmans Show Prospect and Genetic Online Sale
DESCRIPTION:EventsMake plans to bid in the 2024 AT Brahmans Show Prospect and Genetic Online Sale!
URL:https://brahmanevent.com/event/2024-at-brahmans-show-prospect-and-genetic-online-sale/
LOCATION:Best Cattle Sales\, United States
CATEGORIES:Best Cattle Sales
ATTACH;FMTTYPE=image/jpeg:https://brahmanevent.com/wp-content/uploads/AT_v3.jpg
GEO:37.09024;-95.712891
END:VEVENT
BEGIN:VEVENT
DTSTART;TZID=America/Chicago:20240420T080000
DTEND;TZID=America/Chicago:20240420T170000
DTSTAMP:20260419T222348
CREATED:20240408T224339Z
LAST-MODIFIED:20240408T224339Z
UID:10000641-1713600000-1713632400@brahmanevent.com
SUMMARY:BRC Showmanship Camp
DESCRIPTION:EventsMake plans to attend the BRC Showmanship Camp!
URL:https://brahmanevent.com/event/brc-showmanship-camp-2/
LOCATION:B.R. Cutrer\, Inc.\, Boling\, TX\, United States
CATEGORIES:Clinic
ATTACH;FMTTYPE=image/jpeg:https://brahmanevent.com/wp-content/uploads/IMG_2498.jpg
GEO:29.2569227;-95.9462552
END:VEVENT
BEGIN:VEVENT
DTSTART;TZID=America/Chicago:20240419T080000
DTEND;TZID=America/Chicago:20240420T170000
DTSTAMP:20260419T222348
CREATED:20231012T173658Z
LAST-MODIFIED:20240305T205319Z
UID:10000528-1713513600-1713632400@brahmanevent.com
SUMMARY:Florida Brahman Field Day and Heifer Sale
DESCRIPTION:EventsJoin us at The University of Florida in Gainesville\, FL for the Florida Brahman Field Day and Heifer Sale \nVisit the Florida Brahman Assoc. website to see the replacement heifers and show prospects from some of Florida's top herds. The females are gentle; halter and kid broke!
URL:https://brahmanevent.com/event/florida-brahman-field-day-and-heifer-sale-2/
LOCATION:University of Florida\, Gainesville\, FL\, 32611\, United States
CATEGORIES:Meetings,Sales
ATTACH;FMTTYPE=image/jpeg:https://brahmanevent.com/wp-content/uploads/FBA_v1-1.jpg
ORGANIZER;CN="Florida Brahman Association":MAILTO:info@floridabrahman.org
GEO:29.6130239;-82.371937
END:VEVENT
BEGIN:VEVENT
DTSTART;TZID=America/Chicago:20240417T080000
DTEND;TZID=America/Chicago:20240418T170000
DTSTAMP:20260419T222348
CREATED:20240318T180741Z
LAST-MODIFIED:20240403T174907Z
UID:10000631-1713340800-1713459600@brahmanevent.com
SUMMARY:MF Ranch Spring Fling Online Show Heifer Sale
DESCRIPTION:EventsMake plans to bid in the MF Ranch Spring Fling Online Show Heifer Sale! Click here to learn more.
URL:https://brahmanevent.com/event/mf-ranch-spring-fling-online-show-heifer-sale/
LOCATION:Cattle In Motion
CATEGORIES:Online Events,Sales
ATTACH;FMTTYPE=image/png:https://brahmanevent.com/wp-content/uploads/Captura-de-pantalla-2024-03-15-a-las-5.34.34 p.m.png
ORGANIZER;CN="Infinity Cattle Service":MAILTO:infinitycattleservices@gmail.com
END:VEVENT
BEGIN:VEVENT
DTSTART;TZID=America/Chicago:20240413T170000
DTEND;TZID=America/Chicago:20240413T210000
DTSTAMP:20260419T222348
CREATED:20231018T215300Z
LAST-MODIFIED:20231218T162253Z
UID:10000559-1713027600-1713042000@brahmanevent.com
SUMMARY:ABBA National F1 Female Sale
DESCRIPTION:EventsMake plans to attend the ABBA National F1 Female Sale!
URL:https://brahmanevent.com/event/abba-national-f1-female-sale-3/
LOCATION:Tabasco
CATEGORIES:Sales
ATTACH;FMTTYPE=image/jpeg:https://brahmanevent.com/wp-content/uploads/F1-Sale_v1.jpg
END:VEVENT
BEGIN:VEVENT
DTSTART;TZID=America/Chicago:20240413T080000
DTEND;TZID=America/Chicago:20240413T170000
DTSTAMP:20260419T222348
CREATED:20230814T163725Z
LAST-MODIFIED:20231211T223215Z
UID:10000460-1712995200-1713027600@brahmanevent.com
SUMMARY:7th Annual Southern Classic Registered Brahman and F1 Female Sale
DESCRIPTION:EventsMake plans to bid in the 7th Annual Southern Classic Registered Brahman and F1 Female Sale!
URL:https://brahmanevent.com/event/7th-annual-southern-classic-registered-brahman-and-f1-female-sale/
LOCATION:Best Cattle Sales\, United States
CATEGORIES:Best Cattle Sales
ATTACH;FMTTYPE=image/jpeg:https://brahmanevent.com/wp-content/uploads/bkgd_SouthernClassic-Nov23-V2-2024.jpg
ORGANIZER;CN="Philip Gilstrap":MAILTO:PGDDFARM@Bellsouth.net
GEO:37.09024;-95.712891
END:VEVENT
BEGIN:VEVENT
DTSTART;TZID=America/Chicago:20240406T080000
DTEND;TZID=America/Chicago:20240407T170000
DTSTAMP:20260419T222348
CREATED:20240220T231855Z
LAST-MODIFIED:20240322T205543Z
UID:10000616-1712390400-1712509200@brahmanevent.com
SUMMARY:4-T & Box R Caney Creek 10th Annual Family Traditions Online Sale
DESCRIPTION:EventsMake plans to attend the 4-T & Box R Caney Creek 10th Annual Family Traditions! Click here for more information.
URL:https://brahmanevent.com/event/4-t-box-r-caney-creek-10th-annual-family-traditions-online-sale/
LOCATION:Best Cattle Sales\, United States
CATEGORIES:Online Events,Sales
ATTACH;FMTTYPE=image/jpeg:https://brahmanevent.com/wp-content/uploads/bkgd_4TBOXR-V2-scaled.jpg
GEO:37.09024;-95.712891
END:VEVENT
BEGIN:VEVENT
DTSTART;TZID=America/Chicago:20240406T080000
DTEND;TZID=America/Chicago:20240407T170000
DTSTAMP:20260419T222348
CREATED:20231006T155221Z
LAST-MODIFIED:20231006T155821Z
UID:10000512-1712390400-1712509200@brahmanevent.com
SUMMARY:FJBA Spring Fling and Glow Party
DESCRIPTION:EventsMake plans to attend the FJBA Spring Fling and Glow Party!
URL:https://brahmanevent.com/event/fjba-spring-fling-and-glow-party/
LOCATION:Lake Butler Florida
CATEGORIES:Junior Shows
ATTACH;FMTTYPE=image/png:https://brahmanevent.com/wp-content/uploads/2021/12/Brahman-Event-logo.png
END:VEVENT
BEGIN:VEVENT
DTSTART;TZID=America/Chicago:20240406T080000
DTEND;TZID=America/Chicago:20240406T170000
DTSTAMP:20260419T222348
CREATED:20231218T173031Z
LAST-MODIFIED:20231218T173031Z
UID:10000595-1712390400-1712422800@brahmanevent.com
SUMMARY:Heart of Texas Special Replacement Female Sale
DESCRIPTION:EventsMake plans to attend the Heart of Texas Special Replacement Female Sale!
URL:https://brahmanevent.com/event/heart-of-texas-special-replacement-female-sale-2/
LOCATION:Groesbeck\, TX
CATEGORIES:Sales
ATTACH;FMTTYPE=image/png:https://brahmanevent.com/wp-content/uploads/2021/12/Brahman-Event-logo.png
ORGANIZER;CN="Tom Johnson":MAILTO:mailto:johnsoncattlemarketing@gmail.com
END:VEVENT
BEGIN:VEVENT
DTSTART;TZID=America/Chicago:20240405T080000
DTEND;TZID=America/Chicago:20240407T170000
DTSTAMP:20260419T222348
CREATED:20240206T222952Z
LAST-MODIFIED:20240206T222952Z
UID:10000607-1712304000-1712509200@brahmanevent.com
SUMMARY:2024 Young Farmer & Rancher Spring Conference
DESCRIPTION:EventsMake plans to attend the 2024 Young Farmer & Rancher Spring Conference!
URL:https://brahmanevent.com/event/2024-young-farmer-rancher-spring-conference/
LOCATION:Waco\, Texas
CATEGORIES:Conventions
ATTACH;FMTTYPE=image/png:https://brahmanevent.com/wp-content/uploads/2021/12/Brahman-Event-logo.png
END:VEVENT
BEGIN:VEVENT
DTSTART;TZID=America/Chicago:20240405T080000
DTEND;TZID=America/Chicago:20240405T170000
DTSTAMP:20260419T222348
CREATED:20231018T210957Z
LAST-MODIFIED:20231018T210957Z
UID:10000554-1712304000-1712336400@brahmanevent.com
SUMMARY:Heritage Cattle Company First Friday Genetic Drop
DESCRIPTION:EventsDon't miss the Heritage Cattle Company First Friday Genetic Drop!
URL:https://brahmanevent.com/event/heritage-cattle-company-first-friday-genetic-drop-10/
LOCATION:Tabasco
CATEGORIES:Online Events,Sales
ATTACH;FMTTYPE=image/jpeg:https://brahmanevent.com/wp-content/uploads/HeritageCattle_Badge_Logo-01.jpg
ORGANIZER;CN="Heritage Cattle Company":MAILTO:heritagecattle1@yahoo.com
END:VEVENT
BEGIN:VEVENT
DTSTART;TZID=America/Chicago:20240404T080000
DTEND;TZID=America/Chicago:20240405T170000
DTSTAMP:20260419T222348
CREATED:20240206T223405Z
LAST-MODIFIED:20240313T221231Z
UID:10000609-1712217600-1712336400@brahmanevent.com
SUMMARY:XIII MUESTRA INTERNACIONAL DE GANADO CEBU
DESCRIPTION:EventsMake plans to attend the XIII MUESTRA INTERNACIONAL DE GANADO CEBU! \nJoin us for the Brahman Show! April 4th we will show Grey Females followed by Red Females Starting at 9am\, and again on April 5th\, starting with Gray Bulls at 9am followed by Red Bulls! \nACTIVIDAD HORA LUGAR\nDel Lunes 25 al Viernes 29 Marzo\nRecepción Ganado de XIII Muestra Internacional de Ganado Cebú 8:00 Área Ganadera\nSábado 30 Marzo\nPesaje\, Toma de Medidas Zoométricas y Revisión Dentaria 8:00 Área Ganadera\nRegistro de Expositores 9:00 Stand AMCC\nInauguración de la XIII Muestra Internacional de Ganado Cebú 18:00 Área Ganadera\nDomingo 31 Marzo\nPesaje\, Toma de Medidas Zoométricas y Revisión Dentaria 8:00 Área Ganadera\nLunes 1º Abril\nPesaje\, Toma de Medidas Zoométricas y Revisión Dentaria 8:00 Área Ganadera\nMartes 2 Abril\nReseña de la Raza Sindi 9:00 Pista de Calificación\nCalificación de la Raza Indubrasil Pista de Calificación\nCalificación de la Raza Gyr Pista de Calificación\nCalificación de la Raza Guzerat Pista de Calificación\nMiércoles 3 Abril\nCalificación de la Raza Sardo Negro Mocho 9:00 Pista de Calificación\nCalificación de la Raza Sardo Negro Pista de Calificación\nCalificación de la Raza Nelore Pista de Calificación\nCalificación de la Raza Nelore Mocho Pista de Calificación\nJueves 4 Abril\nCalificación de Hembras Brahman Gris 9:00 Pista de Calificación\nCalificación de Hembras Brahman Rojo Pista de Calificación\nViernes 5 Abril\nCalificación de Machos Brahman Gris 9:00 Pista de Calificación\nCalificación de Machos Brahman Rojo Pista de Calificación\nSábado 6 Abril\nLXII Asamblea General Ordinaria de la AMCC 9:00 Expo Tampico\nComida y Premiación 14:00 Pista de Calificación\nSubasta 16:00 Pista de Calificación\nDomingo 7 Abril\nClausura de la XIII Muestra Internacional de Ganado Cebú 12:00 Pista de Calificación\nLunes 8 Abril\nSalida del Ganado 8:00 Área Ganadera \nClick here to download the schedule!
URL:https://brahmanevent.com/event/xiii-muestra-internacional-de-ganado-cebu/
LOCATION:Expo Tampico\, Boulevard Adolfo Lopez Mateos 2400 Colonia Obrera\, Tampico\, Tamaulipas\, 89050\, Mexico
CATEGORIES:International
ATTACH;FMTTYPE=image/jpeg:https://brahmanevent.com/wp-content/uploads/AMCC-Calendar_2-scaled.jpg
GEO:22.2336189;-97.8536254
X-APPLE-STRUCTURED-LOCATION;VALUE=URI;X-ADDRESS=Expo Tampico Boulevard Adolfo Lopez Mateos 2400 Colonia Obrera Tampico Tamaulipas 89050 Mexico;X-APPLE-RADIUS=500;X-TITLE=Boulevard Adolfo Lopez Mateos 2400 Colonia Obrera:geo:-97.8536254,22.2336189
END:VEVENT
BEGIN:VEVENT
DTSTART;TZID=America/Chicago:20240401T080000
DTEND;TZID=America/Chicago:20240401T170000
DTSTAMP:20260419T222348
CREATED:20240313T211536Z
LAST-MODIFIED:20240313T212032Z
UID:10000627-1711958400-1711990800@brahmanevent.com
SUMMARY:ABBA Bull Development Kickoff
DESCRIPTION:EventsDon't miss out on the ABBA Bull Development Kickoff! \nFor more information contact Director of Breed Improvement\, AJ Knowles - ajknowles@brahman.org
URL:https://brahmanevent.com/event/abba-bull-development-kickoff-2/
LOCATION:Tabasco
CATEGORIES:Sales
ATTACH;FMTTYPE=image/jpeg:https://brahmanevent.com/wp-content/uploads/2021/08/ABBA.jpg
ORGANIZER;CN="ABBA":MAILTO:abba@brahman.org
END:VEVENT
BEGIN:VEVENT
DTSTART;TZID=America/Chicago:20240323T080000
DTEND;TZID=America/Chicago:20240323T170000
DTSTAMP:20260419T222348
CREATED:20231018T214451Z
LAST-MODIFIED:20231018T214452Z
UID:10000557-1711180800-1711213200@brahmanevent.com
SUMMARY:Annual LBA Brahman & F1 Invitational Sale
DESCRIPTION:EventsMake plans to attend the Annual LBA Brahman & F1 Invitational Sale!
URL:https://brahmanevent.com/event/annual-lba-brahman-f1-invitational-sale-3/
LOCATION:Tabasco
CATEGORIES:Sales
ATTACH;FMTTYPE=image/png:https://brahmanevent.com/wp-content/uploads/2021/12/Brahman-Event-logo.png
END:VEVENT
BEGIN:VEVENT
DTSTART;TZID=America/Chicago:20240323T080000
DTEND;TZID=America/Chicago:20240323T170000
DTSTAMP:20260419T222348
CREATED:20231014T144753Z
LAST-MODIFIED:20231218T162947Z
UID:10000538-1711180800-1711213200@brahmanevent.com
SUMMARY:2024 South Texas State Fair Open and Junior Brahman Show
DESCRIPTION:EventsMake plans to attend the 2024 South Texas State Fair Open and Junior Brahman Show! Click here to view the current schedule.
URL:https://brahmanevent.com/event/2024-south-texas-state-fair-open-and-junior-brahman-show/
LOCATION:South Texas State Fair\, 5115 Interstate 10 South\, Beaumont\, TX\, 77705\, United States
CATEGORIES:Junior Shows,Open Shows
ATTACH;FMTTYPE=image/jpeg:https://brahmanevent.com/wp-content/uploads/South-Texas_v1.jpg
GEO:30.0111091;-94.1797292
X-APPLE-STRUCTURED-LOCATION;VALUE=URI;X-ADDRESS=South Texas State Fair 5115 Interstate 10 South Beaumont TX 77705 United States;X-APPLE-RADIUS=500;X-TITLE=5115 Interstate 10 South:geo:-94.1797292,30.0111091
END:VEVENT
BEGIN:VEVENT
DTSTART;TZID=America/Chicago:20240322T080000
DTEND;TZID=America/Chicago:20240324T170000
DTSTAMP:20260419T222348
CREATED:20231003T213124Z
LAST-MODIFIED:20231003T213219Z
UID:10000498-1711094400-1711299600@brahmanevent.com
SUMMARY:2024 TSCRA Cattle Raisers Convention and Expo
DESCRIPTION:EventsMake plans to attend the 2024 TSCRA Cattle Raisers Convention and Expo! Click here to learn more.
URL:https://brahmanevent.com/event/2024-tscra-cattle-raisers-convention-and-expo/
LOCATION:Fort Worth Convention Center\, 1201 Houston St\, Fort Worth\, TX\, 76102\, United States
CATEGORIES:Conventions
ATTACH;FMTTYPE=image/png:https://brahmanevent.com/wp-content/uploads/2021/12/Brahman-Event-logo.png
GEO:32.749059;-97.327881
X-APPLE-STRUCTURED-LOCATION;VALUE=URI;X-ADDRESS=Fort Worth Convention Center 1201 Houston St Fort Worth TX 76102 United States;X-APPLE-RADIUS=500;X-TITLE=1201 Houston St:geo:-97.327881,32.749059
END:VEVENT
BEGIN:VEVENT
DTSTART;TZID=America/Chicago:20240321T080000
DTEND;TZID=America/Chicago:20240321T170000
DTSTAMP:20260419T222348
CREATED:20231018T212316Z
LAST-MODIFIED:20240117T205531Z
UID:10000556-1711008000-1711040400@brahmanevent.com
SUMMARY:GKB Cattle Co. & Barber Ranch Spring Bull Sale
DESCRIPTION:EventsMake plans to attend the GKB Cattle Co. & Barber Ranch Spring Bull Sale! Click here to learn more!
URL:https://brahmanevent.com/event/gkb-cattle-co-barber-ranch-spring-bull-sale-2/
LOCATION:Tabasco
CATEGORIES:Sales
ATTACH;FMTTYPE=image/png:https://brahmanevent.com/wp-content/uploads/2021/12/Brahman-Event-logo.png
END:VEVENT
BEGIN:VEVENT
DTSTART;TZID=America/Chicago:20240320T080000
DTEND;TZID=America/Chicago:20240320T170000
DTSTAMP:20260419T222348
CREATED:20231003T212544Z
LAST-MODIFIED:20231003T212704Z
UID:10000497-1710921600-1710954000@brahmanevent.com
SUMMARY:2024 Miami Dade County Fair Open Brahman Show
DESCRIPTION:EventsMake plans to attend the 2024 Miami Dade County Fair Open Brahman Show! Click here to learn more.
URL:https://brahmanevent.com/event/2024-miami-dade-county-fair-open-brahman-show/
LOCATION:Miami-Dade County Fair & Expo\, 10901 SW 24 St\, Miami\, FL\, 33165\, United States
CATEGORIES:Open Shows
ATTACH;FMTTYPE=image/png:https://brahmanevent.com/wp-content/uploads/logo-no-ribbon.png
GEO:25.7467082;-80.3719312
X-APPLE-STRUCTURED-LOCATION;VALUE=URI;X-ADDRESS=Miami-Dade County Fair & Expo 10901 SW 24 St Miami FL 33165 United States;X-APPLE-RADIUS=500;X-TITLE=10901 SW 24 St:geo:-80.3719312,25.7467082
END:VEVENT
BEGIN:VEVENT
DTSTART;TZID=America/Chicago:20240317T080000
DTEND;TZID=America/Chicago:20240318T170000
DTSTAMP:20260419T222348
CREATED:20231012T164740Z
LAST-MODIFIED:20240304T165600Z
UID:10000518-1710662400-1710781200@brahmanevent.com
SUMMARY:Bulls Eye Ranch - Expect the Best Summer Born Heifer Sale
DESCRIPTION:EventsMake plans to bid in the Bulls Eye Ranch - Expect the Best Summer Born Heifer Sale!
URL:https://brahmanevent.com/event/bulls-eye-ranch-expect-the-best-summer-born-heifer-sale/
LOCATION:Best Cattle Sales\, United States
CATEGORIES:Best Cattle Sales
ATTACH;FMTTYPE=image/jpeg:https://brahmanevent.com/wp-content/uploads/2020-BestCattleSales-FB-Topper.jpg
GEO:37.09024;-95.712891
END:VEVENT
BEGIN:VEVENT
DTSTART;TZID=America/Chicago:20240316T110000
DTEND;TZID=America/Chicago:20240316T170000
DTSTAMP:20260419T222349
CREATED:20240312T210127Z
LAST-MODIFIED:20240313T140843Z
UID:10000624-1710586800-1710608400@brahmanevent.com
SUMMARY:Spanish Lookout Cattle Show 2024
DESCRIPTION:EventsMake plans to attend the Spanish Lookout Cattle Show 2024!
URL:https://brahmanevent.com/event/spanish-lookout-cattle-show-2024/
LOCATION:Tabasco
ATTACH;FMTTYPE=image/png:https://brahmanevent.com/wp-content/uploads/image-14.png
END:VEVENT
BEGIN:VEVENT
DTSTART;TZID=America/Chicago:20240316T080000
DTEND;TZID=America/Chicago:20240316T170000
DTSTAMP:20260419T222349
CREATED:20231018T211835Z
LAST-MODIFIED:20231018T211835Z
UID:10000555-1710576000-1710608400@brahmanevent.com
SUMMARY:Texas Elite F1 & Brahman Female Sale
DESCRIPTION:EventsMake plans to attend the Texas Elite F1 & Brahman Female Sale!
URL:https://brahmanevent.com/event/texas-elite-f1-brahman-female-sale-2/
LOCATION:Caldwell Livestock Commission\, 270 County Road 107\, Caldwell\, TX\, 77836\, United States
CATEGORIES:Sales
ATTACH;FMTTYPE=image/png:https://brahmanevent.com/wp-content/uploads/2021/12/Brahman-Event-logo.png
ORGANIZER;CN="Broken Triangle Cattle Company":MAILTO:milton@brokentrianglecattle.com
GEO:30.5167215;-96.6868169
X-APPLE-STRUCTURED-LOCATION;VALUE=URI;X-ADDRESS=Caldwell Livestock Commission 270 County Road 107 Caldwell TX 77836 United States;X-APPLE-RADIUS=500;X-TITLE=270 County Road 107:geo:-96.6868169,30.5167215
END:VEVENT
BEGIN:VEVENT
DTSTART;TZID=America/Chicago:20240314T170000
DTEND;TZID=America/Chicago:20240315T170000
DTSTAMP:20260419T222349
CREATED:20231221T183143Z
LAST-MODIFIED:20231221T183218Z
UID:10000597-1710435600-1710522000@brahmanevent.com
SUMMARY:Southwest Beef Symposium
DESCRIPTION:EventsMake plans to attend the Southwest Beef Symposium!
URL:https://brahmanevent.com/event/southwest-beef-symposium/
LOCATION:Roswell Convention Center\, 921 N. Main Street\, Roswell\, NM\, 88201\, United States
CATEGORIES:Conventions
ATTACH;FMTTYPE=image/jpeg:https://brahmanevent.com/wp-content/uploads/Wheres-the-Beef-Washington-County-Expo-Event-Center_Page_2-Copy.jpg
ORGANIZER;CN="Texas Agrilife Extension ":MAILTO:extansc@ag.tamu.edu
GEO:33.402378;-104.5227584
X-APPLE-STRUCTURED-LOCATION;VALUE=URI;X-ADDRESS=Roswell Convention Center 921 N. Main Street Roswell NM 88201 United States;X-APPLE-RADIUS=500;X-TITLE=921 N. Main Street:geo:-104.5227584,33.402378
END:VEVENT
BEGIN:VEVENT
DTSTART;TZID=America/Chicago:20240314T080000
DTEND;TZID=America/Chicago:20240314T170000
DTSTAMP:20260419T222349
CREATED:20231003T211854Z
LAST-MODIFIED:20231003T211854Z
UID:10000496-1710403200-1710435600@brahmanevent.com
SUMMARY:Rio Grande Valley Livestock Show - Open Brahman Show
DESCRIPTION:EventsMake plans to attend the Rio Grande Valley Livestock Show - Open Brahman Show!
URL:https://brahmanevent.com/event/rio-grande-valley-livestock-show-open-brahman-show-2/
LOCATION:Rio Grande Valley Livestock Show\, Inc.\, 1000 N Texas Ave\, Mercedes\, TX\, 78570\, United States
CATEGORIES:Open Shows
ATTACH;FMTTYPE=image/jpeg:https://brahmanevent.com/wp-content/uploads/RGV-Logo.jpg
GEO:26.1632988;-97.9140933
X-APPLE-STRUCTURED-LOCATION;VALUE=URI;X-ADDRESS=Rio Grande Valley Livestock Show Inc. 1000 N Texas Ave Mercedes TX 78570 United States;X-APPLE-RADIUS=500;X-TITLE=1000 N Texas Ave:geo:-97.9140933,26.1632988
END:VEVENT
BEGIN:VEVENT
DTSTART;TZID=America/Chicago:20240313T080000
DTEND;TZID=America/Chicago:20240313T170000
DTSTAMP:20260419T222349
CREATED:20231003T211523Z
LAST-MODIFIED:20231003T211524Z
UID:10000495-1710316800-1710349200@brahmanevent.com
SUMMARY:Rio Grande Valley Livestock Show - Junior Brahman Show
DESCRIPTION:EventsMake plans to attend the Rio Grande Valley Livestock Show - Junior Brahman Show!
URL:https://brahmanevent.com/event/rio-grande-valley-livestock-show-junior-brahman-show-2/
LOCATION:Rio Grande Valley Livestock Show\, Inc.\, 1000 N Texas Ave\, Mercedes\, TX\, 78570\, United States
CATEGORIES:Junior Shows
ATTACH;FMTTYPE=image/jpeg:https://brahmanevent.com/wp-content/uploads/RGV-Logo.jpg
GEO:26.1632988;-97.9140933
X-APPLE-STRUCTURED-LOCATION;VALUE=URI;X-ADDRESS=Rio Grande Valley Livestock Show Inc. 1000 N Texas Ave Mercedes TX 78570 United States;X-APPLE-RADIUS=500;X-TITLE=1000 N Texas Ave:geo:-97.9140933,26.1632988
END:VEVENT
BEGIN:VEVENT
DTSTART;TZID=America/Chicago:20240308T080000
DTEND;TZID=America/Chicago:20240317T170000
DTSTAMP:20260419T222349
CREATED:20240204T204345Z
LAST-MODIFIED:20240304T231907Z
UID:10000605-1709884800-1710694800@brahmanevent.com
SUMMARY:Feria Agropecuaria Nacional 2024
DESCRIPTION:EventsMake plans to attend the Feria Agropecuaria Nacional 2024 in the Dominican Republic!
URL:https://brahmanevent.com/event/feria-agropecuaria-nacional-2024/
LOCATION:Tabasco
CATEGORIES:International
ATTACH;FMTTYPE=image/jpeg:https://brahmanevent.com/wp-content/uploads/WhatsApp-Image-2024-01-31-at-08.19.44_af30fb9e.jpg
END:VEVENT
BEGIN:VEVENT
DTSTART;TZID=America/Chicago:20240307T080000
DTEND;TZID=America/Chicago:20240308T170000
DTSTAMP:20260419T222349
CREATED:20240221T155121Z
LAST-MODIFIED:20240305T193423Z
UID:10000618-1709798400-1709917200@brahmanevent.com
SUMMARY:2024 Southwest Beef Symposium
DESCRIPTION:EventsMake plans to attend the 2024 Southwest Beef Symposium! Click here for more information.
URL:https://brahmanevent.com/event/2024-southwest-beef-symposium/
LOCATION:Roswell Civic Center\, 912 N Main Street\, Roswell\, NM\, 88201\, United States
CATEGORIES:Conventions,Social Events
ATTACH;FMTTYPE=image/jpeg:https://brahmanevent.com/wp-content/uploads/SWBS-2024-Flyer-4-1.jpg
ORGANIZER;CN="Texas Agrilife Extension ":MAILTO:extansc@ag.tamu.edu
END:VEVENT
END:VCALENDAR