BEGIN:VCALENDAR
VERSION:2.0
PRODID:-//Brahman Event - ECPv6.15.15//NONSGML v1.0//EN
CALSCALE:GREGORIAN
METHOD:PUBLISH
X-ORIGINAL-URL:https://brahmanevent.com
X-WR-CALDESC:Events for Brahman Event
REFRESH-INTERVAL;VALUE=DURATION:PT1H
X-Robots-Tag:noindex
X-PUBLISHED-TTL:PT1H
BEGIN:VTIMEZONE
TZID:America/Chicago
BEGIN:DAYLIGHT
TZOFFSETFROM:-0600
TZOFFSETTO:-0500
TZNAME:CDT
DTSTART:20230312T080000
END:DAYLIGHT
BEGIN:STANDARD
TZOFFSETFROM:-0500
TZOFFSETTO:-0600
TZNAME:CST
DTSTART:20231105T070000
END:STANDARD
BEGIN:DAYLIGHT
TZOFFSETFROM:-0600
TZOFFSETTO:-0500
TZNAME:CDT
DTSTART:20240310T080000
END:DAYLIGHT
BEGIN:STANDARD
TZOFFSETFROM:-0500
TZOFFSETTO:-0600
TZNAME:CST
DTSTART:20241103T070000
END:STANDARD
BEGIN:DAYLIGHT
TZOFFSETFROM:-0600
TZOFFSETTO:-0500
TZNAME:CDT
DTSTART:20250309T080000
END:DAYLIGHT
BEGIN:STANDARD
TZOFFSETFROM:-0500
TZOFFSETTO:-0600
TZNAME:CST
DTSTART:20251102T070000
END:STANDARD
END:VTIMEZONE
BEGIN:VEVENT
DTSTART;TZID=America/Chicago:20240628T080000
DTEND;TZID=America/Chicago:20240628T170000
DTSTAMP:20260419T173550
CREATED:20240606T193525Z
LAST-MODIFIED:20240606T195000Z
UID:10000655-1719561600-1719594000@brahmanevent.com
SUMMARY:World Brahman Championship Series Entry Deadline
DESCRIPTION:EventsDon’t miss out on the World Brahman Championship Series! Click HERE to view the entry form.
URL:https://brahmanevent.com/event/world-brahman-championship-series-entry-deadline/
LOCATION:ST Genetics\, 22575 Hwy 6 S\, Navasota\, TX\, 77868\, United States
CATEGORIES:Other
ATTACH;FMTTYPE=image/jpeg:https://brahmanevent.com/wp-content/uploads/STGENETICS_V1-1-scaled.jpg
ORGANIZER;CN="ST Genetics":MAILTO:beef@stgen.com
GEO:30.4830005;-96.175536
X-APPLE-STRUCTURED-LOCATION;VALUE=URI;X-ADDRESS=ST Genetics 22575 Hwy 6 S Navasota TX 77868 United States;X-APPLE-RADIUS=500;X-TITLE=22575 Hwy 6 S:geo:-96.175536,30.4830005
END:VEVENT
BEGIN:VEVENT
DTSTART;TZID=America/Chicago:20240623T080000
DTEND;TZID=America/Chicago:20240630T170000
DTSTAMP:20260419T173550
CREATED:20231204T163535Z
LAST-MODIFIED:20240430T174840Z
UID:10000572-1719129600-1719766800@brahmanevent.com
SUMMARY:2024 AJBA 'All American"
DESCRIPTION:Events   \n \nMake plans to attend the 2024 AJBA 'All American'!
URL:https://brahmanevent.com/event/2024-ajba-all-american/
LOCATION:Ike Hamilton Expo Center\, 501 Mane Street\, West Monroe\, LA\, 71292\, United States
CATEGORIES:Junior Shows
ATTACH;FMTTYPE=image/jpeg:https://brahmanevent.com/wp-content/uploads/434139629_734966432169162_3844315369324646376_n.jpg
ORGANIZER;CN="ABBA":MAILTO:abba@brahman.org
GEO:32.5053727;-92.1809494
X-APPLE-STRUCTURED-LOCATION;VALUE=URI;X-ADDRESS=Ike Hamilton Expo Center 501 Mane Street West Monroe LA 71292 United States;X-APPLE-RADIUS=500;X-TITLE=501 Mane Street:geo:-92.1809494,32.5053727
END:VEVENT
BEGIN:VEVENT
DTSTART;TZID=America/Chicago:20240620T080000
DTEND;TZID=America/Chicago:20240623T170000
DTSTAMP:20260419T173550
CREATED:20231204T163333Z
LAST-MODIFIED:20240604T201137Z
UID:10000579-1718870400-1719162000@brahmanevent.com
SUMMARY:2024 LJBA State Show
DESCRIPTION:EventsMake plans to attend the 2024 LJBA State Show! \nWednesday\, June 19\n5:00 - 8:00 PM: Early Arrival & Early Check in \nThursday\, June 20\n8:00 AM - 12:00 PM: Cattle may arrive\n9:00 AM LJBA Director Meeting\n10:00 AM - 1:00 PM: Check in (original registration papers are required for check in)\n10:00 AM - 1:00 PM: Registration for coloring contest\, public speaking\, and sales talk. Submit posters & photographs for judging\n12:00 PM: All cattle must be in place\n1:00 PM: Queen & Princess Contestant Meeting\n1:30 PM: Public Speaking Contest\n3:30 PM: Interviews (Queen & Princess\, Director\, Scholarship)\n5:00 PM: General Membership Meeting\n7:00 PM: Welcome Supper \nFriday\, June 21\n8:00 AM: Sales Talk\n12:30 PM: Queen & Princess Showmanship Contest\n12:45 PM: Pee-wee Showmanship\n1:00 PM: Showmanship Contest (youngest to oldest)\n30 min following showmanship: F1 Heifer Show \nSaturday\, June 22\n8:30 AM: Bred & Owned Bull Show\, Bred & Owned Heifer Show\n30 min following: Owned Bull Show\, Owned Female Show \nSunday\, June 23\n9 AM: BANQUET
URL:https://brahmanevent.com/event/2024-ljba-state-show/
LOCATION:Ike Hamilton Expo Center\, 501 Mane Street\, West Monroe\, LA\, 71292\, United States
CATEGORIES:Junior Shows
ATTACH;FMTTYPE=image/jpeg:https://brahmanevent.com/wp-content/uploads/IMG_2353.jpg
ORGANIZER;CN="LJBA":MAILTO:jennymesthay@gmail.com
GEO:32.5053727;-92.1809494
X-APPLE-STRUCTURED-LOCATION;VALUE=URI;X-ADDRESS=Ike Hamilton Expo Center 501 Mane Street West Monroe LA 71292 United States;X-APPLE-RADIUS=500;X-TITLE=501 Mane Street:geo:-92.1809494,32.5053727
END:VEVENT
BEGIN:VEVENT
DTSTART;TZID=America/Chicago:20240618T080000
DTEND;TZID=America/Chicago:20240620T170000
DTSTAMP:20260419T173550
CREATED:20231006T160857Z
LAST-MODIFIED:20231006T161445Z
UID:10000514-1718697600-1718902800@brahmanevent.com
SUMMARY:Florida Cattlemen's Assoc. Annual Convention
DESCRIPTION:EventsMake plans to attend the Florida Cattlemen's Assoc. Annual Convention! Click here to learn more!
URL:https://brahmanevent.com/event/florida-cattlemens-assoc-annual-convention/
LOCATION:Marco Island\, FL\, Marco Island\, FL\, FL\, United States
CATEGORIES:Conventions
ATTACH;FMTTYPE=image/png:https://brahmanevent.com/wp-content/uploads/2021/12/Brahman-Event-logo.png
GEO:25.9397412;-81.7075355
X-APPLE-STRUCTURED-LOCATION;VALUE=URI;X-ADDRESS=Marco Island FL Marco Island FL FL United States;X-APPLE-RADIUS=500;X-TITLE=Marco Island\, FL:geo:-81.7075355,25.9397412
END:VEVENT
BEGIN:VEVENT
DTSTART;TZID=America/Chicago:20240617T080000
DTEND;TZID=America/Chicago:20240618T170000
DTSTAMP:20260419T173550
CREATED:20240606T194355Z
LAST-MODIFIED:20240606T194355Z
UID:10000657-1718611200-1718730000@brahmanevent.com
SUMMARY:ABBA Spring Board of Directors Meeting
DESCRIPTION:EventsThe Spring Board of Directors and Committee Meetings will be held at The George Hotel and Cavalry Hotel in College Station\, TX starting at 4:00 PM on Monday\, June 17th for the Finance Committee\, and 6:00 PM for the Executive Committee. We will be resuming at 8:00 AM on Tuesday\, June 18th for all other committees. \nClick here to learn more.
URL:https://brahmanevent.com/event/abba-spring-board-of-directors-meeting/
LOCATION:College Station\, TX\, TX\, United States
CATEGORIES:Meetings
ATTACH;FMTTYPE=image/jpeg:https://brahmanevent.com/wp-content/uploads/2021/08/ABBA.jpg
ORGANIZER;CN="ABBA":MAILTO:abba@brahman.org
END:VEVENT
BEGIN:VEVENT
DTSTART;TZID=America/Chicago:20240612T080000
DTEND;TZID=America/Chicago:20240616T170000
DTSTAMP:20260419T173550
CREATED:20231204T161936Z
LAST-MODIFIED:20240604T200204Z
UID:10000578-1718179200-1718557200@brahmanevent.com
SUMMARY:2024 TJBA State Show
DESCRIPTION:EventsMake plans to attend the 2024 TJBA State Show! \nWednesday\, June 12\n7 AM - 4 PM: Cattle Arrival at Brazos County Expo Center\n1 PM: Sales Talk Contest\n3:30 - 5:00 PM: Exhibitor check-in at show office (Check registration papers\, submit poster/photo entries\, & complete All Around entries)\n5 PM: Queen & Princess Orientation\n6 PM: TJBA Membership Meeting\, followed by Herdsman Quiz\nFollowing Quiz: TJBA Fun Night \nThursday\, June 13\n8 AM: Queen and Princess Public Speaking & Interviews\n8:30 AM: Public Speaking Contest Finals (Top 10 per age division) Must be checked in for contest by 8 AM\n12 PM: F1 Heifer Show\n30 min after F1 Show: TJBA Bred & Owned Cattle Show (bulls\, red heifers\, finishing with gray heifers) \nFriday\, June 14\n8:00 AM: TJBA Owned Cattle Show (red bulls\, gray bulls\, red heifers\, finishing with gray heifers) \nSaturday\, June 15\n8:00 AM: Showmanship Contest (Queen & Princess\, Junior\, Minor\, Major\, Senior\, Drive\, and Pee-Wee)\n6:30 PM: TJBA Awards Banquet and Dance
URL:https://brahmanevent.com/event/2024-tjba-state-show/
LOCATION:Brazos County Expo Center\, 5827 Leonard Rd\, Bryan\, TX\, 77807\, United States
CATEGORIES:Junior Shows
ATTACH;FMTTYPE=image/jpeg:https://brahmanevent.com/wp-content/uploads/440594034_881428210453322_7201228880715650937_n.jpg
ORGANIZER;CN="TJBA":MAILTO:TexasJuniorBrahmans@gmail.com
GEO:30.6218544;-96.4160553
X-APPLE-STRUCTURED-LOCATION;VALUE=URI;X-ADDRESS=Brazos County Expo Center 5827 Leonard Rd Bryan TX 77807 United States;X-APPLE-RADIUS=500;X-TITLE=5827 Leonard Rd:geo:-96.4160553,30.6218544
END:VEVENT
BEGIN:VEVENT
DTSTART;TZID=America/Chicago:20240612T080000
DTEND;TZID=America/Chicago:20240613T170000
DTSTAMP:20260419T173550
CREATED:20240605T215450Z
LAST-MODIFIED:20240605T215450Z
UID:10000652-1718179200-1718298000@brahmanevent.com
SUMMARY:2024 Vermilion 4H Foundation Fundraiser Auction
DESCRIPTION:EventsMake plans to bid in the 2024 Vermilion 4H Foundation Fundraiser Auction!
URL:https://brahmanevent.com/event/2024-vermilion-4h-foundation-fundraiser-auction/
LOCATION:Best Cattle Sales\, United States
CATEGORIES:Best Cattle Sales
ATTACH;FMTTYPE=image/png:https://brahmanevent.com/wp-content/uploads/BEST-CATTLE-SALES-WEB.png
GEO:37.09024;-95.712891
END:VEVENT
BEGIN:VEVENT
DTSTART;TZID=America/Chicago:20240608T080000
DTEND;TZID=America/Chicago:20240608T170000
DTSTAMP:20260419T173550
CREATED:20231004T163209Z
LAST-MODIFIED:20240416T215253Z
UID:10000501-1717833600-1717866000@brahmanevent.com
SUMMARY:8th Annual C&R Farms Replacement Female Sale
DESCRIPTION:EventsMake plans to attend the 8th Annual C&R Farms Replacement Female Sale!
URL:https://brahmanevent.com/event/8th-annual-cr-farms-replacement-female-sale/
LOCATION:C&R Farms\, 447 Woodland Road\, Cairo\, GA\, United States
CATEGORIES:Sales
ATTACH;FMTTYPE=image/jpeg:https://brahmanevent.com/wp-content/uploads/bkgd_CandR_coop.jpg
END:VEVENT
BEGIN:VEVENT
DTSTART;TZID=America/Chicago:20240607T000000
DTEND;TZID=America/Chicago:20240607T000000
DTSTAMP:20260419T173550
CREATED:20231204T161001Z
LAST-MODIFIED:20231204T161120Z
UID:10000576-1717718400-1717718400@brahmanevent.com
SUMMARY:Heritage Cattle Company First Friday Genetic Drop
DESCRIPTION:
URL:https://brahmanevent.com/event/heritage-cattle-company-first-friday-genetic-drop-12/
CATEGORIES:Sales
ATTACH;FMTTYPE=image/jpeg:https://brahmanevent.com/wp-content/uploads/HeritageCattle_Badge_Logo-01.jpg
END:VEVENT
BEGIN:VEVENT
DTSTART;TZID=America/Chicago:20240601T120000
DTEND;TZID=America/Chicago:20240601T170000
DTSTAMP:20260419T173550
CREATED:20230814T164049Z
LAST-MODIFIED:20231211T223925Z
UID:10000461-1717243200-1717261200@brahmanevent.com
SUMMARY:44th Annual Carolinas Brahman Breeders Assoc. Sale
DESCRIPTION:EventsMake plans to bid in the 44th Annual Carolinas Brahman Breeders Assoc. Sale!
URL:https://brahmanevent.com/event/44th-annual-carolinas-brahman-breeders-assoc-sale/
LOCATION:Best Cattle Sales\, United States
CATEGORIES:Best Cattle Sales
ATTACH;FMTTYPE=image/jpeg:https://brahmanevent.com/wp-content/uploads/bkgd_CBBA-Nov23-V2024.jpg
ORGANIZER;CN="Carolinas Brahman Breeders Association":MAILTO:PGDDFARM@gmail.com
GEO:37.09024;-95.712891
END:VEVENT
BEGIN:VEVENT
DTSTART;TZID=America/Chicago:20240601T080000
DTEND;TZID=America/Chicago:20240601T170000
DTSTAMP:20260419T173550
CREATED:20240513T153709Z
LAST-MODIFIED:20240513T153710Z
UID:10000647-1717228800-1717261200@brahmanevent.com
SUMMARY:The Shining Light Scholarship in Memory of Maci Nicole Dickerson applications due
DESCRIPTION:EventsDon't miss out on The Shining Light Scholarship in Memory of Maci Nicole Dickerson! Click here to learn more.
URL:https://brahmanevent.com/event/the-shining-light-scholarship-in-memory-of-maci-nicole-dickerson-applications-due/
CATEGORIES:Other
ATTACH;FMTTYPE=image/jpeg:https://brahmanevent.com/wp-content/uploads/IMG_2893.jpg
END:VEVENT
BEGIN:VEVENT
DTSTART;TZID=America/Chicago:20240601T080000
DTEND;TZID=America/Chicago:20240601T170000
DTSTAMP:20260419T173550
CREATED:20240313T212207Z
LAST-MODIFIED:20240313T212228Z
UID:10000628-1717228800-1717261200@brahmanevent.com
SUMMARY:ABBA Bull Development Work Day
DESCRIPTION:EventsDon't miss out on the ABBA Bull Development Work Day! \nFor more information contact Director of Breed Improvement\, AJ Knowles - ajknowles@brahman.org
URL:https://brahmanevent.com/event/abba-bull-development-work-day/
CATEGORIES:Sales
ATTACH;FMTTYPE=image/jpeg:https://brahmanevent.com/wp-content/uploads/2021/08/ABBA.jpg
ORGANIZER;CN="ABBA":MAILTO:abba@brahman.org
END:VEVENT
BEGIN:VEVENT
DTSTART;TZID=America/Chicago:20240531T080000
DTEND;TZID=America/Chicago:20240602T170000
DTSTAMP:20260419T173550
CREATED:20231006T155548Z
LAST-MODIFIED:20240424T210149Z
UID:10000513-1717142400-1717347600@brahmanevent.com
SUMMARY:FJBA State Show
DESCRIPTION:EventsMake plans to attend the FJBA State Show! Click here to enter and learn more information! \nThursday\, May 30\, 2024\n4:00 - 7:00 pm Check-In Cattle and Contests\nFriday\, May 31\, 2024\n7:00 am- 9:00 am Check- in (Optional)\n10:00am Better Beef Contest- KVLS Scales\n12:00 Noon Scholarship Interview\, Queen and Princess Interviews\, Speeches\, and\nSales Talks\n(A Schedule will be available as soon as all entries are in.)\n4:00pm Flag Football Games- Teams of 4 will be a mix of the following: 1-Adult\,\n1-Sr.\, 1-Int.\, 1-Jr.\, and/or 1-Novice.\nSign-up sheets will be at check in!\n6:00pm Annual Membership Meeting- Agenda TBA\nPizza and Herdsman Quiz following meeting\nQuiz Bowl to follow (4 person teams- 1-Adult\, 1-Sr.\, 1-Int.\, 1-Jr.\, or\n1-Novice.)\nSaturday\, June 1\, 2024\n8:00am Queen/Princess Showmanship\nFollowing Bred and Owned Showmanship\nFollowing Showmanship (Pee-Wee\, Novice\, Junior\, Intermediate\,\nSenior)\nFollowing Female Show- F1\, Red and Grey\nLunch Break (Time will depend on Judge)\nFollowing Red and Grey Bull Show\n7:00pm Dinner and Dance (Sponsored By: Tyson Ward/Ward Cattle)\nSunday\, June 2\, 2024\n9:00am Church\n10:00am Banquet and Brunch\nConcessions will be available onsite for Friday\, Saturday morning\, and Saturday lunch.
URL:https://brahmanevent.com/event/fjba-state-show-2/
LOCATION:Osceola County Fairgrounds\, 1911 Kissimmee Valley Ln\, Kissimmee\, FL\, 34744\, United States
CATEGORIES:Junior Shows
ATTACH;FMTTYPE=image/jpeg:https://brahmanevent.com/wp-content/uploads/p6cp5byy032lfkgj0jtk.jpg
GEO:28.2971682;-81.3659783
X-APPLE-STRUCTURED-LOCATION;VALUE=URI;X-ADDRESS=Osceola County Fairgrounds 1911 Kissimmee Valley Ln Kissimmee FL 34744 United States;X-APPLE-RADIUS=500;X-TITLE=1911 Kissimmee Valley Ln:geo:-81.3659783,28.2971682
END:VEVENT
BEGIN:VEVENT
DTSTART;TZID=America/Chicago:20240525T180000
DTEND;TZID=America/Chicago:20240525T233000
DTSTAMP:20260419T173550
CREATED:20240220T192757Z
LAST-MODIFIED:20240305T192443Z
UID:10000611-1716660000-1716679800@brahmanevent.com
SUMMARY:BRC Ranch Spring Bull Sale and Brahman Country Genetics Female Sale
DESCRIPTION:EventsMake plans to attend the BRC Ranch Spring Bull Sale and Brahman Country Genetics Female Sale! Click here for more information. \nType the information for the event here.
URL:https://brahmanevent.com/event/brc-ranch-spring-bull-sale-and-brahman-country-genetics-female-sale/
LOCATION:Boling\, Texas\, 10406 FM 1301\, Boling\, TX\, 77420\, United States
CATEGORIES:Online Events,Sales
ATTACH;FMTTYPE=image/png:https://brahmanevent.com/wp-content/uploads/BRC-BullLogo-2-FINAL.png
ORGANIZER;CN="BRC":MAILTO:rachel@brcutrer.com
END:VEVENT
BEGIN:VEVENT
DTSTART;TZID=America/Chicago:20240524T080000
DTEND;TZID=America/Chicago:20240526T170000
DTSTAMP:20260419T173550
CREATED:20240403T175144Z
LAST-MODIFIED:20240521T171221Z
UID:10000637-1716537600-1716742800@brahmanevent.com
SUMMARY:2024 Heritage Classic Open & Junior Show
DESCRIPTION:EventsMake plans to attend the 2024 Heritage Classic Open & Junior Show! \n\n\n\n\n\nSchedule of Events\n\n\n\n\n\n\n\n\n\n\nCheck in\nFriday\, May 24 at 6:00 p.m. Cattle may arrive Thursday\, May 23 at 1:00 p.m \n\n\n\n\n\n\nAppreciation Dinner\nDinner provided by Heritage Cattle Company on Friday\, May 24 at 6:00 p.m \n\n\n\n\n\n\nJunior Show\nSaturday\, May 25- 8:00 a.m: Showmanship. 9:00 a.m. Junior Heifer Show Red/Gray. 10:30 a.m. Junior Bull Show (not split) *times are variable to change \n\n\n\n\n\n\n\n\nOpen Female Show\nSaturday\, May 25 at 11:00 a.m. Split Red and Gray \n\n\n\n\n\n\nOpen Bull Show\nSaturday\, May 25 at 1:00 p.m.  (not split) \n\n\n\n\n\n\nPolled Open Show\nSaturday\, May 25\, 2:00 p.m. Heifers (not split) followed by Bulls (not split) \n\nHeritage Cattle is pleased announce that Dr. Joe Paschal will be joining us on Friday\, May 24\,  with a practical presentation. After the Heritage Classic Appreciation Dinner at 6:00 p.m. at the Wharton County Fair Grounds\, Dr. Paschal will use a live animal demonstration to draw the primals and cuts\, and talk about the differences in each cut and which muscles are more tender. Not sure what the cuts of meat look like? There will be various cuts on hand for your inspection.
URL:https://brahmanevent.com/event/2024-heritage-classic-open-junior-show/
CATEGORIES:Junior Shows,Open Shows
ATTACH;FMTTYPE=image/jpeg:https://brahmanevent.com/wp-content/uploads/IMG_2460.jpg
ORGANIZER;CN="Heritage Cattle Company":MAILTO:heritagecattle1@yahoo.com
END:VEVENT
BEGIN:VEVENT
DTSTART;TZID=America/Chicago:20240524T080000
DTEND;TZID=America/Chicago:20240525T170000
DTSTAMP:20260419T173550
CREATED:20240206T223148Z
LAST-MODIFIED:20240326T211613Z
UID:10000608-1716537600-1716656400@brahmanevent.com
SUMMARY:The Red River Brahman Alliance Show
DESCRIPTION:EventsMake plans to attend the The Red River Brahman Alliance Show! \nFriday\, May 24 \n3:00pm-9:00pm - Barn Open for Arrival \n5:00pm-6:00pm - Showmanship Clinic by Brandy Barnes \n6:00pm-8:00pm - Welcome Dinner and Educational Speaker \nSaturday\, May 25 \n7:00am-9:00am - Barn Open for Arrival \n9:00am - Showmanship \nRRBA Open Brahman Show - Judge: Reggie Rodriguez \nRed & Gray Heifers/Bulls \nBos Indicus International Show - Judge: PJ Budler \nGray Brahman - Red Brahman - Guzerat - Gyr - Sardo Negro - Nelore - ABBA Golden Certified F1 - Indu Brazil \nBos Indicus International will have the first ever Brahman show where performance will be  40% of the selection process! Lee Leachman of Colorado is building a $profit index to use\, for free for us as he feels like it will be the future of cattle shows. It will be done as follows: \nPJ Budler\, the judge will place the cattle and give them all a score out of 100\nWe’ll adjust the score to be out of 60. \nThe ABBA maternal indexes of all cattle on show will be indexed and weighted out of 30. The ABBA terminal index of all cattle on show will be indexed and weighted out of 10. Cattle are then placed 1st to last in class based on their score out of 100. The event will be giving away a minimum of $10\,000.
URL:https://brahmanevent.com/event/the-red-river-brahman-alliance-show/
LOCATION:McKenny\, TX
CATEGORIES:Open Shows
ATTACH;FMTTYPE=image/jpeg:https://brahmanevent.com/wp-content/uploads/RedRiver_v2-scaled.jpg
END:VEVENT
BEGIN:VEVENT
DTSTART;TZID=America/Chicago:20240522T080000
DTEND;TZID=America/Chicago:20240523T170000
DTSTAMP:20260419T173550
CREATED:20240522T184650Z
LAST-MODIFIED:20240522T184728Z
UID:10000648-1716364800-1716483600@brahmanevent.com
SUMMARY:KI Memorial Day Frozen Genetics Online Sale
DESCRIPTION:EventsMake plans to bid in the KI Memorial Day Frozen Genetics Online Sale!
URL:https://brahmanevent.com/event/ki-memorial-day-frozen-genetics-online-sale/
LOCATION:Cattle In Motion
CATEGORIES:Online Events,Sales
ATTACH;FMTTYPE=image/jpeg:https://brahmanevent.com/wp-content/uploads/2024KiCattle-MemorialSale_v2.jpg
ORGANIZER;CN="Infinity Cattle Service":MAILTO:infinitycattleservices@gmail.com
END:VEVENT
BEGIN:VEVENT
DTSTART;TZID=America/Chicago:20240518T080000
DTEND;TZID=America/Chicago:20240518T170000
DTSTAMP:20260419T173550
CREATED:20231218T173449Z
LAST-MODIFIED:20231218T173449Z
UID:10000596-1716019200-1716051600@brahmanevent.com
SUMMARY:Cattleman's Top Cut Replacement Female Sale
DESCRIPTION:EventsMake plans to attend the Cattleman's Top Cut Replacement Female Sale!
URL:https://brahmanevent.com/event/cattlemans-top-cut-replacement-female-sale-3/
LOCATION:Navasota\, Texas\, Navasota\, TX\, United States
CATEGORIES:Sales
ATTACH;FMTTYPE=image/png:https://brahmanevent.com/wp-content/uploads/2021/12/Brahman-Event-logo.png
ORGANIZER;CN="Tom Johnson":MAILTO:mailto:johnsoncattlemarketing@gmail.com
END:VEVENT
BEGIN:VEVENT
DTSTART;TZID=America/Chicago:20240518T080000
DTEND;TZID=America/Chicago:20240518T170000
DTSTAMP:20260419T173550
CREATED:20231204T160426Z
LAST-MODIFIED:20231204T160426Z
UID:10000575-1716019200-1716051600@brahmanevent.com
SUMMARY:5th Annual England Cattle Co. “Brahmans on the Rio”  Production Sale
DESCRIPTION:EventsMake plans to attend the 5th Annual England Cattle Co. “Brahmans on the Rio” Production Sale!
URL:https://brahmanevent.com/event/5th-annual-england-cattle-co-brahmans-on-the-rio-production-sale/
LOCATION:England Cattle Company\, 13228 Mile 2 E\, Mercedes\, TX\, 78570\, United States
CATEGORIES:Sales
ATTACH;FMTTYPE=image/png:https://brahmanevent.com/wp-content/uploads/2021/12/Brahman-Event-logo.png
GEO:26.2263509;-97.8790905
X-APPLE-STRUCTURED-LOCATION;VALUE=URI;X-ADDRESS=England Cattle Company 13228 Mile 2 E Mercedes TX 78570 United States;X-APPLE-RADIUS=500;X-TITLE=13228 Mile 2 E:geo:-97.8790905,26.2263509
END:VEVENT
BEGIN:VEVENT
DTSTART;TZID=America/Chicago:20240517T080000
DTEND;TZID=America/Chicago:20240519T170000
DTSTAMP:20260419T173550
CREATED:20240221T174154Z
LAST-MODIFIED:20240221T174155Z
UID:10000619-1715932800-1716138000@brahmanevent.com
SUMMARY:Subasta Hembras Elite Online
DESCRIPTION:EventsMake plans to attend the Subasta Hembras Elite Online! Click here for more information.
URL:https://brahmanevent.com/event/subasta-hembras-elite-online/
LOCATION:Asobrahman\, Vía 1 4-88\, Zona 4\, Ciudad de Guatemala\, Guatemala
CATEGORIES:Online Events,Sales
ATTACH;FMTTYPE=image/png:https://brahmanevent.com/wp-content/uploads/image-1.png
END:VEVENT
BEGIN:VEVENT
DTSTART;TZID=America/Chicago:20240517T080000
DTEND;TZID=America/Chicago:20240519T170000
DTSTAMP:20260419T173550
CREATED:20230830T212046Z
LAST-MODIFIED:20231211T220602Z
UID:10000471-1715932800-1716138000@brahmanevent.com
SUMMARY:IX ExpoBrahman
DESCRIPTION:EventsMake plans to attend the IX ExpoBrahman!
URL:https://brahmanevent.com/event/ix-expobrahman/
LOCATION:Petén\, Guatemala\, Guatemala
CATEGORIES:International
ATTACH;FMTTYPE=image/png:https://brahmanevent.com/wp-content/uploads/image-30.png
GEO:37.09024;-95.712891
END:VEVENT
BEGIN:VEVENT
DTSTART;TZID=America/Chicago:20240513T080000
DTEND;TZID=America/Chicago:20240514T170000
DTSTAMP:20260419T173550
CREATED:20240307T201914Z
LAST-MODIFIED:20240307T201914Z
UID:10000622-1715587200-1715706000@brahmanevent.com
SUMMARY:79 Cattle Company Online Sale
DESCRIPTION:EventsMake plans to bid in the 79 Cattle Company Online Sale!
URL:https://brahmanevent.com/event/79-cattle-company-online-sale/
LOCATION:Best Cattle Sales\, United States
CATEGORIES:Best Cattle Sales
ATTACH;FMTTYPE=image/jpeg:https://brahmanevent.com/wp-content/uploads/2020-BestCattleSales-FB-Topper.jpg
GEO:37.09024;-95.712891
END:VEVENT
BEGIN:VEVENT
DTSTART;TZID=America/Chicago:20240510T080000
DTEND;TZID=America/Chicago:20240519T170000
DTSTAMP:20260419T173550
CREATED:20240415T202219Z
LAST-MODIFIED:20240415T202444Z
UID:10000642-1715328000-1716138000@brahmanevent.com
SUMMARY:LX Exposición Nacional de Ganado Cebú
DESCRIPTION:EventsMake plans to attend the LX Exposición Nacional de Ganado Cebú! For information on hotel reservations\, click here.
URL:https://brahmanevent.com/event/lx-exposicion-nacional-de-ganado-cebu/
LOCATION:Ylang Ylang Cattle Show\, Boca del Rio\, Veracruz\, Mexico
CATEGORIES:International
ATTACH;FMTTYPE=image/jpeg:https://brahmanevent.com/wp-content/uploads/436511555_812556414252570_7618750371043266440_n.jpg
ORGANIZER;CN="Asociacion Mexicana de Criadores de Cebu":MAILTO:info@cebumexico.com
END:VEVENT
BEGIN:VEVENT
DTSTART;TZID=America/Chicago:20240510T080000
DTEND;TZID=America/Chicago:20240512T170000
DTSTAMP:20260419T173550
CREATED:20231016T151121Z
LAST-MODIFIED:20240408T224015Z
UID:10000540-1715328000-1715533200@brahmanevent.com
SUMMARY:Southeastern International Livestock Show
DESCRIPTION:EventsMake plans to attend the Southeastern International Livestock Show!
URL:https://brahmanevent.com/event/southeastern-international-livestock-show/
LOCATION:Okeechobee Agri-Civic Center\, 4601 Highway 710 East\, Okeechobee\, FL\, 34974\, United States
CATEGORIES:Junior Shows,Open Shows
ATTACH;FMTTYPE=image/jpeg:https://brahmanevent.com/wp-content/uploads/433691466_924381863023113_4921710186761857268_n-1.jpg
GEO:27.2279861;-80.7713269
X-APPLE-STRUCTURED-LOCATION;VALUE=URI;X-ADDRESS=Okeechobee Agri-Civic Center 4601 Highway 710 East Okeechobee FL 34974 United States;X-APPLE-RADIUS=500;X-TITLE=4601 Highway 710 East:geo:-80.7713269,27.2279861
END:VEVENT
BEGIN:VEVENT
DTSTART;TZID=America/Chicago:20240508T180000
DTEND;TZID=America/Chicago:20240510T180000
DTSTAMP:20260419T173550
CREATED:20230911T214102Z
LAST-MODIFIED:20240314T215236Z
UID:10000474-1715191200-1715364000@brahmanevent.com
SUMMARY:UF Brahman Bull and Heifer Sale
DESCRIPTION:EventsMake plans to attend the UF Brahman Bull and Heifer Sale!
URL:https://brahmanevent.com/event/uf-brahman-bull-and-heifer-sale/
LOCATION:University of Florida\, Gainesville\, FL\, 32611\, United States
CATEGORIES:Sales
ATTACH;FMTTYPE=image/jpeg:https://brahmanevent.com/wp-content/uploads/UF.jpg
GEO:29.6130239;-82.371937
END:VEVENT
BEGIN:VEVENT
DTSTART;TZID=America/Chicago:20240508T080000
DTEND;TZID=America/Chicago:20240510T170000
DTSTAMP:20260419T173550
CREATED:20231004T162142Z
LAST-MODIFIED:20231004T162143Z
UID:10000499-1715155200-1715360400@brahmanevent.com
SUMMARY:73rd Annual Florida Beef Cattle Short Course
DESCRIPTION:EventsMake plans to attend the 73rd Annual Florida Beef Cattle Short Course! Click here to learn more.
URL:https://brahmanevent.com/event/73rd-annual-florida-beef-cattle-short-course/
LOCATION:University of Florida\, Gainesville\, FL\, 32611\, United States
CATEGORIES:Conventions
ATTACH;FMTTYPE=image/png:https://brahmanevent.com/wp-content/uploads/800px-University_of_Florida_Vertical_Signature.svg.png
GEO:29.6130239;-82.371937
END:VEVENT
BEGIN:VEVENT
DTSTART;TZID=America/Chicago:20240504T080000
DTEND;TZID=America/Chicago:20240505T170000
DTSTAMP:20260419T173550
CREATED:20231027T181451Z
LAST-MODIFIED:20231027T181451Z
UID:10000565-1714809600-1714928400@brahmanevent.com
SUMMARY:AGSO Juzgamiento de Brahman y Curso de Jóvenes Expositores
DESCRIPTION:EventsMake plans to attend the AGSO Juzgamiento de Brahman y Curso de Jóvenes Expositores!
URL:https://brahmanevent.com/event/agso-juzgamiento-de-brahman-y-curso-de-jovenes-expositores/
CATEGORIES:International
ATTACH;FMTTYPE=image/png:https://brahmanevent.com/wp-content/uploads/2021/12/Brahman-Event-logo.png
END:VEVENT
BEGIN:VEVENT
DTSTART;TZID=America/Chicago:20240504T080000
DTEND;TZID=America/Chicago:20240504T170000
DTSTAMP:20260419T173550
CREATED:20240408T224204Z
LAST-MODIFIED:20240408T224204Z
UID:10000640-1714809600-1714842000@brahmanevent.com
SUMMARY:BRC Showmanship Camp
DESCRIPTION:EventsMake plans to attend the BRC Showmanship Camp!
URL:https://brahmanevent.com/event/brc-showmanship-camp/
LOCATION:B.R. Cutrer\, Inc.\, Boling\, TX\, United States
CATEGORIES:Clinic
ATTACH;FMTTYPE=image/jpeg:https://brahmanevent.com/wp-content/uploads/IMG_2498.jpg
GEO:29.2569227;-95.9462552
END:VEVENT
BEGIN:VEVENT
DTSTART;TZID=America/Chicago:20240503T080000
DTEND;TZID=America/Chicago:20240505T170000
DTSTAMP:20260419T173550
CREATED:20240115T223634Z
LAST-MODIFIED:20240327T194726Z
UID:10000598-1714723200-1714928400@brahmanevent.com
SUMMARY:EBBA Extravaganza & Bonanza
DESCRIPTION:EventsMake plans to attend the EBBA Extravaganza & Bonanza! \nEntry Deadline is April 4th to avoid late fees\, subsitutions can be made until April 22nd at no charge. \nShow Check-In: \nDate: Friday\, May 3rd\, 2024 \nTime: Noon to 6 PM \nAll cattle must be in place by 8 PM. \nSaturday check-in for Sunday’s Bonanza Open Show is available upon request. \nFriday Schedule: \n12pm-4pm - Junior Judging Contest & Clinic \n5pm - Showmanship Contest - Judge: Alex Pittman \nSaturday Schedule: \n8am - EBBA Extravaganza Open Show - Judge: David Miller \n6pm - ABBA 100 Years Celebration Banquet \nSunday Schedule: \n8am - Cowboy Church Service \n9am - EBBA Bonanza Open Show - Judge: Dr. Joe Paschal
URL:https://brahmanevent.com/event/ebba-extravaganza-bonanza/
LOCATION:Perry Georgia\, Perry\, GA\, United States
CATEGORIES:Open Shows
ATTACH;FMTTYPE=image/jpeg:https://brahmanevent.com/wp-content/uploads/WhatsApp-Image-2024-03-27-at-13.14.45_f3ff4bb0.jpg
GEO:32.4582065;-83.7315723
END:VEVENT
BEGIN:VEVENT
DTSTART;TZID=America/Chicago:20240503T080000
DTEND;TZID=America/Chicago:20240503T170000
DTSTAMP:20260419T173550
CREATED:20231018T215855Z
LAST-MODIFIED:20231018T215855Z
UID:10000561-1714723200-1714755600@brahmanevent.com
SUMMARY:Heritage Cattle Company First Friday Genetic Drop
DESCRIPTION:EventsDon't miss the Heritage Cattle Company First Friday Genetic Drop!
URL:https://brahmanevent.com/event/heritage-cattle-company-first-friday-genetic-drop-11/
CATEGORIES:Online Events,Sales
ATTACH;FMTTYPE=image/jpeg:https://brahmanevent.com/wp-content/uploads/HeritageCattle_Badge_Logo-01.jpg
ORGANIZER;CN="Heritage Cattle Company":MAILTO:heritagecattle1@yahoo.com
END:VEVENT
END:VCALENDAR