BEGIN:VCALENDAR
VERSION:2.0
PRODID:-//Brahman Event - ECPv6.15.15//NONSGML v1.0//EN
CALSCALE:GREGORIAN
METHOD:PUBLISH
X-ORIGINAL-URL:https://brahmanevent.com
X-WR-CALDESC:Events for Brahman Event
REFRESH-INTERVAL;VALUE=DURATION:PT1H
X-Robots-Tag:noindex
X-PUBLISHED-TTL:PT1H
BEGIN:VTIMEZONE
TZID:America/Chicago
BEGIN:DAYLIGHT
TZOFFSETFROM:-0600
TZOFFSETTO:-0500
TZNAME:CDT
DTSTART:20230312T080000
END:DAYLIGHT
BEGIN:STANDARD
TZOFFSETFROM:-0500
TZOFFSETTO:-0600
TZNAME:CST
DTSTART:20231105T070000
END:STANDARD
BEGIN:DAYLIGHT
TZOFFSETFROM:-0600
TZOFFSETTO:-0500
TZNAME:CDT
DTSTART:20240310T080000
END:DAYLIGHT
BEGIN:STANDARD
TZOFFSETFROM:-0500
TZOFFSETTO:-0600
TZNAME:CST
DTSTART:20241103T070000
END:STANDARD
BEGIN:DAYLIGHT
TZOFFSETFROM:-0600
TZOFFSETTO:-0500
TZNAME:CDT
DTSTART:20250309T080000
END:DAYLIGHT
BEGIN:STANDARD
TZOFFSETFROM:-0500
TZOFFSETTO:-0600
TZNAME:CST
DTSTART:20251102T070000
END:STANDARD
END:VTIMEZONE
BEGIN:VEVENT
DTSTART;TZID=America/Chicago:20240828T080000
DTEND;TZID=America/Chicago:20240829T170000
DTSTAMP:20260419T143559
CREATED:20240710T160713Z
LAST-MODIFIED:20240807T184728Z
UID:10000670-1724832000-1724950800@brahmanevent.com
SUMMARY:4TH ANNUAL ST GENETICS BRAHMAN & HK CATTLE SUMMER SELECTION SALE ONLINE SALE
DESCRIPTION:EventsMake plans to bid in the 4TH ANNUAL ST GENETICS BRAHMAN & HK CATTLE SUMMER SELECTION SALE ONLINE SALE!
URL:https://brahmanevent.com/event/annual-stgenetics-brahman-and-hk-cattle-summer-selection-sale-4/
LOCATION:Best Cattle Sales\, United States
CATEGORIES:Best Cattle Sales
ATTACH;FMTTYPE=image/jpeg:https://brahmanevent.com/wp-content/uploads/2020-BestCattleSales-FB-Topper.jpg
GEO:37.09024;-95.712891
END:VEVENT
BEGIN:VEVENT
DTSTART;TZID=America/Chicago:20240828T080000
DTEND;TZID=America/Chicago:20240828T170000
DTSTAMP:20260419T143559
CREATED:20240710T161216Z
LAST-MODIFIED:20240710T161216Z
UID:10000671-1724832000-1724864400@brahmanevent.com
SUMMARY:KI Cattle Company Labor Day Online Sale
DESCRIPTION:EventsMake plans to bid in the KI Cattle Company Labor Day Online Sale! Click here to learn more.
URL:https://brahmanevent.com/event/ki-cattle-company-labor-day-online-sale/
LOCATION:Cattle In Motion
CATEGORIES:Sales
ATTACH;FMTTYPE=image/png:https://brahmanevent.com/wp-content/uploads/2021/12/Brahman-Event-logo.png
ORGANIZER;CN="Infinity Cattle Service":MAILTO:infinitycattleservices@gmail.com
END:VEVENT
BEGIN:VEVENT
DTSTART;TZID=America/Chicago:20240824T080000
DTEND;TZID=America/Chicago:20240824T170000
DTSTAMP:20260419T143559
CREATED:20230925T144101Z
LAST-MODIFIED:20240805T214824Z
UID:10000478-1724486400-1724518800@brahmanevent.com
SUMMARY:4th Annual Southern Invitational Registered Brahman and F1 Female Sale
DESCRIPTION:EventsMake plans to bid in the 4th Annual Southern Invitational Registered Brahman and F1 Female Sale!
URL:https://brahmanevent.com/event/4th-annual-southern-invitational-registered-brahman-and-f1-female-sale/
LOCATION:TX
CATEGORIES:Best Cattle Sales,Sales
ATTACH;FMTTYPE=image/jpeg:https://brahmanevent.com/wp-content/uploads/2024-SouthernInvitational_v1.jpg
END:VEVENT
BEGIN:VEVENT
DTSTART;TZID=America/Chicago:20240823T080000
DTEND;TZID=America/Chicago:20240826T170000
DTSTAMP:20260419T143559
CREATED:20230925T152145Z
LAST-MODIFIED:20240805T215033Z
UID:10000479-1724400000-1724691600@brahmanevent.com
SUMMARY:4th Annual Southern Invitational Frozen Genetics Online Sale
DESCRIPTION:EventsMake plans to bid in the 4th Annual Southern Invitational Frozen Genetics Online Sale!
URL:https://brahmanevent.com/event/4th-annual-southern-invitational-frozen-genetics-online-sale/
LOCATION:Best Cattle Sales\, United States
CATEGORIES:Best Cattle Sales,Sales
ATTACH;FMTTYPE=image/jpeg:https://brahmanevent.com/wp-content/uploads/2024-SouthernInvitational_v1.jpg
GEO:37.09024;-95.712891
END:VEVENT
BEGIN:VEVENT
DTSTART;VALUE=DATE:20240818
DTEND;VALUE=DATE:20240819
DTSTAMP:20260419T143559
CREATED:20240702T200104Z
LAST-MODIFIED:20240702T204223Z
UID:10000661-1723939200-1724025599@brahmanevent.com
SUMMARY:HBBA Junior Kick-Off Show - 2024
DESCRIPTION:EventsMake plans to attend the HBBA Junior Kick-Off Show!
URL:https://brahmanevent.com/event/hbba-junior-kick-off-show-2024/
LOCATION:Top Hand Arena / Winding Trails Ranch\, 3204 405th Ct E\, Myakka City\, 34251\, United States
CATEGORIES:Junior Shows
ATTACH;FMTTYPE=image/jpeg:https://brahmanevent.com/wp-content/uploads/HBBA-2024.jpg
END:VEVENT
BEGIN:VEVENT
DTSTART;TZID=America/Chicago:20240815T080000
DTEND;TZID=America/Chicago:20240815T170000
DTSTAMP:20260419T143559
CREATED:20240605T140245Z
LAST-MODIFIED:20240730T171139Z
UID:10000649-1723708800-1723741200@brahmanevent.com
SUMMARY:Tennessee State Fair Open Brahman Show
DESCRIPTION:EventsMake plans to attend the Tennessee State Fair Open Brahman Show with Judge: Keaton Dodd! To learn more\, click here.
URL:https://brahmanevent.com/event/tennessee-state-fair-open-brahman-show-3/
LOCATION:Wilson County Fairgrounds\, 945 E. Baddour Parkway\, Lebanon\, TN\, United States
CATEGORIES:Open Shows
ATTACH;FMTTYPE=image/png:https://brahmanevent.com/wp-content/uploads/2021/12/Brahman-Event-logo.png
ORGANIZER;CN="Wilson County Fair":MAILTO:office@wilsoncountyfair.net
END:VEVENT
BEGIN:VEVENT
DTSTART;TZID=America/Chicago:20240805T080000
DTEND;TZID=America/Chicago:20240807T170000
DTSTAMP:20260419T143559
CREATED:20231004T163812Z
LAST-MODIFIED:20231005T210051Z
UID:10000502-1722844800-1723050000@brahmanevent.com
SUMMARY:Texas A&M Beef Cattle Short Course
DESCRIPTION:EventsMake plans to attend the Texas A&M Beef Cattle Short Course! Click here to learn more!
URL:https://brahmanevent.com/event/texas-am-beef-cattle-short-course-3/
LOCATION:Texas A&M\, 241 Kleberg Bldg. • 2471 TAMU\, College Station\, TX\, 77843-2471\, United States
CATEGORIES:Conventions
ATTACH;FMTTYPE=image/png:https://brahmanevent.com/wp-content/uploads/2021/12/Brahman-Event-logo.png
ORGANIZER;CN="Texas A&M Beef Cattle Short Course":MAILTO: jjcleere@ag.tamu.edu
GEO:27.4308339;-97.6982272
X-APPLE-STRUCTURED-LOCATION;VALUE=URI;X-ADDRESS=Texas A&M 241 Kleberg Bldg. • 2471 TAMU College Station TX 77843-2471 United States;X-APPLE-RADIUS=500;X-TITLE=241 Kleberg Bldg. • 2471 TAMU:geo:-97.6982272,27.4308339
END:VEVENT
BEGIN:VEVENT
DTSTART;TZID=America/Chicago:20240802T000000
DTEND;TZID=America/Chicago:20240802T000000
DTSTAMP:20260419T143559
CREATED:20231204T170024Z
LAST-MODIFIED:20231204T170101Z
UID:10000577-1722556800-1722556800@brahmanevent.com
SUMMARY:Heritage Cattle Company First Friday Genetic Drop
DESCRIPTION:
URL:https://brahmanevent.com/event/heritage-cattle-company-first-friday-genetic-drop-13/
LOCATION:TX
CATEGORIES:Sales
END:VEVENT
BEGIN:VEVENT
DTSTART;TZID=America/Chicago:20240801T080000
DTEND;TZID=America/Chicago:20240801T170000
DTSTAMP:20260419T143559
CREATED:20240802T221241Z
LAST-MODIFIED:20250113T183136Z
UID:10000678-1722499200-1722531600@brahmanevent.com
SUMMARY:Cattle Innovation Station Podcast Drop
DESCRIPTION:EventsBe sure to check out the Cattle Innovation Station Podcast Drop on the 1st of every month! The podcast is available on Pandora\, Apple Podcast\, Spotify\, Amazon Music\, Pocket Casts\, iHeart Radio\, and Castbox. Don't forget to leave your review and comments to show your support!
URL:https://brahmanevent.com/event/cattle-innovation-station-podcast-drop/2024-08-01/
LOCATION:TX
CATEGORIES:Online Events,Other
ATTACH;FMTTYPE=image/jpeg:https://brahmanevent.com/wp-content/uploads/WhatsApp-Image-2024-08-02-at-17.09.53_ecf1a75d.jpg
ORGANIZER;CN="Cattle Innovation Station":MAILTO:bbwtopnotchcattle@gmail.com
END:VEVENT
BEGIN:VEVENT
DTSTART;TZID=America/Chicago:20240801T080000
DTEND;TZID=America/Chicago:20240801T170000
DTSTAMP:20260419T143559
CREATED:20240313T212347Z
LAST-MODIFIED:20240313T212451Z
UID:10000629-1722499200-1722531600@brahmanevent.com
SUMMARY:ABBA Bull Development Wrap-Up
DESCRIPTION:EventsDon't miss out on the ABBA Bull Development Wrap-Up! \nFor more information contact Director of Breed Improvement\, AJ Knowles - ajknowles@brahman.org
URL:https://brahmanevent.com/event/bull-development-wrap-up/
LOCATION:TX
CATEGORIES:Sales
ATTACH;FMTTYPE=image/jpeg:https://brahmanevent.com/wp-content/uploads/2021/08/ABBA.jpg
ORGANIZER;CN="ABBA":MAILTO:abba@brahman.org
END:VEVENT
BEGIN:VEVENT
DTSTART;TZID=America/Chicago:20240731T080000
DTEND;TZID=America/Chicago:20240731T170000
DTSTAMP:20260419T143559
CREATED:20231204T165821Z
LAST-MODIFIED:20231204T165822Z
UID:10000580-1722412800-1722445200@brahmanevent.com
SUMMARY:Bulls Eye Ranch Hands-On Showmanship Clinic
DESCRIPTION:EventsMake plans to attend the Bulls Eye Ranch Hands-On Showmanship Clinic!
URL:https://brahmanevent.com/event/bulls-eye-ranch-hands-on-showmanship-clinic-2/
LOCATION:Brazos County Expo Center\, 5827 Leonard Rd\, Bryan\, TX\, 77807\, United States
CATEGORIES:Clinic
ATTACH;FMTTYPE=image/jpeg:https://brahmanevent.com/wp-content/uploads/BullsEyeRanch.jpg
ORGANIZER;CN="Bulls Eye Ranch":MAILTO:csmith8465@icloud.com
GEO:30.6218544;-96.4160553
X-APPLE-STRUCTURED-LOCATION;VALUE=URI;X-ADDRESS=Brazos County Expo Center 5827 Leonard Rd Bryan TX 77807 United States;X-APPLE-RADIUS=500;X-TITLE=5827 Leonard Rd:geo:-96.4160553,30.6218544
END:VEVENT
BEGIN:VEVENT
DTSTART;TZID=America/Chicago:20240730T080000
DTEND;TZID=America/Chicago:20240803T170000
DTSTAMP:20260419T143559
CREATED:20231004T164237Z
LAST-MODIFIED:20240513T154545Z
UID:10000503-1722326400-1722704400@brahmanevent.com
SUMMARY:2024 Bluebonnet Kick Off Classic Open and Junior Show
DESCRIPTION:EventsMake plans to attend the 2024 Bluebonnet Kick Off Classic Open and Junior Show! Click here to learn more!
URL:https://brahmanevent.com/event/2024-bluebonnet-kick-off-classic-open-and-junior-show/
LOCATION:Brazos County Expo Center\, 5827 Leonard Rd\, Bryan\, TX\, 77807\, United States
CATEGORIES:Junior Shows,Open Shows
ATTACH;FMTTYPE=image/jpeg:https://brahmanevent.com/wp-content/uploads/Bluebonnet_v1.jpg
ORGANIZER;CN="Bluebonnet Brahman Association":MAILTO:contactus@bluebonnetbrahman.com
GEO:30.6218544;-96.4160553
X-APPLE-STRUCTURED-LOCATION;VALUE=URI;X-ADDRESS=Brazos County Expo Center 5827 Leonard Rd Bryan TX 77807 United States;X-APPLE-RADIUS=500;X-TITLE=5827 Leonard Rd:geo:-96.4160553,30.6218544
END:VEVENT
BEGIN:VEVENT
DTSTART;TZID=America/Chicago:20240720T180000
DTEND;TZID=America/Chicago:20240720T180000
DTSTAMP:20260419T143559
CREATED:20231012T172418Z
LAST-MODIFIED:20240314T215011Z
UID:10000525-1721498400-1721498400@brahmanevent.com
SUMMARY:Brahmans at the Camellia Sale
DESCRIPTION:EventsMake plans to attend one of the premier Brahman events of the year and enjoy a fun-filled weekend on the Mississippi Gulf Coast! \nMore information coming soon!
URL:https://brahmanevent.com/event/brahmans-at-the-camellia-sale-3/
LOCATION:The Camellia\, 27360 Highway 603\, Perkinston\, MS\, 39573\, United States
CATEGORIES:Sales
ATTACH;FMTTYPE=image/jpeg:https://brahmanevent.com/wp-content/uploads/camellia.jpg
ORGANIZER;CN="Infinity Cattle Service":MAILTO:infinitycattleservices@gmail.com
GEO:30.5710806;-89.4103089
X-APPLE-STRUCTURED-LOCATION;VALUE=URI;X-ADDRESS=The Camellia 27360 Highway 603 Perkinston MS 39573 United States;X-APPLE-RADIUS=500;X-TITLE=27360 Highway 603:geo:-89.4103089,30.5710806
END:VEVENT
BEGIN:VEVENT
DTSTART;TZID=America/Chicago:20240717T080000
DTEND;TZID=America/Chicago:20240724T170000
DTSTAMP:20260419T143559
CREATED:20230814T163316Z
LAST-MODIFIED:20230814T163317Z
UID:10000459-1721203200-1721840400@brahmanevent.com
SUMMARY:Expo Liberia Internacional 2024
DESCRIPTION:EventsDon't miss out on the Expo Liberia Internacional 2024!
URL:https://brahmanevent.com/event/expo-liberia-internacional-2024/
LOCATION:TX
CATEGORIES:International
ATTACH;FMTTYPE=image/png:https://brahmanevent.com/wp-content/uploads/image-24.png
END:VEVENT
BEGIN:VEVENT
DTSTART;TZID=America/Chicago:20240717T080000
DTEND;TZID=America/Chicago:20240720T170000
DTSTAMP:20260419T143559
CREATED:20240221T201729Z
LAST-MODIFIED:20240605T142306Z
UID:10000620-1721203200-1721494800@brahmanevent.com
SUMMARY:The Brahman Event
DESCRIPTION:EventsMake plans to attend The Brahman Event! Entries open May 18-July 14\,2024 NO LATE ENTRIES \nSchedule of events: \nWEDNESDAY\, JULY 17\, 2024\, 8AM-4PM CATTLE MOVE-IN (ALL CATTLE MUST BE IN PLACE FOR OPEN SHOW BY 4 PM) \nWEDNESDAY JULY 17\,2024 12 PM-4:30 PM CATTLE CHECK-IN (SHOW OFFICE) \nTHURSDAY JULY 18\,2024 (OFFICIAL ABBA WEIGHT & MEASURE & COLOR CLASSIFICATION 7 AM-9 AM) \nDONUTS SPONSORED BY WILLARD INSURANCE GROUP FAIRFIELD\,TEXAS \nTHURSDAY JULY 18\,2024 JUNIOR SHOWMANSHIP SHOW 1 PM - Judge: Kaylee Smith \nJUNIOR FEMALE IMMEDIATELY AFTER THE JUNIOR SHOWMANSHIP SHOW - Judge: Robert Hill \n FRIDAY JULY 19\,2024 8 AM GROUP CLASSES FOLLOWED BY OPEN FEMALE SHOW - Judge: Mark McClintock \nSATURDAY JULY 20\,2024 8 AM OPEN BULL SHOW - Judge: Mark McClintock \nFOR MORE INFORMATION: Reggie Rodriguez 979-732-4175 Click here to view updates in the ShowmanApp. \nHOTELS \nHoliday Inn 936-699-3000 \nComfort Inn 936-632-4949 \nBest Western 936-634-3481 \nSleep Inn 936-630-4600
URL:https://brahmanevent.com/event/the-brahman-event/
LOCATION:Angelina County Fairgrounds\, Lufkin\, TX\, United States
CATEGORIES:Open Shows
ATTACH;FMTTYPE=image/jpeg:https://brahmanevent.com/wp-content/uploads/2024-TheBrahmanEvent-Flyer_v3-2-1.jpg
ORGANIZER;CN="Reggie Rodriguez":MAILTO:show@nationalbrahmanshow.com
END:VEVENT
BEGIN:VEVENT
DTSTART;TZID=America/Chicago:20240714T080000
DTEND;TZID=America/Chicago:20240718T170000
DTSTAMP:20260419T143559
CREATED:20240606T194022Z
LAST-MODIFIED:20240606T194022Z
UID:10000656-1720944000-1721322000@brahmanevent.com
SUMMARY:The Brahman Foundation 2024 Summer Leadership Camp
DESCRIPTION:EventsDon't miss out on the The Brahman Foundation 2024 Summer Leadership Camp!
URL:https://brahmanevent.com/event/the-brahman-foundation-2024-summer-leadership-camp/
LOCATION:Texas A&M\, 241 Kleberg Bldg. • 2471 TAMU\, College Station\, TX\, 77843-2471\, United States
CATEGORIES:Social Events
ATTACH;FMTTYPE=image/png:https://brahmanevent.com/wp-content/uploads/BrahmanFoundation-LogoWeb-1.png
GEO:27.4308339;-97.6982272
X-APPLE-STRUCTURED-LOCATION;VALUE=URI;X-ADDRESS=Texas A&M 241 Kleberg Bldg. • 2471 TAMU College Station TX 77843-2471 United States;X-APPLE-RADIUS=500;X-TITLE=241 Kleberg Bldg. • 2471 TAMU:geo:-97.6982272,27.4308339
END:VEVENT
BEGIN:VEVENT
DTSTART;TZID=America/Chicago:20240713T080000
DTEND;TZID=America/Chicago:20240713T170000
DTSTAMP:20260419T143559
CREATED:20240509T211621Z
LAST-MODIFIED:20240509T211621Z
UID:10000646-1720857600-1720890000@brahmanevent.com
SUMMARY:Southern Red's Field Day
DESCRIPTION:EventsMake plans to attend the Southern Red's Field Day!
URL:https://brahmanevent.com/event/southern-reds-field-day/
LOCATION:Broadhead Brahmans Ranch\, 1488 Hwy 43 North\, Mendenhall\, MS\, 39114\, United States
CATEGORIES:Social Events
ATTACH;FMTTYPE=image/png:https://brahmanevent.com/wp-content/uploads/2.png
END:VEVENT
BEGIN:VEVENT
DTSTART;TZID=America/Chicago:20240708T080000
DTEND;TZID=America/Chicago:20240709T170000
DTSTAMP:20260419T143559
CREATED:20240617T135533Z
LAST-MODIFIED:20240617T135533Z
UID:10000659-1720425600-1720544400@brahmanevent.com
SUMMARY:V8 Ranch Made for Magic IX Sale
DESCRIPTION:EventsMake plans to bid in the V8 Ranch Made for Magic IX Sale!
URL:https://brahmanevent.com/event/v8-ranch-made-for-magic-ix-sale/
LOCATION:DV Auction\, United States
CATEGORIES:Sales
ATTACH;FMTTYPE=image/jpeg:https://brahmanevent.com/wp-content/uploads/V8-Houston-Stall.jpg
ORGANIZER;CN="V8 Ranch":MAILTO:office@v8ranch.com
END:VEVENT
BEGIN:VEVENT
DTSTART;TZID=America/Chicago:20240701T080000
DTEND;TZID=America/Chicago:20240703T170000
DTSTAMP:20260419T143559
CREATED:20240424T210612Z
LAST-MODIFIED:20240424T210613Z
UID:10000643-1719820800-1720026000@brahmanevent.com
SUMMARY:Independent Cattlemen's Association of Texas 50th Annual Convention
DESCRIPTION:EventsMake plans to attend the Independent Cattlemen's Association of Texas 50th Annual Convention! Click here to learn more.
URL:https://brahmanevent.com/event/independent-cattlemens-association-of-texas-50th-annual-convention/
LOCATION:San Marcos\, TX
CATEGORIES:Conventions
ATTACH;FMTTYPE=image/png:https://brahmanevent.com/wp-content/uploads/2021/12/Brahman-Event-logo.png
ORGANIZER;CN="Independent Cattlemen's Association":MAILTO:tica@icatexas.com
END:VEVENT
BEGIN:VEVENT
DTSTART;TZID=America/Chicago:20240629T080000
DTEND;TZID=America/Chicago:20240701T170000
DTSTAMP:20260419T143559
CREATED:20240605T214429Z
LAST-MODIFIED:20240605T215120Z
UID:10000651-1719648000-1719853200@brahmanevent.com
SUMMARY:AJBA Path to Progress Sale: Vol. 2
DESCRIPTION:EventsMake plans to bid in the AJBA Path to Progress Sale: Vol. 2!
URL:https://brahmanevent.com/event/ajba-path-to-progress-sale-vol-2/
LOCATION:Best Cattle Sales\, United States
CATEGORIES:Best Cattle Sales
ATTACH;FMTTYPE=image/png:https://brahmanevent.com/wp-content/uploads/BEST-CATTLE-SALES-WEB.png
GEO:37.09024;-95.712891
END:VEVENT
BEGIN:VEVENT
DTSTART;TZID=America/Chicago:20240628T080000
DTEND;TZID=America/Chicago:20240628T170000
DTSTAMP:20260419T143559
CREATED:20240606T193525Z
LAST-MODIFIED:20240606T195000Z
UID:10000655-1719561600-1719594000@brahmanevent.com
SUMMARY:World Brahman Championship Series Entry Deadline
DESCRIPTION:EventsDon’t miss out on the World Brahman Championship Series! Click HERE to view the entry form.
URL:https://brahmanevent.com/event/world-brahman-championship-series-entry-deadline/
LOCATION:ST Genetics\, 22575 Hwy 6 S\, Navasota\, TX\, 77868\, United States
CATEGORIES:Other
ATTACH;FMTTYPE=image/jpeg:https://brahmanevent.com/wp-content/uploads/STGENETICS_V1-1-scaled.jpg
ORGANIZER;CN="ST Genetics":MAILTO:beef@stgen.com
GEO:30.4830005;-96.175536
X-APPLE-STRUCTURED-LOCATION;VALUE=URI;X-ADDRESS=ST Genetics 22575 Hwy 6 S Navasota TX 77868 United States;X-APPLE-RADIUS=500;X-TITLE=22575 Hwy 6 S:geo:-96.175536,30.4830005
END:VEVENT
BEGIN:VEVENT
DTSTART;TZID=America/Chicago:20240623T080000
DTEND;TZID=America/Chicago:20240630T170000
DTSTAMP:20260419T143559
CREATED:20231204T163535Z
LAST-MODIFIED:20240430T174840Z
UID:10000572-1719129600-1719766800@brahmanevent.com
SUMMARY:2024 AJBA 'All American"
DESCRIPTION:Events   \n \nMake plans to attend the 2024 AJBA 'All American'!
URL:https://brahmanevent.com/event/2024-ajba-all-american/
LOCATION:Ike Hamilton Expo Center\, 501 Mane Street\, West Monroe\, LA\, 71292\, United States
CATEGORIES:Junior Shows
ATTACH;FMTTYPE=image/jpeg:https://brahmanevent.com/wp-content/uploads/434139629_734966432169162_3844315369324646376_n.jpg
ORGANIZER;CN="ABBA":MAILTO:abba@brahman.org
GEO:32.5053727;-92.1809494
X-APPLE-STRUCTURED-LOCATION;VALUE=URI;X-ADDRESS=Ike Hamilton Expo Center 501 Mane Street West Monroe LA 71292 United States;X-APPLE-RADIUS=500;X-TITLE=501 Mane Street:geo:-92.1809494,32.5053727
END:VEVENT
BEGIN:VEVENT
DTSTART;TZID=America/Chicago:20240620T080000
DTEND;TZID=America/Chicago:20240623T170000
DTSTAMP:20260419T143559
CREATED:20231204T163333Z
LAST-MODIFIED:20240604T201137Z
UID:10000579-1718870400-1719162000@brahmanevent.com
SUMMARY:2024 LJBA State Show
DESCRIPTION:EventsMake plans to attend the 2024 LJBA State Show! \nWednesday\, June 19\n5:00 - 8:00 PM: Early Arrival & Early Check in \nThursday\, June 20\n8:00 AM - 12:00 PM: Cattle may arrive\n9:00 AM LJBA Director Meeting\n10:00 AM - 1:00 PM: Check in (original registration papers are required for check in)\n10:00 AM - 1:00 PM: Registration for coloring contest\, public speaking\, and sales talk. Submit posters & photographs for judging\n12:00 PM: All cattle must be in place\n1:00 PM: Queen & Princess Contestant Meeting\n1:30 PM: Public Speaking Contest\n3:30 PM: Interviews (Queen & Princess\, Director\, Scholarship)\n5:00 PM: General Membership Meeting\n7:00 PM: Welcome Supper \nFriday\, June 21\n8:00 AM: Sales Talk\n12:30 PM: Queen & Princess Showmanship Contest\n12:45 PM: Pee-wee Showmanship\n1:00 PM: Showmanship Contest (youngest to oldest)\n30 min following showmanship: F1 Heifer Show \nSaturday\, June 22\n8:30 AM: Bred & Owned Bull Show\, Bred & Owned Heifer Show\n30 min following: Owned Bull Show\, Owned Female Show \nSunday\, June 23\n9 AM: BANQUET
URL:https://brahmanevent.com/event/2024-ljba-state-show/
LOCATION:Ike Hamilton Expo Center\, 501 Mane Street\, West Monroe\, LA\, 71292\, United States
CATEGORIES:Junior Shows
ATTACH;FMTTYPE=image/jpeg:https://brahmanevent.com/wp-content/uploads/IMG_2353.jpg
ORGANIZER;CN="LJBA":MAILTO:jennymesthay@gmail.com
GEO:32.5053727;-92.1809494
X-APPLE-STRUCTURED-LOCATION;VALUE=URI;X-ADDRESS=Ike Hamilton Expo Center 501 Mane Street West Monroe LA 71292 United States;X-APPLE-RADIUS=500;X-TITLE=501 Mane Street:geo:-92.1809494,32.5053727
END:VEVENT
BEGIN:VEVENT
DTSTART;TZID=America/Chicago:20240618T080000
DTEND;TZID=America/Chicago:20240620T170000
DTSTAMP:20260419T143559
CREATED:20231006T160857Z
LAST-MODIFIED:20231006T161445Z
UID:10000514-1718697600-1718902800@brahmanevent.com
SUMMARY:Florida Cattlemen's Assoc. Annual Convention
DESCRIPTION:EventsMake plans to attend the Florida Cattlemen's Assoc. Annual Convention! Click here to learn more!
URL:https://brahmanevent.com/event/florida-cattlemens-assoc-annual-convention/
LOCATION:Marco Island\, FL\, Marco Island\, FL\, FL\, United States
CATEGORIES:Conventions
ATTACH;FMTTYPE=image/png:https://brahmanevent.com/wp-content/uploads/2021/12/Brahman-Event-logo.png
GEO:25.9397412;-81.7075355
X-APPLE-STRUCTURED-LOCATION;VALUE=URI;X-ADDRESS=Marco Island FL Marco Island FL FL United States;X-APPLE-RADIUS=500;X-TITLE=Marco Island\, FL:geo:-81.7075355,25.9397412
END:VEVENT
BEGIN:VEVENT
DTSTART;TZID=America/Chicago:20240617T080000
DTEND;TZID=America/Chicago:20240618T170000
DTSTAMP:20260419T143559
CREATED:20240606T194355Z
LAST-MODIFIED:20240606T194355Z
UID:10000657-1718611200-1718730000@brahmanevent.com
SUMMARY:ABBA Spring Board of Directors Meeting
DESCRIPTION:EventsThe Spring Board of Directors and Committee Meetings will be held at The George Hotel and Cavalry Hotel in College Station\, TX starting at 4:00 PM on Monday\, June 17th for the Finance Committee\, and 6:00 PM for the Executive Committee. We will be resuming at 8:00 AM on Tuesday\, June 18th for all other committees. \nClick here to learn more.
URL:https://brahmanevent.com/event/abba-spring-board-of-directors-meeting/
LOCATION:College Station\, TX\, TX\, United States
CATEGORIES:Meetings
ATTACH;FMTTYPE=image/jpeg:https://brahmanevent.com/wp-content/uploads/2021/08/ABBA.jpg
ORGANIZER;CN="ABBA":MAILTO:abba@brahman.org
END:VEVENT
BEGIN:VEVENT
DTSTART;TZID=America/Chicago:20240612T080000
DTEND;TZID=America/Chicago:20240616T170000
DTSTAMP:20260419T143559
CREATED:20231204T161936Z
LAST-MODIFIED:20240604T200204Z
UID:10000578-1718179200-1718557200@brahmanevent.com
SUMMARY:2024 TJBA State Show
DESCRIPTION:EventsMake plans to attend the 2024 TJBA State Show! \nWednesday\, June 12\n7 AM - 4 PM: Cattle Arrival at Brazos County Expo Center\n1 PM: Sales Talk Contest\n3:30 - 5:00 PM: Exhibitor check-in at show office (Check registration papers\, submit poster/photo entries\, & complete All Around entries)\n5 PM: Queen & Princess Orientation\n6 PM: TJBA Membership Meeting\, followed by Herdsman Quiz\nFollowing Quiz: TJBA Fun Night \nThursday\, June 13\n8 AM: Queen and Princess Public Speaking & Interviews\n8:30 AM: Public Speaking Contest Finals (Top 10 per age division) Must be checked in for contest by 8 AM\n12 PM: F1 Heifer Show\n30 min after F1 Show: TJBA Bred & Owned Cattle Show (bulls\, red heifers\, finishing with gray heifers) \nFriday\, June 14\n8:00 AM: TJBA Owned Cattle Show (red bulls\, gray bulls\, red heifers\, finishing with gray heifers) \nSaturday\, June 15\n8:00 AM: Showmanship Contest (Queen & Princess\, Junior\, Minor\, Major\, Senior\, Drive\, and Pee-Wee)\n6:30 PM: TJBA Awards Banquet and Dance
URL:https://brahmanevent.com/event/2024-tjba-state-show/
LOCATION:Brazos County Expo Center\, 5827 Leonard Rd\, Bryan\, TX\, 77807\, United States
CATEGORIES:Junior Shows
ATTACH;FMTTYPE=image/jpeg:https://brahmanevent.com/wp-content/uploads/440594034_881428210453322_7201228880715650937_n.jpg
ORGANIZER;CN="TJBA":MAILTO:TexasJuniorBrahmans@gmail.com
GEO:30.6218544;-96.4160553
X-APPLE-STRUCTURED-LOCATION;VALUE=URI;X-ADDRESS=Brazos County Expo Center 5827 Leonard Rd Bryan TX 77807 United States;X-APPLE-RADIUS=500;X-TITLE=5827 Leonard Rd:geo:-96.4160553,30.6218544
END:VEVENT
BEGIN:VEVENT
DTSTART;TZID=America/Chicago:20240612T080000
DTEND;TZID=America/Chicago:20240613T170000
DTSTAMP:20260419T143559
CREATED:20240605T215450Z
LAST-MODIFIED:20240605T215450Z
UID:10000652-1718179200-1718298000@brahmanevent.com
SUMMARY:2024 Vermilion 4H Foundation Fundraiser Auction
DESCRIPTION:EventsMake plans to bid in the 2024 Vermilion 4H Foundation Fundraiser Auction!
URL:https://brahmanevent.com/event/2024-vermilion-4h-foundation-fundraiser-auction/
LOCATION:Best Cattle Sales\, United States
CATEGORIES:Best Cattle Sales
ATTACH;FMTTYPE=image/png:https://brahmanevent.com/wp-content/uploads/BEST-CATTLE-SALES-WEB.png
GEO:37.09024;-95.712891
END:VEVENT
BEGIN:VEVENT
DTSTART;TZID=America/Chicago:20240608T080000
DTEND;TZID=America/Chicago:20240608T170000
DTSTAMP:20260419T143559
CREATED:20231004T163209Z
LAST-MODIFIED:20240416T215253Z
UID:10000501-1717833600-1717866000@brahmanevent.com
SUMMARY:8th Annual C&R Farms Replacement Female Sale
DESCRIPTION:EventsMake plans to attend the 8th Annual C&R Farms Replacement Female Sale!
URL:https://brahmanevent.com/event/8th-annual-cr-farms-replacement-female-sale/
LOCATION:C&R Farms\, 447 Woodland Road\, Cairo\, GA\, United States
CATEGORIES:Sales
ATTACH;FMTTYPE=image/jpeg:https://brahmanevent.com/wp-content/uploads/bkgd_CandR_coop.jpg
END:VEVENT
BEGIN:VEVENT
DTSTART;TZID=America/Chicago:20240607T000000
DTEND;TZID=America/Chicago:20240607T000000
DTSTAMP:20260419T143559
CREATED:20231204T161001Z
LAST-MODIFIED:20231204T161120Z
UID:10000576-1717718400-1717718400@brahmanevent.com
SUMMARY:Heritage Cattle Company First Friday Genetic Drop
DESCRIPTION:
URL:https://brahmanevent.com/event/heritage-cattle-company-first-friday-genetic-drop-12/
LOCATION:TX
CATEGORIES:Sales
ATTACH;FMTTYPE=image/jpeg:https://brahmanevent.com/wp-content/uploads/HeritageCattle_Badge_Logo-01.jpg
END:VEVENT
BEGIN:VEVENT
DTSTART;TZID=America/Chicago:20240601T120000
DTEND;TZID=America/Chicago:20240601T170000
DTSTAMP:20260419T143559
CREATED:20230814T164049Z
LAST-MODIFIED:20231211T223925Z
UID:10000461-1717243200-1717261200@brahmanevent.com
SUMMARY:44th Annual Carolinas Brahman Breeders Assoc. Sale
DESCRIPTION:EventsMake plans to bid in the 44th Annual Carolinas Brahman Breeders Assoc. Sale!
URL:https://brahmanevent.com/event/44th-annual-carolinas-brahman-breeders-assoc-sale/
LOCATION:Best Cattle Sales\, United States
CATEGORIES:Best Cattle Sales
ATTACH;FMTTYPE=image/jpeg:https://brahmanevent.com/wp-content/uploads/bkgd_CBBA-Nov23-V2024.jpg
ORGANIZER;CN="Carolinas Brahman Breeders Association":MAILTO:PGDDFARM@gmail.com
GEO:37.09024;-95.712891
END:VEVENT
END:VCALENDAR