BEGIN:VCALENDAR
VERSION:2.0
PRODID:-//Brahman Event - ECPv6.15.15//NONSGML v1.0//EN
CALSCALE:GREGORIAN
METHOD:PUBLISH
X-WR-CALNAME:Brahman Event
X-ORIGINAL-URL:https://brahmanevent.com
X-WR-CALDESC:Events for Brahman Event
REFRESH-INTERVAL;VALUE=DURATION:PT1H
X-Robots-Tag:noindex
X-PUBLISHED-TTL:PT1H
BEGIN:VTIMEZONE
TZID:America/Chicago
BEGIN:DAYLIGHT
TZOFFSETFROM:-0600
TZOFFSETTO:-0500
TZNAME:CDT
DTSTART:20210314T080000
END:DAYLIGHT
BEGIN:STANDARD
TZOFFSETFROM:-0500
TZOFFSETTO:-0600
TZNAME:CST
DTSTART:20211107T070000
END:STANDARD
BEGIN:DAYLIGHT
TZOFFSETFROM:-0600
TZOFFSETTO:-0500
TZNAME:CDT
DTSTART:20220313T080000
END:DAYLIGHT
BEGIN:STANDARD
TZOFFSETFROM:-0500
TZOFFSETTO:-0600
TZNAME:CST
DTSTART:20221106T070000
END:STANDARD
BEGIN:DAYLIGHT
TZOFFSETFROM:-0600
TZOFFSETTO:-0500
TZNAME:CDT
DTSTART:20230312T080000
END:DAYLIGHT
BEGIN:STANDARD
TZOFFSETFROM:-0500
TZOFFSETTO:-0600
TZNAME:CST
DTSTART:20231105T070000
END:STANDARD
END:VTIMEZONE
BEGIN:VTIMEZONE
TZID:America/Chicago
BEGIN:DAYLIGHT
TZOFFSETFROM:-0600
TZOFFSETTO:-0500
TZNAME:CDT
DTSTART:20210314T080000
END:DAYLIGHT
BEGIN:STANDARD
TZOFFSETFROM:-0500
TZOFFSETTO:-0600
TZNAME:CST
DTSTART:20211107T070000
END:STANDARD
BEGIN:DAYLIGHT
TZOFFSETFROM:-0600
TZOFFSETTO:-0500
TZNAME:CDT
DTSTART:20220313T080000
END:DAYLIGHT
BEGIN:STANDARD
TZOFFSETFROM:-0500
TZOFFSETTO:-0600
TZNAME:CST
DTSTART:20221106T070000
END:STANDARD
BEGIN:DAYLIGHT
TZOFFSETFROM:-0600
TZOFFSETTO:-0500
TZNAME:CDT
DTSTART:20230312T080000
END:DAYLIGHT
BEGIN:STANDARD
TZOFFSETFROM:-0500
TZOFFSETTO:-0600
TZNAME:CST
DTSTART:20231105T070000
END:STANDARD
END:VTIMEZONE
BEGIN:VEVENT
DTSTART;TZID=America/Chicago:20220415T080000
DTEND;TZID=America/Chicago:20220415T235900
DTSTAMP:20260425T153642
CREATED:20211026T173930Z
LAST-MODIFIED:20220111T183613Z
UID:10000013-1650009600-1650067140@brahmanevent.com
SUMMARY:TBF Summer/Fall Intern Application Deadline
DESCRIPTION:EventsTo download the scholarship application click HERE. \n• Send completed applications by email to tbfscholarships@gmail.com\n• Subject Line: YOUR NAME + App\n• STANDARD MAIL Submissions\n• Address to: PO Box 151\, Hungerford\, TX\, 77488\nAttn: Scholarship App
URL:https://brahmanevent.com/event/tbf-summer-fall-intern-application-deadline/
CATEGORIES:Other Breed Show
ATTACH;FMTTYPE=image/png:https://brahmanevent.com/wp-content/uploads/BrahmanFoundation-LogoWeb.png
END:VEVENT
BEGIN:VEVENT
DTSTART;TZID=America/Chicago:20220413T080000
DTEND;TZID=America/Chicago:20220414T000000
DTSTAMP:20260425T153642
CREATED:20211026T173558Z
LAST-MODIFIED:20220218T150644Z
UID:10000012-1649836800-1649894400@brahmanevent.com
SUMMARY:Expect the Best: Bulls Eye Ranch Spring Heifer Sale
DESCRIPTION:EventsFor more information about Bulls Eye Ranch click HERE. \nTo view the sale site visit CattleInMotion.com
URL:https://brahmanevent.com/event/expect-the-best-bulls-eye-ranch-spring-heifer-sale/
CATEGORIES:Online Events,Sales
ATTACH;FMTTYPE=image/jpeg:https://brahmanevent.com/wp-content/uploads/2022-BullsEye_v3.jpg
ORGANIZER;CN="Bulls Eye Ranch":MAILTO:csmith8465@icloud.com
END:VEVENT
BEGIN:VEVENT
DTSTART;TZID=America/Chicago:20220413T070000
DTEND;TZID=America/Chicago:20220413T190000
DTSTAMP:20260425T153642
CREATED:20220117T214900Z
LAST-MODIFIED:20220315T215157Z
UID:10000175-1649833200-1649876400@brahmanevent.com
SUMMARY:Walters Livestock Inaugural "Something for Everyone" Sale
DESCRIPTION:EventsVisit PremierLivestockAuctions.com to learn more
URL:https://brahmanevent.com/event/walters-livestock-inaugural-something-for-everyone-sale/
LOCATION:Premier Livestock Auctions
CATEGORIES:Sales
ATTACH;FMTTYPE=image/jpeg:https://brahmanevent.com/wp-content/uploads/2022-Walters_v1.jpg
END:VEVENT
BEGIN:VEVENT
DTSTART;TZID=America/Chicago:20220409T120000
DTEND;TZID=America/Chicago:20220409T120000
DTSTAMP:20260425T153642
CREATED:20211026T173257Z
LAST-MODIFIED:20220117T192607Z
UID:10000112-1649505600-1649505600@brahmanevent.com
SUMMARY:Southern Classic Registered Brahman and F-1 Sale
DESCRIPTION:EventsRegistered Brahman and F-1 Sale \nShow Prospects\, Donors\, Bred Cows\, Pairs\, Herd Sire Prospects\, Golden Certified F-1 Pairs\, Bred & Open Heifers\, Certified F-1 Pairs\, F-1 Plus Pairs\, Super Badly Bred & F-1 Heifers and a few select Angus and Herford Bulls. \nFor more information contact Philip Gilstrap: 864-506-0463\, Matt Pounds: 334-590-7535 and Mike Mitchell: 601-916-6766 \nSale will be at 12:00 PM and Broadcast Live on Best Cattle Sales
URL:https://brahmanevent.com/event/southern-classic-registered-brahman-and-f-1-sale-2/
LOCATION:Hattiesburg\, MS\, Hattiesburg\, MS\, United States
CATEGORIES:Online Events,Sales
ATTACH;FMTTYPE=image/jpeg:https://brahmanevent.com/wp-content/uploads/SouthernClassic_v1.jpg
GEO:31.3271189;-89.2903392
END:VEVENT
BEGIN:VEVENT
DTSTART;TZID=America/Chicago:20220409T080000
DTEND;TZID=America/Chicago:20220410T190000
DTSTAMP:20260425T153642
CREATED:20220221T150239Z
LAST-MODIFIED:20220221T150239Z
UID:10000194-1649491200-1649617200@brahmanevent.com
SUMMARY:4T and Box R 5th Annual Family Traditions Online Sale
DESCRIPTION:EventsTo view this sale visit BestCattleSales.com
URL:https://brahmanevent.com/event/4t-and-box-r-5th-annual-family-traditions-online-sale/
LOCATION:Best Cattle Sales\, United States
CATEGORIES:Best Cattle Sales,Online Events,Sales
ATTACH;FMTTYPE=image/jpeg:https://brahmanevent.com/wp-content/uploads/2022-4TBoxR_v2.jpg
GEO:37.09024;-95.712891
END:VEVENT
BEGIN:VEVENT
DTSTART;TZID=America/Chicago:20220408T190000
DTEND;TZID=America/Chicago:20220408T220000
DTSTAMP:20260425T153642
CREATED:20211216T155910Z
LAST-MODIFIED:20220218T145209Z
UID:10000160-1649444400-1649455200@brahmanevent.com
SUMMARY:Miami Magic Sale
DESCRIPTION:EventsElite sale that will include show heifers\, aspirations\, embryos\, and semen packages.\nFor more information click HERE. \nFor catalog and info contact Sale Manager: \nInfinity Cattle Services\, Chris Shivers - 713-202-1747 or infinitycattleservices@gmail.com
URL:https://brahmanevent.com/event/miami-magic-sale/
LOCATION:Tropical Park\, Ronald Raegan Equestrian Center\, 7900 SW 40 Street\, Miami\, FL\, 33155\, United States
CATEGORIES:Sales
ATTACH;FMTTYPE=image/jpeg:https://brahmanevent.com/wp-content/uploads/2022-MiamiSale_v2.jpg
ORGANIZER;CN="Infinity Cattle Service":MAILTO:infinitycattleservices@gmail.com
GEO:25.7300061;-80.3237043
X-APPLE-STRUCTURED-LOCATION;VALUE=URI;X-ADDRESS=Tropical Park Ronald Raegan Equestrian Center 7900 SW 40 Street Miami FL 33155 United States;X-APPLE-RADIUS=500;X-TITLE=7900 SW 40 Street:geo:-80.3237043,25.7300061
END:VEVENT
BEGIN:VEVENT
DTSTART;TZID=America/Chicago:20220408T090000
DTEND;TZID=America/Chicago:20220410T170000
DTSTAMP:20260425T153642
CREATED:20211026T185355Z
LAST-MODIFIED:20220224T211805Z
UID:10000015-1649408400-1649610000@brahmanevent.com
SUMMARY:Miami International Open Brahman Show
DESCRIPTION:EventsFor more information click HERE. \nTo make at reservations at host hotel click HERE. \nEntry deadline extension: March 11\, 2022 \nSUNDAY\, APRIL 10 - Red & Gray Brahman Show - 10:00 a.m. \nJudge: Quest Newberry
URL:https://brahmanevent.com/event/miami-international-open-brahman-show/
LOCATION:Ronald Reagan Equestrian Center\, Tropical Park 7900 SW 40 Street\, Miami\, FL\, United States
CATEGORIES:Open Shows
ATTACH;FMTTYPE=image/jpeg:https://brahmanevent.com/wp-content/uploads/MiamiCenterfold_v4-1.jpg
ORGANIZER;CN="Miami International Show":MAILTO:kelvin@morenoranches.com
GEO:25.7259619;-80.3235077
X-APPLE-STRUCTURED-LOCATION;VALUE=URI;X-ADDRESS=Ronald Reagan Equestrian Center Tropical Park 7900 SW 40 Street Miami FL United States;X-APPLE-RADIUS=500;X-TITLE=Tropical Park 7900 SW 40 Street:geo:-80.3235077,25.7259619
END:VEVENT
BEGIN:VEVENT
DTSTART;TZID=America/Chicago:20220408T080000
DTEND;TZID=America/Chicago:20220408T170000
DTSTAMP:20260425T153642
CREATED:20220117T153437Z
LAST-MODIFIED:20220117T153437Z
UID:10000174-1649404800-1649437200@brahmanevent.com
SUMMARY:Fifth Annual Southern Classic Sale Preview
DESCRIPTION:EventsJoin us for the Fifth Annual Southern Classic Sale Preview
URL:https://brahmanevent.com/event/fifth-annual-southern-classic-sale-preview/
LOCATION:Southeast Mississippi Livestock Auction Facility\, Hwy 49\, Hattiesburg\, MS\, 39402\, United States
CATEGORIES:Best Cattle Sales,Sales
ATTACH;FMTTYPE=image/jpeg:https://brahmanevent.com/wp-content/uploads/SouthernClassic_v1.jpg
GEO:31.3783432;-89.3658386
X-APPLE-STRUCTURED-LOCATION;VALUE=URI;X-ADDRESS=Southeast Mississippi Livestock Auction Facility Hwy 49 Hattiesburg MS 39402 United States;X-APPLE-RADIUS=500;X-TITLE=Hwy 49:geo:-89.3658386,31.3783432
END:VEVENT
BEGIN:VEVENT
DTSTART;TZID=America/Chicago:20220406T080000
DTEND;TZID=America/Chicago:20220407T000000
DTSTAMP:20260425T153642
CREATED:20211026T172804Z
LAST-MODIFIED:20220111T180134Z
UID:10000109-1649232000-1649289600@brahmanevent.com
SUMMARY:Infinity Cattle Services "Infinite Opportunities" Online Sale
DESCRIPTION:EventsTo learn more visit infinitycattle.com
URL:https://brahmanevent.com/event/infinity-cattle-services-infinite-opportunities-online-sale-2/
LOCATION:Cattle In Motion
CATEGORIES:Online Events,Sales
ATTACH;FMTTYPE=image/png:https://brahmanevent.com/wp-content/uploads/infinitycattleservices.png
ORGANIZER;CN="Infinity Cattle Service":MAILTO:infinitycattleservices@gmail.com
END:VEVENT
BEGIN:VEVENT
DTSTART;VALUE=DATE:20220405
DTEND;VALUE=DATE:20220409
DTSTAMP:20260425T153642
CREATED:20211215T225434Z
LAST-MODIFIED:20220111T171359Z
UID:10000158-1649116800-1649462399@brahmanevent.com
SUMMARY:Bovine Elite\, LLC A.I. and Palpation Clinic
DESCRIPTION:EventsFor more information and to register click HERE.
URL:https://brahmanevent.com/event/bovine-elite-llc-a-i-and-palpation-clinic/
LOCATION:Bovine Elite\, LLC\, 3300 Longmire Drive\, College Station\, TX\, 77845\, United States
CATEGORIES:Clinic
ATTACH;FMTTYPE=image/jpeg:https://brahmanevent.com/wp-content/uploads/Bovine-Elite.jpg
GEO:30.5862365;-96.2900912
X-APPLE-STRUCTURED-LOCATION;VALUE=URI;X-ADDRESS=Bovine Elite LLC 3300 Longmire Drive College Station TX 77845 United States;X-APPLE-RADIUS=500;X-TITLE=3300 Longmire Drive:geo:-96.2900912,30.5862365
END:VEVENT
BEGIN:VEVENT
DTSTART;TZID=America/Chicago:20220404T080000
DTEND;TZID=America/Chicago:20220405T190000
DTSTAMP:20260425T153642
CREATED:20211025T203250Z
LAST-MODIFIED:20220111T163304Z
UID:10000107-1649059200-1649185200@brahmanevent.com
SUMMARY:Two Fast Nickels Bull & Heifer Sale\, Fullblood Fleckviehs\, Purebred Simmentals\, & Simbrahs
DESCRIPTION:EventsFor more information visit the sale site HERE.
URL:https://brahmanevent.com/event/two-fast-nickels-bull-heifer-sale-fullblood-fleckviehs-purebred-simmentals-simbrahs/
LOCATION:Best Cattle Sales\, United States
CATEGORIES:Online Events,Sales
ATTACH;FMTTYPE=image/png:https://brahmanevent.com/wp-content/uploads/BEST-CATTLE-SALES-WEB.png
GEO:37.09024;-95.712891
END:VEVENT
BEGIN:VEVENT
DTSTART;TZID=America/Chicago:20220402T080000
DTEND;TZID=America/Chicago:20220402T170000
DTSTAMP:20260425T153642
CREATED:20211214T174153Z
LAST-MODIFIED:20220119T145629Z
UID:10000148-1648886400-1648918800@brahmanevent.com
SUMMARY:Heart of Texas Special Replacement Female Sale
DESCRIPTION:EventsFor more information contact: 817-291-5121 or click HERE
URL:https://brahmanevent.com/event/heart-of-texas-special-replacement-female-sale/
LOCATION:Groesbeck\, TX
CATEGORIES:Sales
ATTACH;FMTTYPE=image/png:https://brahmanevent.com/wp-content/uploads/HOT-Replacement-Sale.png
END:VEVENT
BEGIN:VEVENT
DTSTART;TZID=America/Chicago:20220328T080000
DTEND;TZID=America/Chicago:20220329T190000
DTSTAMP:20260425T153642
CREATED:20220125T151407Z
LAST-MODIFIED:20220218T144529Z
UID:10000065-1648454400-1648580400@brahmanevent.com
SUMMARY:4L Cattle "Exclusive Investments I" Sale
DESCRIPTION:EventsTo learn more about this sale visit CattleInMotion.com.
URL:https://brahmanevent.com/event/4l-cattle-exclusive-investments-i-sale/
CATEGORIES:Online Events,Sales
ATTACH;FMTTYPE=image/jpeg:https://brahmanevent.com/wp-content/uploads/2022-4L-Coop_v1.jpg
ORGANIZER;CN="4L Cattle":MAILTO:jeremy@fancyheifers.com
END:VEVENT
BEGIN:VEVENT
DTSTART;TZID=America/Chicago:20220326T130000
DTEND;TZID=America/Chicago:20220326T130000
DTSTAMP:20260425T153642
CREATED:20220207T152433Z
LAST-MODIFIED:20220207T153243Z
UID:10000060-1648299600-1648299600@brahmanevent.com
SUMMARY:Midwest Brahman Cattle Assoc. Spring Sale
DESCRIPTION:EventsThis sale will take place Saturday March 26 starting at 1pm at the MoKan Livestock Market facilities in Passaic\, MO.\nThis event has quickly grown into the largest Brahman and Brahman influenced sale in the Midwest with over 300 head consigned to our 2021 sale.\nWe have already received 5 registered consignments and 50 registered consignments for the spring sale and are expecting over 250 head. Interested consignors can contact me at 816-769-3380 with any questions.
URL:https://brahmanevent.com/event/midwest-brahman-cattle-assoc-spring-sale/
LOCATION:MoKan Livestock Market\, RR 2 Box 152\, Passaic\, MO\, 64730\, United States
CATEGORIES:Sales
ATTACH;FMTTYPE=image/jpeg:https://brahmanevent.com/wp-content/uploads/MBCA-Sale.jpg
GEO:38.3241008;-94.3453883
X-APPLE-STRUCTURED-LOCATION;VALUE=URI;X-ADDRESS=MoKan Livestock Market RR 2 Box 152 Passaic MO 64730 United States;X-APPLE-RADIUS=500;X-TITLE=RR 2 Box 152:geo:-94.3453883,38.3241008
END:VEVENT
BEGIN:VEVENT
DTSTART;TZID=America/Chicago:20220326T110000
DTEND;TZID=America/Chicago:20220326T110000
DTSTAMP:20260425T153642
CREATED:20211025T192305Z
LAST-MODIFIED:20220117T195437Z
UID:10000103-1648292400-1648292400@brahmanevent.com
SUMMARY:Annual LBA Brahman & F1 Invitational Sale
DESCRIPTION:EventsMake plans to attend the Louisiana Brahman Association Brahman and F1 Sale! Check back soon for more information.
URL:https://brahmanevent.com/event/annual-lba-brahman-f1-invitational-sale-2/
LOCATION:Dominique’s Livestock Market\, 2800 W Landry St.\, Opelousas\, LA\, 70570\, United States
CATEGORIES:Sales
ATTACH;FMTTYPE=image/jpeg:https://brahmanevent.com/wp-content/uploads/LBA-F1_v1.jpg
GEO:30.5343128;-92.1191403
X-APPLE-STRUCTURED-LOCATION;VALUE=URI;X-ADDRESS=Dominique’s Livestock Market 2800 W Landry St. Opelousas LA 70570 United States;X-APPLE-RADIUS=500;X-TITLE=2800 W Landry St.:geo:-92.1191403,30.5343128
END:VEVENT
BEGIN:VEVENT
DTSTART;TZID=America/Chicago:20220326T080000
DTEND;TZID=America/Chicago:20220326T080000
DTSTAMP:20260425T153642
CREATED:20211025T192644Z
LAST-MODIFIED:20220324T155045Z
UID:10000105-1648281600-1648281600@brahmanevent.com
SUMMARY:South Texas State Fair Open & Junior Brahman Show
DESCRIPTION:EventsMake plans to join us at the South Texas State Fair Open & Junior Brahman Show! Click HERE to view the full schedule! \nFriday\, March 25\n7AM - 4PM: Open Brahman cattle arrive\n4PM: Open Brahman Substitution Deadline\n5-7PM: Final Remaining Brahman Cattle Check-in \nSaturday\, March 26\n9AM: Open Junior Brahman Heifer Show\n30 min following JR Show: Open Livestock Show Brahman Division / Split - Red & Grey\n11PM: All departing cattle must be out of the barn \nSunday\, March 27\n7AM: Remaining Open Show Cattle Must Be Out of Barn By
URL:https://brahmanevent.com/event/south-texas-state-fair-open-junior-brahman-show/
LOCATION:South Texas State Fair\, 5115 Interstate 10 South\, Beaumont\, TX\, 77705\, United States
CATEGORIES:Junior Shows,Open Shows
ATTACH;FMTTYPE=image/jpeg:https://brahmanevent.com/wp-content/uploads/2021/10/SouthTexasStateFair_v2.jpg
GEO:30.0111091;-94.1797292
X-APPLE-STRUCTURED-LOCATION;VALUE=URI;X-ADDRESS=South Texas State Fair 5115 Interstate 10 South Beaumont TX 77705 United States;X-APPLE-RADIUS=500;X-TITLE=5115 Interstate 10 South:geo:-94.1797292,30.0111091
END:VEVENT
BEGIN:VEVENT
DTSTART;TZID=America/Chicago:20220325T080000
DTEND;TZID=America/Chicago:20220327T170000
DTSTAMP:20260425T153642
CREATED:20220221T144737Z
LAST-MODIFIED:20220221T152649Z
UID:10000192-1648195200-1648400400@brahmanevent.com
SUMMARY:III Subasta Genetica Tropical Sale
DESCRIPTION:EventsTo learn more about this sale visit BestCattleSales.com
URL:https://brahmanevent.com/event/iii-subasta-genetica-tropical-sale/
LOCATION:Best Cattle Sales\, United States
CATEGORIES:Best Cattle Sales,Online Events,Sales
ATTACH;FMTTYPE=image/jpeg:https://brahmanevent.com/wp-content/uploads/2022-WhatsApp-Image-2022-02-21-at-9.19.27-AM.jpeg
GEO:37.09024;-95.712891
END:VEVENT
BEGIN:VEVENT
DTSTART;VALUE=DATE:20220325
DTEND;VALUE=DATE:20220328
DTSTAMP:20260425T153642
CREATED:20211025T191947Z
LAST-MODIFIED:20220106T223658Z
UID:10000101-1648166400-1648425599@brahmanevent.com
SUMMARY:TSCRA Cattle Raisers Convention & Expo
DESCRIPTION:EventsMake plans to attend the TSCRA Cattle Raisers Convention & Expo! Click HERE to learn more about the event!
URL:https://brahmanevent.com/event/tscra-cattle-raisers-convention-expo-3/
LOCATION:Fort Worth Convention Center\, 1201 Houston St\, Fort Worth\, TX\, 76102\, United States
CATEGORIES:Conventions
ATTACH;FMTTYPE=image/png:https://brahmanevent.com/wp-content/uploads/TRCA-2022.png
GEO:32.749059;-97.327881
X-APPLE-STRUCTURED-LOCATION;VALUE=URI;X-ADDRESS=Fort Worth Convention Center 1201 Houston St Fort Worth TX 76102 United States;X-APPLE-RADIUS=500;X-TITLE=1201 Houston St:geo:-97.327881,32.749059
END:VEVENT
BEGIN:VEVENT
DTSTART;TZID=America/Chicago:20220323T160000
DTEND;TZID=America/Chicago:20220323T210000
DTSTAMP:20260425T153642
CREATED:20220203T193057Z
LAST-MODIFIED:20220224T194037Z
UID:10000074-1648051200-1648069200@brahmanevent.com
SUMMARY:Miami Dade County Fair Open Brahman Show
DESCRIPTION:EventsArrival Date - March 22\, 2022 from 12:00 PM - 6:00 PM in The Barn\nAmerican Brahman Breeders Association Sanctioned Red Brahman Show - March 23\, 2022 at 4:00 PM - 6:00 PM in the Arena\nAmerican Brahman Breeders Association Sanctioned Gray Brahman Show - March 23\, 2022 at 6:00 PM - 9:00 PM in the Arena\nRelease Date - March 24\, 2022 from 7:00 AM - 10:00 AM in The Barn
URL:https://brahmanevent.com/event/miami-dade-county-fair-open-brahman-show/
LOCATION:Miami-Dade County Fair & Expo\, 10901 SW 24 St\, Miami\, FL\, 33165\, United States
CATEGORIES:Open Shows
ATTACH;FMTTYPE=image/png:https://brahmanevent.com/wp-content/uploads/logo-no-ribbon.png
GEO:25.7467082;-80.3719312
X-APPLE-STRUCTURED-LOCATION;VALUE=URI;X-ADDRESS=Miami-Dade County Fair & Expo 10901 SW 24 St Miami FL 33165 United States;X-APPLE-RADIUS=500;X-TITLE=10901 SW 24 St:geo:-80.3719312,25.7467082
END:VEVENT
BEGIN:VEVENT
DTSTART;TZID=America/Chicago:20220319T130000
DTEND;TZID=America/Chicago:20220319T130000
DTSTAMP:20260425T153642
CREATED:20211025T190933Z
LAST-MODIFIED:20220106T223211Z
UID:10000098-1647694800-1647694800@brahmanevent.com
SUMMARY:Texas Elite F1 & Brahman Sale
DESCRIPTION:EventsMake plans to attend the 2022 Texas Elite F1 & Brahman Sale!
URL:https://brahmanevent.com/event/texas-elite-f1-brahman-sale/
LOCATION:Caldwell Livestock Commission\, 270 County Road 107\, Caldwell\, TX\, 77836\, United States
CATEGORIES:Sales
ATTACH;FMTTYPE=image/jpeg:https://brahmanevent.com/wp-content/uploads/2021/10/Texas-Elite_v1.jpg
GEO:30.5167215;-96.6868169
X-APPLE-STRUCTURED-LOCATION;VALUE=URI;X-ADDRESS=Caldwell Livestock Commission 270 County Road 107 Caldwell TX 77836 United States;X-APPLE-RADIUS=500;X-TITLE=270 County Road 107:geo:-96.6868169,30.5167215
END:VEVENT
BEGIN:VEVENT
DTSTART;TZID=America/Chicago:20220319T080000
DTEND;TZID=America/Chicago:20220320T170000
DTSTAMP:20260425T153642
CREATED:20220315T215753Z
LAST-MODIFIED:20220315T215753Z
UID:10000204-1647676800-1647795600@brahmanevent.com
SUMMARY:Double A Ranch's "Sweet Senoritas VII"
DESCRIPTION:EventsTo view the sale site visit PremierLivestockAuctions.com
URL:https://brahmanevent.com/event/double-a-ranchs-sweet-senoritas-vii/
LOCATION:Premier Livestock Auctions
CATEGORIES:Online Events,Sales
ATTACH;FMTTYPE=image/jpeg:https://brahmanevent.com/wp-content/uploads/Y2X8MCOIt43q2oWl1-kBidaO.jpeg
END:VEVENT
BEGIN:VEVENT
DTSTART;TZID=America/Chicago:20220318T080000
DTEND;TZID=America/Chicago:20220319T190000
DTSTAMP:20260425T153642
CREATED:20220112T225114Z
LAST-MODIFIED:20220221T220612Z
UID:10000173-1647590400-1647716400@brahmanevent.com
SUMMARY:"Shimmering Diamonds" Brahman Genetics and Replacement Female Sale
DESCRIPTION:EventsFor more information visit Best Cattle Sales.
URL:https://brahmanevent.com/event/shimmering-diamonds-brahman-genetics-and-replacement-female-sale/
LOCATION:Best Cattle Sales\, United States
CATEGORIES:Best Cattle Sales,Sales
ATTACH;FMTTYPE=image/jpeg:https://brahmanevent.com/wp-content/uploads/2022-bkgd_AsaLee-Shimmering-Diamonds.jpg
GEO:37.09024;-95.712891
END:VEVENT
BEGIN:VEVENT
DTSTART;TZID=America/Chicago:20220318T080000
DTEND;TZID=America/Chicago:20220319T170000
DTSTAMP:20260425T153642
CREATED:20220203T192253Z
LAST-MODIFIED:20220218T144329Z
UID:10000072-1647590400-1647709200@brahmanevent.com
SUMMARY:National Panama Show
DESCRIPTION:EventsLa feria es del 10 al 20 de marzo 2022\n-Juzgamiento de hembras viernes 18 de marzo\nHora:  1.00pm\n-Juzgamiento de machos sabado 19 de marzo\nHora 1.00 pm\n--\nFair is on March 10-20\, 2022\n-Heifers Show Friday March 18  @ 1.00pm\n-Bulls Show Saturday March 19 @ 1.00 pm
URL:https://brahmanevent.com/event/national-panama-show/
LOCATION:Panamá\, Chiriqui\, Panama
CATEGORIES:International,Open Shows
ATTACH;FMTTYPE=image/jpeg:https://brahmanevent.com/wp-content/uploads/2022-ExpoCebuPanama_v2.jpg
GEO:8.584898;-82.3885783
END:VEVENT
BEGIN:VEVENT
DTSTART;TZID=America/Chicago:20220317T080000
DTEND;TZID=America/Chicago:20220317T080000
DTSTAMP:20260425T153642
CREATED:20211025T190411Z
LAST-MODIFIED:20220106T222528Z
UID:10000096-1647504000-1647504000@brahmanevent.com
SUMMARY:Rio Grande Valley Livestock Show - Open Brahman Show
DESCRIPTION:EventsTo learn more about the Rio Grande Valley Open Brahman Show\, click HERE  to view the complete schedule!
URL:https://brahmanevent.com/event/rio-grande-valley-livestock-show-open-brahman-show/
LOCATION:Rio Grande Valley Livestock Show\, Inc.\, 1000 N Texas Ave\, Mercedes\, TX\, 78570\, United States
CATEGORIES:Open Shows
ATTACH;FMTTYPE=image/jpeg:https://brahmanevent.com/wp-content/uploads/RGV-Livestock-show.jpg
GEO:26.1632988;-97.9140933
X-APPLE-STRUCTURED-LOCATION;VALUE=URI;X-ADDRESS=Rio Grande Valley Livestock Show Inc. 1000 N Texas Ave Mercedes TX 78570 United States;X-APPLE-RADIUS=500;X-TITLE=1000 N Texas Ave:geo:-97.9140933,26.1632988
END:VEVENT
BEGIN:VEVENT
DTSTART;TZID=America/Chicago:20220316T080000
DTEND;TZID=America/Chicago:20220316T080000
DTSTAMP:20260425T153642
CREATED:20211025T190149Z
LAST-MODIFIED:20220106T222217Z
UID:10000095-1647417600-1647417600@brahmanevent.com
SUMMARY:Rio Grande Valley Livestock Show - Junior Brahman Show
DESCRIPTION:EventsTo learn more about the Rio Grande Valley Junior Brahman Show\, click HERE  to view the complete schedule!
URL:https://brahmanevent.com/event/rio-grande-valley-livestock-show-junior-brahman-show/
LOCATION:Rio Grande Valley Livestock Show\, Inc.\, 1000 N Texas Ave\, Mercedes\, TX\, 78570\, United States
CATEGORIES:Junior Shows
ATTACH;FMTTYPE=image/jpeg:https://brahmanevent.com/wp-content/uploads/RGV-Livestock-show.jpg
GEO:26.1632988;-97.9140933
X-APPLE-STRUCTURED-LOCATION;VALUE=URI;X-ADDRESS=Rio Grande Valley Livestock Show Inc. 1000 N Texas Ave Mercedes TX 78570 United States;X-APPLE-RADIUS=500;X-TITLE=1000 N Texas Ave:geo:-97.9140933,26.1632988
END:VEVENT
BEGIN:VEVENT
DTSTART;TZID=America/Chicago:20220315T080000
DTEND;TZID=America/Chicago:20220315T080000
DTSTAMP:20260425T153642
CREATED:20211025T190010Z
LAST-MODIFIED:20220106T232344Z
UID:10000094-1647331200-1647331200@brahmanevent.com
SUMMARY:RGV Brahman & F1 Association Showmanship Clinic & Show
DESCRIPTION:EventsTo learn more about the RGV Brahman & F1 Association Showmanship Clinic & Show\, click HERE  to view the complete schedule!
URL:https://brahmanevent.com/event/rio-grande-valley-livestock-show-rgv-brahman-f1-association-showmanship-clinic-show/
LOCATION:Rio Grande Valley Livestock Show\, Inc.\, 1000 N Texas Ave\, Mercedes\, TX\, 78570\, United States
CATEGORIES:Clinic
ATTACH;FMTTYPE=image/jpeg:https://brahmanevent.com/wp-content/uploads/RGV-Livestock-show.jpg
GEO:26.1632988;-97.9140933
X-APPLE-STRUCTURED-LOCATION;VALUE=URI;X-ADDRESS=Rio Grande Valley Livestock Show Inc. 1000 N Texas Ave Mercedes TX 78570 United States;X-APPLE-RADIUS=500;X-TITLE=1000 N Texas Ave:geo:-97.9140933,26.1632988
END:VEVENT
BEGIN:VEVENT
DTSTART;TZID=America/Chicago:20220312T110000
DTEND;TZID=America/Chicago:20220312T110000
DTSTAMP:20260425T153642
CREATED:20211216T211529Z
LAST-MODIFIED:20220106T232546Z
UID:10000162-1647082800-1647082800@brahmanevent.com
SUMMARY:Jones Cattle Company Production Sale
DESCRIPTION:EventsMake plans to attend the Jones Cattle Company 4th Annual Production Sale!
URL:https://brahmanevent.com/event/jones-cattle-company-4th-annual-production-sale/
LOCATION:Quail Crossing\, Hondo\, TX\, United States
CATEGORIES:Online Events,Sales
ATTACH;FMTTYPE=image/jpeg:https://brahmanevent.com/wp-content/uploads/2021/12/JonesCattleCompany_v1.jpg
END:VEVENT
BEGIN:VEVENT
DTSTART;TZID=America/Chicago:20220311T080000
DTEND;TZID=America/Chicago:20220311T080000
DTSTAMP:20260425T153642
CREATED:20211025T185507Z
LAST-MODIFIED:20220106T220704Z
UID:10000010-1646985600-1646985600@brahmanevent.com
SUMMARY:HLS&R Junior Breeding Beef Heifer Show - Red Brahman Show
DESCRIPTION:EventsMake plans to attend the Houston Livestock Show and Rodeo to attend the Junior Brahman Heifer Show! Click HERE to view the 2022 schedule!
URL:https://brahmanevent.com/event/hlsr-junior-breeding-beef-heifer-show-red-brahman-show/
LOCATION:NRG Center\, 1 Reliant Pkwy\, Houston\, TX\, 77054\, United States
CATEGORIES:Junior Shows
ATTACH;FMTTYPE=image/png:https://brahmanevent.com/wp-content/uploads/2021/10/logo_houston-livestock-show-rodeo_90anniv.png
GEO:29.6848334;-95.4081877
X-APPLE-STRUCTURED-LOCATION;VALUE=URI;X-ADDRESS=NRG Center 1 Reliant Pkwy Houston TX 77054 United States;X-APPLE-RADIUS=500;X-TITLE=1 Reliant Pkwy:geo:-95.4081877,29.6848334
END:VEVENT
BEGIN:VEVENT
DTSTART;TZID=America/Chicago:20220310T080000
DTEND;TZID=America/Chicago:20220310T080000
DTSTAMP:20260425T153642
CREATED:20211025T185317Z
LAST-MODIFIED:20220106T233327Z
UID:10000009-1646899200-1646899200@brahmanevent.com
SUMMARY:HLS&R Junior Breeding Beef Heifer Show - Gray Brahman Show
DESCRIPTION:EventsMake plans to attend the Houston Livestock Show and Rodeo to attend the Junior Brahman Heifer Show! Click HERE to view the 2022 schedule!
URL:https://brahmanevent.com/event/hlsr-junior-breeding-beef-heifer-show-gray-brahman-show/
LOCATION:NRG Center\, 1 Reliant Pkwy\, Houston\, TX\, 77054\, United States
CATEGORIES:Junior Shows
ATTACH;FMTTYPE=image/png:https://brahmanevent.com/wp-content/uploads/2021/10/logo_houston-livestock-show-rodeo_90anniv.png
GEO:29.6848334;-95.4081877
X-APPLE-STRUCTURED-LOCATION;VALUE=URI;X-ADDRESS=NRG Center 1 Reliant Pkwy Houston TX 77054 United States;X-APPLE-RADIUS=500;X-TITLE=1 Reliant Pkwy:geo:-95.4081877,29.6848334
END:VEVENT
BEGIN:VEVENT
DTSTART;TZID=America/Chicago:20220309T080000
DTEND;TZID=America/Chicago:20220310T190000
DTSTAMP:20260425T153642
CREATED:20220118T152519Z
LAST-MODIFIED:20220118T161959Z
UID:10000059-1646812800-1646938800@brahmanevent.com
SUMMARY:Power by Design III Online Bull Sale
DESCRIPTION:EventsTo view this sale head over to CattleInMotion.com
URL:https://brahmanevent.com/event/power-by-design-iii-online-bull-sale/
CATEGORIES:Online Events,Sales
ATTACH;FMTTYPE=image/jpeg:https://brahmanevent.com/wp-content/uploads/Satterfield_v2-scaled.jpg
END:VEVENT
END:VCALENDAR