BEGIN:VCALENDAR
VERSION:2.0
PRODID:-//Brahman Event - ECPv6.15.15//NONSGML v1.0//EN
CALSCALE:GREGORIAN
METHOD:PUBLISH
X-WR-CALNAME:Brahman Event
X-ORIGINAL-URL:https://brahmanevent.com
X-WR-CALDESC:Events for Brahman Event
REFRESH-INTERVAL;VALUE=DURATION:PT1H
X-Robots-Tag:noindex
X-PUBLISHED-TTL:PT1H
BEGIN:VTIMEZONE
TZID:America/Chicago
BEGIN:DAYLIGHT
TZOFFSETFROM:-0600
TZOFFSETTO:-0500
TZNAME:CDT
DTSTART:20210314T080000
END:DAYLIGHT
BEGIN:STANDARD
TZOFFSETFROM:-0500
TZOFFSETTO:-0600
TZNAME:CST
DTSTART:20211107T070000
END:STANDARD
BEGIN:DAYLIGHT
TZOFFSETFROM:-0600
TZOFFSETTO:-0500
TZNAME:CDT
DTSTART:20220313T080000
END:DAYLIGHT
BEGIN:STANDARD
TZOFFSETFROM:-0500
TZOFFSETTO:-0600
TZNAME:CST
DTSTART:20221106T070000
END:STANDARD
BEGIN:DAYLIGHT
TZOFFSETFROM:-0600
TZOFFSETTO:-0500
TZNAME:CDT
DTSTART:20230312T080000
END:DAYLIGHT
BEGIN:STANDARD
TZOFFSETFROM:-0500
TZOFFSETTO:-0600
TZNAME:CST
DTSTART:20231105T070000
END:STANDARD
END:VTIMEZONE
BEGIN:VTIMEZONE
TZID:America/Chicago
BEGIN:DAYLIGHT
TZOFFSETFROM:-0600
TZOFFSETTO:-0500
TZNAME:CDT
DTSTART:20210314T080000
END:DAYLIGHT
BEGIN:STANDARD
TZOFFSETFROM:-0500
TZOFFSETTO:-0600
TZNAME:CST
DTSTART:20211107T070000
END:STANDARD
BEGIN:DAYLIGHT
TZOFFSETFROM:-0600
TZOFFSETTO:-0500
TZNAME:CDT
DTSTART:20220313T080000
END:DAYLIGHT
BEGIN:STANDARD
TZOFFSETFROM:-0500
TZOFFSETTO:-0600
TZNAME:CST
DTSTART:20221106T070000
END:STANDARD
BEGIN:DAYLIGHT
TZOFFSETFROM:-0600
TZOFFSETTO:-0500
TZNAME:CDT
DTSTART:20230312T080000
END:DAYLIGHT
BEGIN:STANDARD
TZOFFSETFROM:-0500
TZOFFSETTO:-0600
TZNAME:CST
DTSTART:20231105T070000
END:STANDARD
END:VTIMEZONE
BEGIN:VTIMEZONE
TZID:UTC
BEGIN:STANDARD
TZOFFSETFROM:+0000
TZOFFSETTO:+0000
TZNAME:UTC
DTSTART:20210101T000000
END:STANDARD
END:VTIMEZONE
BEGIN:VEVENT
DTSTART;TZID=America/Chicago:20221015T080000
DTEND;TZID=America/Chicago:20221015T080000
DTSTAMP:20260425T072603
CREATED:20220217T195152Z
LAST-MODIFIED:20220728T212200Z
UID:10000180-1665820800-1665820800@brahmanevent.com
SUMMARY:Circle F Farms Fall Sale
DESCRIPTION:EventsCircle F is offering some of the most elite brahman genetics in the industry! \nSale Schedule:\nThursday October 13\, 2022\nCattle viewing begins: Noon\nFriday October 14\, 2022\nCattle viewing begins: 9:00 AM\nDinner will be available for all guests: 7:30 PM (Circle F Produce Barn- 5300 Golden Isle West Baxley\, Ga. 31513)\nSaturday October 15\, 2022 \nBreakfast will be available for all guests: 7:30 AM (Circle F Sale Arena)\nCattle viewing begins: 8:00 AM\nLunch will be served for all guests: 11:30 AM\nCircle F Farms Fall Sale: 1:00 PM EST (Circle F Farms Sale Arena- 70 Prentiss Rd Baxley\, Ga. 31513) \nTo learn more visit the Circle F Farms here!
URL:https://brahmanevent.com/event/circle-f-farms-fall-sale/
LOCATION:Circle F Sale Arena\, 70 Prentiss Road\, Baxley\, Georgia\, 31513
CATEGORIES:Sales
ATTACH;FMTTYPE=image/jpeg:https://brahmanevent.com/wp-content/uploads/CircleF_v1-1.jpg
GEO:31.7933247;-82.3966575
X-APPLE-STRUCTURED-LOCATION;VALUE=URI;X-ADDRESS=Circle F Sale Arena 70 Prentiss Road Baxley Georgia 31513;X-APPLE-RADIUS=500;X-TITLE=70 Prentiss Road:geo:-82.3966575,31.7933247
END:VEVENT
BEGIN:VEVENT
DTSTART;TZID=America/Chicago:20221012T080000
DTEND;TZID=America/Chicago:20221013T190000
DTSTAMP:20260425T072603
CREATED:20220803T160322Z
LAST-MODIFIED:20220803T160547Z
UID:10000123-1665561600-1665687600@brahmanevent.com
SUMMARY:3RD ANNUAL STGENETICS BRAHMAN AND HK CATTLE OCTOBER ONLINE SALE
DESCRIPTION:EventsMake plans to bid in the 3RD ANNUAL STGENETICS BRAHMAN AND HK CATTLE OCTOBER ONLINE SALE!
URL:https://brahmanevent.com/event/3rd-annual-stgenetics-brahman-and-hk-cattle-october-online-sale/
LOCATION:Best Cattle Sales\, United States
CATEGORIES:Best Cattle Sales,Online Events,Sales
ATTACH;FMTTYPE=image/jpeg:https://brahmanevent.com/wp-content/uploads/2020-BestCattleSales-FB-Topper.jpg
ORGANIZER;CN="ST Genetics":MAILTO:beef@stgen.com
GEO:37.09024;-95.712891
END:VEVENT
BEGIN:VEVENT
DTSTART;TZID=America/Chicago:20221012T080000
DTEND;TZID=America/Chicago:20221013T170000
DTSTAMP:20260425T072603
CREATED:20220810T202049Z
LAST-MODIFIED:20220810T202050Z
UID:10000117-1665561600-1665680400@brahmanevent.com
SUMMARY:KI Cattle Company Fall Online Sale
DESCRIPTION:EventsMake plans to bid in the KI Cattle Company Fall Online Sale!
URL:https://brahmanevent.com/event/ki-cattle-company-fall-online-sale/
LOCATION:Cattle In Motion
CATEGORIES:Online Events,Sales
ATTACH;FMTTYPE=image/jpeg:https://brahmanevent.com/wp-content/uploads/Ki_v1.jpg
ORGANIZER;CN="KI Cattle Co":MAILTO:jake@kicattle.com
END:VEVENT
BEGIN:VEVENT
DTSTART;TZID=America/Chicago:20221012T080000
DTEND;TZID=America/Chicago:20221012T170000
DTSTAMP:20260425T072603
CREATED:20220315T181852Z
LAST-MODIFIED:20220315T182044Z
UID:10000202-1665561600-1665594000@brahmanevent.com
SUMMARY:State Fair of Texas - Junior Brahman Show
DESCRIPTION:EventsTo view the full schedule click HERE. \n8AM Junior Showmanship followed by Junior Brahman Female Show
URL:https://brahmanevent.com/event/state-fair-of-texas-junior-brahman-show/
LOCATION:State Fair of Texas\, 3921 Martin Luther King Blvd.\, Dallas\, TX\, 75210\, United States
CATEGORIES:Junior Shows
ATTACH;FMTTYPE=image/png:https://brahmanevent.com/wp-content/uploads/download.png
ORGANIZER;CN="State Fair of Texas":MAILTO:livestock@bigtex.com
GEO:32.7782494;-96.7584284
X-APPLE-STRUCTURED-LOCATION;VALUE=URI;X-ADDRESS=State Fair of Texas 3921 Martin Luther King Blvd. Dallas TX 75210 United States;X-APPLE-RADIUS=500;X-TITLE=3921 Martin Luther King Blvd.:geo:-96.7584284,32.7782494
END:VEVENT
BEGIN:VEVENT
DTSTART;TZID=America/Chicago:20221010T080000
DTEND;TZID=America/Chicago:20221012T170000
DTSTAMP:20260425T072603
CREATED:20220315T181543Z
LAST-MODIFIED:20220315T181543Z
UID:10000201-1665388800-1665594000@brahmanevent.com
SUMMARY:State Fair of Texas - Open Brahman Show
DESCRIPTION:EventsTo view full schedule click HERE. \nMonday\, October 10\nBrahman Cattle Arrive \nTuesday\, October 11\n8AM Open Show \nWednesday\, October 12\nCattle are released\n8AM Junior Showmanship followed by Junior Brahman Show
URL:https://brahmanevent.com/event/state-fair-of-texas-open-brahman-show/
LOCATION:State Fair of Texas\, 3921 Martin Luther King Blvd.\, Dallas\, TX\, 75210\, United States
CATEGORIES:Open Shows
ATTACH;FMTTYPE=image/png:https://brahmanevent.com/wp-content/uploads/download.png
ORGANIZER;CN="State Fair of Texas":MAILTO:livestock@bigtex.com
GEO:32.7782494;-96.7584284
X-APPLE-STRUCTURED-LOCATION;VALUE=URI;X-ADDRESS=State Fair of Texas 3921 Martin Luther King Blvd. Dallas TX 75210 United States;X-APPLE-RADIUS=500;X-TITLE=3921 Martin Luther King Blvd.:geo:-96.7584284,32.7782494
END:VEVENT
BEGIN:VEVENT
DTSTART;TZID=America/Chicago:20221010T080000
DTEND;TZID=America/Chicago:20221011T170000
DTSTAMP:20260425T072603
CREATED:20220812T185426Z
LAST-MODIFIED:20220812T185426Z
UID:10000257-1665388800-1665507600@brahmanevent.com
SUMMARY:Divas and Donors Online Sale
DESCRIPTION:EventsMake plans to bid in the Divas and Donors Online Sale!
URL:https://brahmanevent.com/event/divas-and-donors-online-sale/
LOCATION:Cattle In Motion
CATEGORIES:Online Events,Sales
ATTACH;FMTTYPE=image/jpeg:https://brahmanevent.com/wp-content/uploads/Satterfield_v2-1.jpg
END:VEVENT
BEGIN:VEVENT
DTSTART;TZID=America/Chicago:20221009T080000
DTEND;TZID=America/Chicago:20221010T190000
DTSTAMP:20260425T072603
CREATED:20220317T151134Z
LAST-MODIFIED:20220725T160446Z
UID:10000208-1665302400-1665428400@brahmanevent.com
SUMMARY:BAYOU BRAHMANS ELITE ONLINE SALE
DESCRIPTION:EventsVisit the sale site at BestCattleSales.com \nMore info coming soon...
URL:https://brahmanevent.com/event/bayou-brahmans-elite-online-sale/
LOCATION:Best Cattle Sales\, United States
CATEGORIES:Best Cattle Sales,Online Events,Sales
ATTACH;FMTTYPE=image/jpeg:https://brahmanevent.com/wp-content/uploads/2020-BestCattleSales-FB-Topper.jpg
GEO:37.09024;-95.712891
END:VEVENT
BEGIN:VEVENT
DTSTART;TZID=America/Chicago:20221008T080000
DTEND;TZID=America/Chicago:20221008T170000
DTSTAMP:20260425T072603
CREATED:20220613T214150Z
LAST-MODIFIED:20220728T211237Z
UID:10000242-1665216000-1665248400@brahmanevent.com
SUMMARY:RB Cattle - "The Final Chapter" Dispersal Sale Vol. 2
DESCRIPTION:EventsRB Cattle - "The Final Chapter" Dispersal Sale Vol. 2
URL:https://brahmanevent.com/event/rb-cattle-the-final-chapter-dispersal-sale-vol-2/
LOCATION:TX
CATEGORIES:Sales
ATTACH;FMTTYPE=image/jpeg:https://brahmanevent.com/wp-content/uploads/RB_v2.jpg
END:VEVENT
BEGIN:VEVENT
DTSTART;TZID=America/Chicago:20221007T080000
DTEND;TZID=America/Chicago:20221008T170000
DTSTAMP:20260425T072603
CREATED:20220711T173421Z
LAST-MODIFIED:20220830T181227Z
UID:10000247-1665129600-1665248400@brahmanevent.com
SUMMARY:4T & Box R 7th Family Traditions Online Sale
DESCRIPTION:EventsMake plans to bid in the 4T & Box R 2nd Annual Family Traditions Fall Online Sale! To learn more visit www.bestcattlesales.com
URL:https://brahmanevent.com/event/4t-box-r-2nd-annual-family-traditions-fall-online-sale/
LOCATION:Best Cattle Sales\, United States
CATEGORIES:Best Cattle Sales,Online Events,Sales
ATTACH;FMTTYPE=image/jpeg:https://brahmanevent.com/wp-content/uploads/4TBOXR_v2.jpg
GEO:37.09024;-95.712891
END:VEVENT
BEGIN:VEVENT
DTSTART;TZID=America/Chicago:20221006T080000
DTEND;TZID=America/Chicago:20221006T170000
DTSTAMP:20260425T072603
CREATED:20211029T194531Z
LAST-MODIFIED:20220414T202101Z
UID:10000021-1665043200-1665075600@brahmanevent.com
SUMMARY:Moreno Ranches Fall Harvest Online Sale II
DESCRIPTION:EventsMake sure to bid in the 2022 Moreno Ranches Fall Harvest Online Sale II!
URL:https://brahmanevent.com/event/moreno-ranches-fall-harvest-online-sale-ii-2/
LOCATION:www.morenoranches.com
CATEGORIES:Sales
ATTACH;FMTTYPE=image/png:https://brahmanevent.com/wp-content/uploads/image-44.png
ORGANIZER;CN="Moreno Ranch":MAILTO:kelvin@morenoranches.com
END:VEVENT
BEGIN:VEVENT
DTSTART;TZID=America/Chicago:20221005T080000
DTEND;TZID=America/Chicago:20221006T180000
DTSTAMP:20260425T072603
CREATED:20220316T210911Z
LAST-MODIFIED:20220617T160438Z
UID:10000207-1664956800-1665079200@brahmanevent.com
SUMMARY:Bulls Eye Ranch "Rise to the Top" Show Heifer Sale
DESCRIPTION:EventsTo view the sale site visit CattleInMotion.com
URL:https://brahmanevent.com/event/bulls-eye-ranch-rise-to-the-top-show-heifer-sale/
LOCATION:TX
CATEGORIES:Online Events,Sales
ATTACH;FMTTYPE=image/jpeg:https://brahmanevent.com/wp-content/uploads/BullsEye-AllAmerican_v1.jpg
ORGANIZER;CN="Bulls Eye Ranch":MAILTO:csmith8465@icloud.com
END:VEVENT
BEGIN:VEVENT
DTSTART;TZID=America/Chicago:20221001T080000
DTEND;TZID=America/Chicago:20221001T170000
DTSTAMP:20260425T072603
CREATED:20220916T221619Z
LAST-MODIFIED:20220916T221707Z
UID:10000277-1664611200-1664643600@brahmanevent.com
SUMMARY:Phillip Cattle Company Select Opportunity Sale III Online Sale
DESCRIPTION:EventsMake plans to bid in the Phillip Cattle Company Select Opportunity Sale!
URL:https://brahmanevent.com/event/phillip-cattle-company-select-opportunity-sale-iii-online-sale/
LOCATION:Premier Livestock Auctions
CATEGORIES:Online Events,Sales
ATTACH;FMTTYPE=image/png:https://brahmanevent.com/wp-content/uploads/2021/12/Brahman-Event-logo.png
END:VEVENT
BEGIN:VEVENT
DTSTART;TZID=America/Chicago:20221001T080000
DTEND;TZID=America/Chicago:20221001T170000
DTSTAMP:20260425T072603
CREATED:20220729T144723Z
LAST-MODIFIED:20220823T162327Z
UID:10000133-1664611200-1664643600@brahmanevent.com
SUMMARY:Ark-La-Miss Fair - Open Brahman Show
DESCRIPTION:EventsMake plans to attend the Ark-La-Miss Fair! \nFor more information click here. Click here for entry forms!
URL:https://brahmanevent.com/event/ark-la-miss-fair-open-brahman-show/
LOCATION:Monroe Civic Center\, 401 Lea Joyner Memorial Expy\, Monroe\, LA\, 71201\, United States
CATEGORIES:Open Shows
ATTACH;FMTTYPE=image/jpeg:https://brahmanevent.com/wp-content/uploads/2022_arklamiss.jpg
GEO:32.5026161;-92.1070991
X-APPLE-STRUCTURED-LOCATION;VALUE=URI;X-ADDRESS=Monroe Civic Center 401 Lea Joyner Memorial Expy Monroe LA 71201 United States;X-APPLE-RADIUS=500;X-TITLE=401 Lea Joyner Memorial Expy:geo:-92.1070991,32.5026161
END:VEVENT
BEGIN:VEVENT
DTSTART;TZID=UTC:20221001T080000
DTEND;TZID=UTC:20221001T170000
DTSTAMP:20260425T072603
CREATED:20220413T210930Z
LAST-MODIFIED:20220725T155850Z
UID:10000218-1664611200-1664643600@brahmanevent.com
SUMMARY:35th Annual LMC Jr. Round Up & Futurity
DESCRIPTION:Make plans to attend the 2022 35th Annual LMC Jr. Round Up & Futurity! \nEventsMake plans to attend the 2022 35th Annual LMC Jr. Round Up & Futurity!
URL:https://brahmanevent.com/event/35th-annual-lmc-jr-round-up-futurity/
LOCATION:Linn\, Texas\, United States
CATEGORIES:Junior Shows
ATTACH;FMTTYPE=image/png:https://brahmanevent.com/wp-content/uploads/image-43.png
ORGANIZER;CN="La Muneca Cattle Co.":MAILTO:LaMunecaCattle@aol.com
END:VEVENT
BEGIN:VEVENT
DTSTART;TZID=America/Chicago:20220928T080000
DTEND;TZID=America/Chicago:20220929T170000
DTSTAMP:20260425T072603
CREATED:20220928T214237Z
LAST-MODIFIED:20220928T214326Z
UID:10000281-1664352000-1664470800@brahmanevent.com
SUMMARY:Reflections of Greatness Online Sale
DESCRIPTION:EventsMake plans to bid in the Reflections of Greatness Online Sale Presented by Genesis Farms and Southern Hills Cattle
URL:https://brahmanevent.com/event/reflections-of-greatness-online-sale/
LOCATION:Cattle In Motion
CATEGORIES:Online Events,Sales
ATTACH;FMTTYPE=image/jpeg:https://brahmanevent.com/wp-content/uploads/bkgd_KyleSmith.jpg
END:VEVENT
BEGIN:VEVENT
DTSTART;TZID=America/Chicago:20220928T080000
DTEND;TZID=America/Chicago:20220929T170000
DTSTAMP:20260425T072603
CREATED:20220617T155303Z
LAST-MODIFIED:20220728T211803Z
UID:10000240-1664352000-1664470800@brahmanevent.com
SUMMARY:England Cattle Co. Online Sale
DESCRIPTION:EventsMake plans to bid in the England Cattle Co. Online Sale!
URL:https://brahmanevent.com/event/england-cattle-co-online-sale/
LOCATION:Premier Livestock Auctions
CATEGORIES:Online Events,Sales
ATTACH;FMTTYPE=image/jpeg:https://brahmanevent.com/wp-content/uploads/England_v2.jpg
END:VEVENT
BEGIN:VEVENT
DTSTART;TZID=UTC:20220927T090000
DTEND;TZID=UTC:20220927T170000
DTSTAMP:20260425T072603
CREATED:20220406T200508Z
LAST-MODIFIED:20220406T200508Z
UID:10000216-1664269200-1664298000@brahmanevent.com
SUMMARY:East Texas State Fair
DESCRIPTION:EventsAll entries in the East Texas State Fair Junior Shows (FFA and 4-H programs) must be completed online and mailed in by the CEA/AST. After registering please send a copy of the receipt along with the Livestock Exhibitor Participation Form signed by the exhibitor\, parent/guardian and the club leader to the fair office. All payments must be received by September 14th.\nAll Open Show entries must be completed online and need to keep a copy of the receipt for record of payment. Nothing is to be mailed in to the Fair office.\n\nThe On-Time Entry Deadline\, for all entries\, is Wednesday\, August 31\, 2022. To be considered On-Time\, entry must be made online using ShoWorks by the end of the day on August 31. Late Entries will be accepted on ShoWorks between Thursday\, September 1 and Friday\, September 3.\nJunior Show entries will NOT be accepted after September 3.\nTo view the full 2022 schedule\, click here.
URL:https://brahmanevent.com/event/east-texas-state-fair/
LOCATION:East Texas State Fair\, Athens\, TX\, United States
CATEGORIES:Open Shows
ATTACH;FMTTYPE=image/png:https://brahmanevent.com/wp-content/uploads/image-25.png
GEO:32.3437165;-95.3252005
END:VEVENT
BEGIN:VEVENT
DTSTART;TZID=UTC:20220925T080000
DTEND;TZID=UTC:20220926T170000
DTSTAMP:20260425T072603
CREATED:20220502T233836Z
LAST-MODIFIED:20220725T155514Z
UID:10000102-1664092800-1664211600@brahmanevent.com
SUMMARY:79 CATTLE PRODUCTION ONLINE SALE
DESCRIPTION:EventsMake plans to bid in the 2022 79 CATTLE PRODUCTION ONLINE SALE! To learn more about this sale visit www.bestcattlesales.com 
URL:https://brahmanevent.com/event/79-cattle-production-online-sale/
LOCATION:Best Cattle Sales\, United States
CATEGORIES:Online Events
ATTACH;FMTTYPE=image/jpeg:https://brahmanevent.com/wp-content/uploads/79Cattle_v1.jpg
GEO:37.09024;-95.712891
END:VEVENT
BEGIN:VEVENT
DTSTART;TZID=UTC:20220924T080000
DTEND;TZID=UTC:20220925T170000
DTSTAMP:20260425T072603
CREATED:20220427T203233Z
LAST-MODIFIED:20220503T213426Z
UID:10000106-1664006400-1664125200@brahmanevent.com
SUMMARY:Deep South Classic Open Beef Show
DESCRIPTION:EventsBreeding Beef\, Commercial Heifers\, Steers\, Mature Cows\, Showmanship \nEntries Open: 7/1/22\nEntries Close: 9/15/22 \nGreat prizes including a TRAILER!!!
URL:https://brahmanevent.com/event/deep-south-classic-open-beef-show/
LOCATION:Forrest County Multipurpose Center\, 962 Sullivan Dr\, Hattiesburg\, MS\, 39401\, United States
CATEGORIES:Junior Shows,Open Shows,Other Breed Show
ATTACH;FMTTYPE=image/jpeg:https://brahmanevent.com/wp-content/uploads/277661034_517790666628030_3658284225954758845_n.jpg
GEO:31.2577518;-89.2769809
X-APPLE-STRUCTURED-LOCATION;VALUE=URI;X-ADDRESS=Forrest County Multipurpose Center 962 Sullivan Dr Hattiesburg MS 39401 United States;X-APPLE-RADIUS=500;X-TITLE=962 Sullivan Dr:geo:-89.2769809,31.2577518
END:VEVENT
BEGIN:VEVENT
DTSTART;TZID=America/Chicago:20220924T080000
DTEND;TZID=America/Chicago:20220924T080000
DTSTAMP:20260425T072603
CREATED:20220328T155126Z
LAST-MODIFIED:20220801T182056Z
UID:10000212-1664006400-1664006400@brahmanevent.com
SUMMARY:Washington Co. Fair Open Show
DESCRIPTION:EventsFor more info click HERE. \nSchedule\nThursday\, September 22\n1 PM - arrival begins \nFriday\, September 23\n3 PM - Must be in the barn\n2-5 PM - Check in \nSaturday\, September 24\n9 AM - Show begins \nSunday\, September 25\n12 PM - Cattle must be out of the barn \n\nEntries - All entries will be entered online at the link provided by midnight\, September 18\, 2022.\nEntries will open August 1\, 2022.\nEntries are $30 per entry. Late entries will be accepted at $50 per entry.\nHealth papers are required; to be presented at check-in.
URL:https://brahmanevent.com/event/washington-co-fair-open-show/
LOCATION:Washington County Fairgrounds\, 1305 E Blue Bell Rd\, brenham \, TX\, 77833\, United States
CATEGORIES:Open Shows
ATTACH;FMTTYPE=image/jpeg:https://brahmanevent.com/wp-content/uploads/download.jpg
ORGANIZER;CN="Washington County Fair":MAILTO:washingtoncofair@sbcglobal.net
GEO:30.1794073;-96.3889793
X-APPLE-STRUCTURED-LOCATION;VALUE=URI;X-ADDRESS=Washington County Fairgrounds 1305 E Blue Bell Rd brenham  TX 77833 United States;X-APPLE-RADIUS=500;X-TITLE=1305 E Blue Bell Rd:geo:-96.3889793,30.1794073
END:VEVENT
BEGIN:VEVENT
DTSTART;TZID=America/Chicago:20220921T080000
DTEND;TZID=America/Chicago:20220921T170000
DTSTAMP:20260425T072603
CREATED:20220617T160831Z
LAST-MODIFIED:20220617T160831Z
UID:10000244-1663747200-1663779600@brahmanevent.com
SUMMARY:Double A Ranch's "Vaquillas Finas" Online Sale
DESCRIPTION:EventsMake plans to bid in the Double A Ranch's "Vaquillas Finas" Online Sale!
URL:https://brahmanevent.com/event/double-a-ranchs-vaquillas-finas-online-sale/
LOCATION:Premier Livestock Auctions
CATEGORIES:Online Events,Sales
ATTACH;FMTTYPE=image/jpeg:https://brahmanevent.com/wp-content/uploads/DoubleA-SponsorAd_v2.jpg
END:VEVENT
BEGIN:VEVENT
DTSTART;TZID=America/Chicago:20220915T080000
DTEND;TZID=America/Chicago:20220920T170000
DTSTAMP:20260425T072603
CREATED:20220606T214905Z
LAST-MODIFIED:20220816T162737Z
UID:10000237-1663228800-1663693200@brahmanevent.com
SUMMARY:COMCEBU - 1st World Congress of Zebu Breeders
DESCRIPTION:EventsMake plans to attend the COMCEBU - 1st World Congress of Zebu Breeders! \nThe event will feature famous speakers from all around the world\, speaking on exciting AND educational content: \n1. Dr. Guideon Bruckner (Sud Africa) & Dr. Luis Osvaldo Barcos (Argentina): “The importance of Animal Health Biosecurity and International Trade”\n2. Luiz Antônio Josahkian (Brasil): “Evaluaciones genéticas genomicas y visuales buscando un punto de equilibrio en la selección”\n3. Dr. Bhushan Tyagi (India): “Sustainable Development of Zebu cattle in India: Past\, Present and Future”\n4. Ivan Luz Ledic (Brasil): “Cebú lechero en las Américas”\n5. Dr. David Greg Riley (USA) & Dr. Penny Riggs (USA): “Insights from a Nelore-Angus beef cattle mapping population study reveal potential genetic regulation of tenderness and “dark cutting” meat applicable for meat quality improvement.”\n6. José Otávio Lemos (Brasil): “Bos indicus - de la Índia a Gran Parte del Mundo”\n7. Dr. Temple Grandin (USA): “Overview of the Cattle Industry”
URL:https://brahmanevent.com/event/comcebu-1st-world-congress-of-zebu-breeders/
LOCATION:COMCEBU\, Santa Cruz
CATEGORIES:Conventions,International,Open Shows,Other Breed Show
ATTACH;FMTTYPE=image/jpeg:https://brahmanevent.com/wp-content/uploads/Bolivia-Ad-Proof-V3.jpg
END:VEVENT
BEGIN:VEVENT
DTSTART;TZID=America/Chicago:20220915T080000
DTEND;TZID=America/Chicago:20220916T170000
DTSTAMP:20260425T072603
CREATED:20211029T191901Z
LAST-MODIFIED:20220818T133915Z
UID:10000026-1663228800-1663347600@brahmanevent.com
SUMMARY:Expo Pococi/Expica Rotativa - Costa Rica
DESCRIPTION:EventsMore info coming soon...
URL:https://brahmanevent.com/event/expo-pococi-expica-rotativa/
LOCATION:Costa Rica\, Liberia\, Guanacaste\, Costa Rica
CATEGORIES:International
ATTACH;FMTTYPE=image/png:https://brahmanevent.com/wp-content/uploads/image.png
END:VEVENT
BEGIN:VEVENT
DTSTART;TZID=America/Chicago:20220913T080000
DTEND;TZID=America/Chicago:20220916T170000
DTSTAMP:20260425T072603
CREATED:20211215T163415Z
LAST-MODIFIED:20220427T191452Z
UID:10000154-1663056000-1663347600@brahmanevent.com
SUMMARY:Bovine Elite AI Clinic
DESCRIPTION:EventsTo learn more or register for this event click HERE.
URL:https://brahmanevent.com/event/bovine-elite-ai-clinic-6/
LOCATION:College Station\, TX\, TX\, United States
CATEGORIES:Clinic
ATTACH;FMTTYPE=image/jpeg:https://brahmanevent.com/wp-content/uploads/Bovine-Elite.jpg
END:VEVENT
BEGIN:VEVENT
DTSTART;TZID=America/Chicago:20220913T070000
DTEND;TZID=America/Chicago:20220913T190000
DTSTAMP:20260425T072603
CREATED:20220809T213706Z
LAST-MODIFIED:20220901T153331Z
UID:10000118-1663052400-1663095600@brahmanevent.com
SUMMARY:FEMALES WITH "THE LOOK" ONLINE SALE - WATKINS CATTLE COMPANY
DESCRIPTION:EventsMake plans to bid in the FEMALES WITH "THE LOOK" ONLINE SALE - WATKINS CATTLE COMPANY! \nVisit www.bestcattlesales.com to learn more!
URL:https://brahmanevent.com/event/females-with-the-look-online-sale-watkins-cattle-company/
LOCATION:Best Cattle Sales\, United States
CATEGORIES:Best Cattle Sales,Sales
ATTACH;FMTTYPE=image/png:https://brahmanevent.com/wp-content/uploads/image-8.png
GEO:37.09024;-95.712891
END:VEVENT
BEGIN:VEVENT
DTSTART;TZID=America/Chicago:20220909T080000
DTEND;TZID=America/Chicago:20220911T000000
DTSTAMP:20260425T072603
CREATED:20220315T183356Z
LAST-MODIFIED:20220315T183356Z
UID:10000203-1662710400-1662854400@brahmanevent.com
SUMMARY:LJCA 2022 Cattle Battle
DESCRIPTION:EventsFriday\, September 9\n4-7 PM - Cattle may enter barn\n6 PM - Showmanship Clinic \nSaturday\, September 10\n8-9 AM - Public Speaking/Premier Exhibitor Registration\n8-1o AM - Showmanship Registration\n9 AM - Public Speaking Contest\n12 PM - Showmanship Contest\n6 PM - Check in closes ALL cattle must be in the barn \nSunday\, September 11\n8-9 AM - Registration\n10 AM - Show begins (breeds will be divided between 2 rings) \nCONTACT 337-375-4887 or ljca@labeef.org FOR MORE INFO
URL:https://brahmanevent.com/event/ljca-2022-cattle-battle/
LOCATION:Burton Complex\, 7001 Gulf Highway\, Lake Charles\, LA\, 70607\, United States
CATEGORIES:Junior Shows
ATTACH;FMTTYPE=image/jpeg:https://brahmanevent.com/wp-content/uploads/275669046_475335517597509_4440280556306069553_n.jpg
GEO:30.1369557;-93.2113961
X-APPLE-STRUCTURED-LOCATION;VALUE=URI;X-ADDRESS=Burton Complex 7001 Gulf Highway Lake Charles LA 70607 United States;X-APPLE-RADIUS=500;X-TITLE=7001 Gulf Highway:geo:-93.2113961,30.1369557
END:VEVENT
BEGIN:VEVENT
DTSTART;TZID=America/Chicago:20220908T080000
DTEND;TZID=America/Chicago:20220908T170000
DTSTAMP:20260425T072603
CREATED:20211029T190748Z
LAST-MODIFIED:20220414T195151Z
UID:10000027-1662624000-1662656400@brahmanevent.com
SUMMARY:Moreno Ranches Brahman Catalyst X Sale
DESCRIPTION:EventsMake sure to bid in the 2022 Moreno Ranches Brahman Catalyst X Sale!
URL:https://brahmanevent.com/event/moreno-ranches-brahman-catalyst-x-sale/
LOCATION:College Station\, TX\, TX\, United States
CATEGORIES:Sales
ATTACH;FMTTYPE=image/png:https://brahmanevent.com/wp-content/uploads/image-44.png
ORGANIZER;CN="Moreno Ranch":MAILTO:kelvin@morenoranches.com
END:VEVENT
BEGIN:VEVENT
DTSTART;TZID=America/Chicago:20220905T080000
DTEND;TZID=America/Chicago:20220906T190000
DTSTAMP:20260425T072603
CREATED:20220720T155719Z
LAST-MODIFIED:20220720T155720Z
UID:10000253-1662364800-1662490800@brahmanevent.com
SUMMARY:Bentke Cattle Company Key to Success Sale
DESCRIPTION:EventsOffering will include progeny and genetics from: + Lady H Emma Manso 288/2\, M2 BRC Captain 518/1\, +Mr. V8 194/7\, +Mr. H Maddox Manso 684\, and more! \nCattle are available for viewing at ranch in Burton\, Tx \nFor more info contact Shane Bentke (979)451-1525 • Michael Bentke (979)830-3547 • Reid Bentke (979)551-6860
URL:https://brahmanevent.com/event/bentke-cattle-company-key-to-success-sale/
LOCATION:Cattle In Motion
CATEGORIES:Online Events,Sales
ATTACH;FMTTYPE=image/jpeg:https://brahmanevent.com/wp-content/uploads/2022-Bentke_v2.jpg
ORGANIZER;CN="Bentke Cattle Company":MAILTO:smbentke@gmail.com
END:VEVENT
BEGIN:VEVENT
DTSTART;TZID=America/Chicago:20220903T080000
DTEND;TZID=America/Chicago:20220904T000000
DTSTAMP:20260425T072603
CREATED:20220307T202734Z
LAST-MODIFIED:20220823T162251Z
UID:10000200-1662192000-1662249600@brahmanevent.com
SUMMARY:Sugar Classic Brahman Show
DESCRIPTION:EventsShow Schedule\nSeptember 1 - Cattle begin moving in at 12 PM \nSeptember 2 - Cattle must be in place by 6 PM \nSeptember 3 - Open Show - Judge: RYAN RASH \nSeptember 4 - Junior Show - Judge: REGGIE RODRIGUES
URL:https://brahmanevent.com/event/sugar-classic-brahman-show/
LOCATION:Ike SugArena\, 713 Northwest Bypass (Hwy 3212)\, New Iberia\, LA\, United States
CATEGORIES:Junior Shows,Open Shows
ATTACH;FMTTYPE=image/jpeg:https://brahmanevent.com/wp-content/uploads/SugarClassic_v1-1.jpg
GEO:30.0257898;-91.8582935
X-APPLE-STRUCTURED-LOCATION;VALUE=URI;X-ADDRESS=Ike SugArena 713 Northwest Bypass (Hwy 3212) New Iberia LA United States;X-APPLE-RADIUS=500;X-TITLE=713 Northwest Bypass (Hwy 3212):geo:-91.8582935,30.0257898
END:VEVENT
BEGIN:VEVENT
DTSTART;TZID=America/Chicago:20220827T130000
DTEND;TZID=America/Chicago:20220827T130000
DTSTAMP:20260425T072603
CREATED:20220217T193849Z
LAST-MODIFIED:20220725T151052Z
UID:10000179-1661605200-1661605200@brahmanevent.com
SUMMARY:Southern Invitational Sale
DESCRIPTION:EventsMake plans to bid in the 2022 Southern Invitational Sale! \nThe Southern Invitational Frozen Genetic Online Sale will close August 29th! Visit www.bestcattlesales.com to learn more \nWe recommend checking with the event or organization website or Facebook page for additional or updated information.
URL:https://brahmanevent.com/event/southern-invitational-sale/
LOCATION:South Alabama Stockyards\, 268 County Road 552\, Troy\, AL\, United States
CATEGORIES:Sales
ATTACH;FMTTYPE=image/jpeg:https://brahmanevent.com/wp-content/uploads/SouthernInvitational_v5.jpg
ORGANIZER;CN="Philip Gilstrap":MAILTO:PGDDFARM@Bellsouth.net
GEO:31.8440768;-85.9027981
X-APPLE-STRUCTURED-LOCATION;VALUE=URI;X-ADDRESS=South Alabama Stockyards 268 County Road 552 Troy AL United States;X-APPLE-RADIUS=500;X-TITLE=268 County Road 552:geo:-85.9027981,31.8440768
END:VEVENT
END:VCALENDAR