BEGIN:VCALENDAR
VERSION:2.0
PRODID:-//Brahman Event - ECPv6.15.15//NONSGML v1.0//EN
CALSCALE:GREGORIAN
METHOD:PUBLISH
X-WR-CALNAME:Brahman Event
X-ORIGINAL-URL:https://brahmanevent.com
X-WR-CALDESC:Events for Brahman Event
REFRESH-INTERVAL;VALUE=DURATION:PT1H
X-Robots-Tag:noindex
X-PUBLISHED-TTL:PT1H
BEGIN:VTIMEZONE
TZID:America/Chicago
BEGIN:DAYLIGHT
TZOFFSETFROM:-0600
TZOFFSETTO:-0500
TZNAME:CDT
DTSTART:20210314T080000
END:DAYLIGHT
BEGIN:STANDARD
TZOFFSETFROM:-0500
TZOFFSETTO:-0600
TZNAME:CST
DTSTART:20211107T070000
END:STANDARD
BEGIN:DAYLIGHT
TZOFFSETFROM:-0600
TZOFFSETTO:-0500
TZNAME:CDT
DTSTART:20220313T080000
END:DAYLIGHT
BEGIN:STANDARD
TZOFFSETFROM:-0500
TZOFFSETTO:-0600
TZNAME:CST
DTSTART:20221106T070000
END:STANDARD
BEGIN:DAYLIGHT
TZOFFSETFROM:-0600
TZOFFSETTO:-0500
TZNAME:CDT
DTSTART:20230312T080000
END:DAYLIGHT
BEGIN:STANDARD
TZOFFSETFROM:-0500
TZOFFSETTO:-0600
TZNAME:CST
DTSTART:20231105T070000
END:STANDARD
BEGIN:DAYLIGHT
TZOFFSETFROM:-0600
TZOFFSETTO:-0500
TZNAME:CDT
DTSTART:20240310T080000
END:DAYLIGHT
BEGIN:STANDARD
TZOFFSETFROM:-0500
TZOFFSETTO:-0600
TZNAME:CST
DTSTART:20241103T070000
END:STANDARD
END:VTIMEZONE
BEGIN:VTIMEZONE
TZID:America/Chicago
BEGIN:DAYLIGHT
TZOFFSETFROM:-0600
TZOFFSETTO:-0500
TZNAME:CDT
DTSTART:20210314T080000
END:DAYLIGHT
BEGIN:STANDARD
TZOFFSETFROM:-0500
TZOFFSETTO:-0600
TZNAME:CST
DTSTART:20211107T070000
END:STANDARD
BEGIN:DAYLIGHT
TZOFFSETFROM:-0600
TZOFFSETTO:-0500
TZNAME:CDT
DTSTART:20220313T080000
END:DAYLIGHT
BEGIN:STANDARD
TZOFFSETFROM:-0500
TZOFFSETTO:-0600
TZNAME:CST
DTSTART:20221106T070000
END:STANDARD
BEGIN:DAYLIGHT
TZOFFSETFROM:-0600
TZOFFSETTO:-0500
TZNAME:CDT
DTSTART:20230312T080000
END:DAYLIGHT
BEGIN:STANDARD
TZOFFSETFROM:-0500
TZOFFSETTO:-0600
TZNAME:CST
DTSTART:20231105T070000
END:STANDARD
END:VTIMEZONE
BEGIN:VTIMEZONE
TZID:America/New_York
BEGIN:DAYLIGHT
TZOFFSETFROM:-0500
TZOFFSETTO:-0400
TZNAME:EDT
DTSTART:20210314T070000
END:DAYLIGHT
BEGIN:STANDARD
TZOFFSETFROM:-0400
TZOFFSETTO:-0500
TZNAME:EST
DTSTART:20211107T060000
END:STANDARD
BEGIN:DAYLIGHT
TZOFFSETFROM:-0500
TZOFFSETTO:-0400
TZNAME:EDT
DTSTART:20220313T070000
END:DAYLIGHT
BEGIN:STANDARD
TZOFFSETFROM:-0400
TZOFFSETTO:-0500
TZNAME:EST
DTSTART:20221106T060000
END:STANDARD
BEGIN:DAYLIGHT
TZOFFSETFROM:-0500
TZOFFSETTO:-0400
TZNAME:EDT
DTSTART:20230312T070000
END:DAYLIGHT
BEGIN:STANDARD
TZOFFSETFROM:-0400
TZOFFSETTO:-0500
TZNAME:EST
DTSTART:20231105T060000
END:STANDARD
END:VTIMEZONE
BEGIN:VEVENT
DTSTART;TZID=America/Chicago:20230103T080000
DTEND;TZID=America/Chicago:20230107T170000
DTSTAMP:20260425T090604
CREATED:20220919T140327Z
LAST-MODIFIED:20221219T141420Z
UID:10000279-1672732800-1673110800@brahmanevent.com
SUMMARY:Heart of Texas Brahman Association Double Point Show
DESCRIPTION:EventsMake plans to attend the 2023 Heart of Texas Brahman Assoc. Double Point Show!
URL:https://brahmanevent.com/event/heart-of-texas-brahman-association-double-point-show/
LOCATION:Bell County Expo Center\, 301 W Loop 121\, Belton\, TX\, 76513\, United States
CATEGORIES:Open Shows
ATTACH;FMTTYPE=image/jpeg:https://brahmanevent.com/wp-content/uploads/HOT-Schedule.jpg
GEO:31.029312;-97.479556
X-APPLE-STRUCTURED-LOCATION;VALUE=URI;X-ADDRESS=Bell County Expo Center 301 W Loop 121 Belton TX 76513 United States;X-APPLE-RADIUS=500;X-TITLE=301 W Loop 121:geo:-97.479556,31.029312
END:VEVENT
BEGIN:VEVENT
DTSTART;TZID=America/Chicago:20221219T080000
DTEND;TZID=America/Chicago:20221220T170000
DTSTAMP:20260425T090604
CREATED:20221128T190934Z
LAST-MODIFIED:20221128T190934Z
UID:10000332-1671436800-1671555600@brahmanevent.com
SUMMARY:"All I want for Christmas" Online Brahman Sale
DESCRIPTION:EventsMake plans to bid in the "All I want for Christmas" Online Brahman Sale!
URL:https://brahmanevent.com/event/all-i-want-for-christmas-online-brahman-sale/
LOCATION:Cattle In Motion
CATEGORIES:Sales
ATTACH;FMTTYPE=image/jpeg:https://brahmanevent.com/wp-content/uploads/Infinity_V1-1.jpg
ORGANIZER;CN="Infinity Cattle Service":MAILTO:infinitycattleservices@gmail.com
END:VEVENT
BEGIN:VEVENT
DTSTART;TZID=America/Chicago:20221217T080000
DTEND;TZID=America/Chicago:20221218T170000
DTSTAMP:20260425T090604
CREATED:20220624T204151Z
LAST-MODIFIED:20221128T185838Z
UID:10000245-1671264000-1671382800@brahmanevent.com
SUMMARY:3rd Annual TJBA Holiday Show
DESCRIPTION:Events3rd Annual TJBA Holiday Show \nExhibitor move in\, followed by showmanship in the evening on December 17th \n There will be a two ring heifer & bull show on December 18th \nExhibitors will be released following the show. \n\nDON'T FORGET 2022 TJBA HOLIDAY SHOW must be postmarked by December 7th! Go to the Juniors section of www.texasbrahmans.com to find the entry form. \n\n\nYour judges for the 2022 TJBA HOLIDAY SHOW are:\n\n\nBulls & Ring A Females— ANDREW KMIEC\n\n\nRing B Females- KATY WUNDERLICH\n\n\nShowmanship- JENNA HEIN & TODD SMITH
URL:https://brahmanevent.com/event/3rd-annual-tjba-holiday-show/
CATEGORIES:Junior Shows
ATTACH;FMTTYPE=image/png:https://brahmanevent.com/wp-content/uploads/2021/12/Brahman-Event-logo.png
ORGANIZER;CN="TJBA":MAILTO:TexasJuniorBrahmans@gmail.com
END:VEVENT
BEGIN:VEVENT
DTSTART;TZID=America/Chicago:20221215T080000
DTEND;TZID=America/Chicago:20221216T170000
DTSTAMP:20260425T090604
CREATED:20220425T142736Z
LAST-MODIFIED:20221129T221802Z
UID:10000221-1671091200-1671210000@brahmanevent.com
SUMMARY:EXPOSICIÓN INTERNACIONAL DE RAZAS PURAS\, CHIAPAS 2022
DESCRIPTION:EventsMake plans to attend the EXPOSICIÓN INTERNACIONAL DE RAZAS PURAS\, CHIAPAS 2022! \nClick here to view the program!
URL:https://brahmanevent.com/event/exposicion-internacional-de-razas-puras-chiapas-2022/
LOCATION:Tuxtla Gutiérrez\, Chiapas.
CATEGORIES:International
ATTACH;FMTTYPE=image/png:https://brahmanevent.com/wp-content/uploads/2021/12/Brahman-Event-logo.png
ORGANIZER;CN="Asociacion Mexicana de Criadores de Cebu":MAILTO:info@cebumexico.com
END:VEVENT
BEGIN:VEVENT
DTSTART;TZID=America/Chicago:20221215T080000
DTEND;TZID=America/Chicago:20221215T170000
DTSTAMP:20260425T090604
CREATED:20211029T203413Z
LAST-MODIFIED:20220725T190502Z
UID:10000138-1671091200-1671123600@brahmanevent.com
SUMMARY:12 Days of Christmas Online Sale - Moreno Ranches
DESCRIPTION:EventsMake plans to bid in the 2022 12 Days of Christmas Online Sale – Moreno Ranches!
URL:https://brahmanevent.com/event/12-days-of-christmas-online-sale-moreno-ranches/
LOCATION:www.morenoranches.com
CATEGORIES:Sales
ATTACH;FMTTYPE=image/png:https://brahmanevent.com/wp-content/uploads/image-44.png
ORGANIZER;CN="Moreno Ranch":MAILTO:kelvin@morenoranches.com
END:VEVENT
BEGIN:VEVENT
DTSTART;TZID=America/Chicago:20221214T080000
DTEND;TZID=America/Chicago:20221215T190000
DTSTAMP:20260425T090604
CREATED:20221121T214546Z
LAST-MODIFIED:20221121T214546Z
UID:10000331-1671004800-1671130800@brahmanevent.com
SUMMARY:KI Cattle Company "Red & White Treat" Online Sale
DESCRIPTION:EventsSelling 17 lots of pregnant recipients\, embryos\, and semen! \nThis sale is being hosted on CattleInMotion.com
URL:https://brahmanevent.com/event/ki-cattle-company-red-white-treat-online-sale/
LOCATION:Best Cattle Sales\, United States
CATEGORIES:Online Events,Sales
ATTACH;FMTTYPE=image/jpeg:https://brahmanevent.com/wp-content/uploads/2022-KiCattle_v2.jpg
ORGANIZER;CN="KI Cattle Co":MAILTO:jake@kicattle.com
GEO:37.09024;-95.712891
END:VEVENT
BEGIN:VEVENT
DTSTART;TZID=America/Chicago:20221209T080000
DTEND;TZID=America/Chicago:20221211T170000
DTSTAMP:20260425T090604
CREATED:20211029T202723Z
LAST-MODIFIED:20221206T154159Z
UID:10000137-1670572800-1670778000@brahmanevent.com
SUMMARY:10th Heartland Classic Open and Junior Brahman Show
DESCRIPTION:EventsMake plans to attend the 10th Heartland Classic Open and Junior Brahman Show!
URL:https://brahmanevent.com/event/10th-heartland-classic-open-and-junior-brahman-show/
LOCATION:Okeechobee Agri-Civic Center\, 4601 Highway 710 East\, Okeechobee\, FL\, 34974\, United States
CATEGORIES:Junior Shows,Open Shows
ATTACH;FMTTYPE=image/png:https://brahmanevent.com/wp-content/uploads/IMG_3964.png
GEO:27.2279861;-80.7713269
X-APPLE-STRUCTURED-LOCATION;VALUE=URI;X-ADDRESS=Okeechobee Agri-Civic Center 4601 Highway 710 East Okeechobee FL 34974 United States;X-APPLE-RADIUS=500;X-TITLE=4601 Highway 710 East:geo:-80.7713269,27.2279861
END:VEVENT
BEGIN:VEVENT
DTSTART;TZID=America/Chicago:20221209T080000
DTEND;TZID=America/Chicago:20221210T170000
DTSTAMP:20260425T090604
CREATED:20220816T162236Z
LAST-MODIFIED:20220825T155214Z
UID:10000261-1670572800-1670691600@brahmanevent.com
SUMMARY:ExpoReu 2022
DESCRIPTION:EventsMake plans to attend the ExpoReu 2022!
URL:https://brahmanevent.com/event/exporeu-2022/
LOCATION:Retalhuleu\, Guatemala\, Retalhuleu\, Guatemala
CATEGORIES:International
ATTACH;FMTTYPE=image/png:https://brahmanevent.com/wp-content/uploads/image-4.png
ORGANIZER;CN="Jose Rodolfo Ruiz Herman":MAILTO:joseruizherman@gmail.com
END:VEVENT
BEGIN:VEVENT
DTSTART;TZID=America/Chicago:20221205T080000
DTEND;TZID=America/Chicago:20221206T190000
DTSTAMP:20260425T090604
CREATED:20220825T191953Z
LAST-MODIFIED:20221021T153339Z
UID:10000267-1670227200-1670353200@brahmanevent.com
SUMMARY:Sandglass Ranch "Best of the West Bloodstock" Online Sale
DESCRIPTION:EventsFor more information about this sale visit CattleInMotion.com
URL:https://brahmanevent.com/event/sandglass-ranch-best-of-the-west-bloodstock-online-sale/
LOCATION:Best Cattle Sales\, United States
CATEGORIES:Online Events,Sales
ATTACH;FMTTYPE=image/jpeg:https://brahmanevent.com/wp-content/uploads/Sandglass_v1.jpg
GEO:37.09024;-95.712891
END:VEVENT
BEGIN:VEVENT
DTSTART;TZID=America/Chicago:20221205T080000
DTEND;TZID=America/Chicago:20221205T170000
DTSTAMP:20260425T090604
CREATED:20201204T172744Z
LAST-MODIFIED:20250123T171846Z
UID:10000946-1670227200-1670259600@brahmanevent.com
SUMMARY:ABBA Performance Breeders of the Year
DESCRIPTION:EventsMake sure to submit your Performance Breeder of the Year Applications to the ABBA office. \nClick HERE for application. \nIn order for members to be eligible they must meet the following criteria:\n• Complete and submit the official application by December 1 of the year of the award.\n• Register a minimum of ten head per year in ABBA for three years prior to the application year.\n• Submit BHIR information on all calves born (a minimum of a BW) \nThis award will be presented to the recipient each year at the ABBA Annual Meeting. The recipient’s name will be\ndisplayed on a plaque at the ABBA Office. The ABBA Performance Breeder of the Year will also serve as the\nABBA’s Nominee for the BIF Seedstock Producer of the Year.
URL:https://brahmanevent.com/event/2025-abba-performance-breeders-of-the-year-applications-due/2022-12-05/
CATEGORIES:Other Breed Show
ATTACH;FMTTYPE=image/jpeg:https://brahmanevent.com/wp-content/uploads/2021/08/ABBA.jpg
ORGANIZER;CN="ABBA":MAILTO:abba@brahman.org
END:VEVENT
BEGIN:VEVENT
DTSTART;TZID=America/Chicago:20221203T080000
DTEND;TZID=America/Chicago:20221204T170000
DTSTAMP:20260425T090604
CREATED:20220711T172335Z
LAST-MODIFIED:20220711T172415Z
UID:10000248-1670054400-1670173200@brahmanevent.com
SUMMARY:2022 EBBA Christmas Classic
DESCRIPTION:EventsMake plans to attend the 2022 EBBA Christmas Classic! \n\nJunior Show: December 3rd\, 2022\n\n  Judge: Ryan Rash \nCheck-in must be completed by December 2nd. \n\n\n\nOpen Show: December 4th\, 2022\n\n  Judge: Brett Moriarty \nCheck-in must be completed by December 3rd.
URL:https://brahmanevent.com/event/2022-ebba-christmas-classic/
LOCATION:Forrest County Multipurpose Center\, 962 Sullivan Dr\, Hattiesburg\, MS\, 39401\, United States
CATEGORIES:Junior Shows,Open Shows
ATTACH;FMTTYPE=image/png:https://brahmanevent.com/wp-content/uploads/EBBA.png
GEO:31.2577518;-89.2769809
X-APPLE-STRUCTURED-LOCATION;VALUE=URI;X-ADDRESS=Forrest County Multipurpose Center 962 Sullivan Dr Hattiesburg MS 39401 United States;X-APPLE-RADIUS=500;X-TITLE=962 Sullivan Dr:geo:-89.2769809,31.2577518
END:VEVENT
BEGIN:VEVENT
DTSTART;TZID=America/Chicago:20221202T130000
DTEND;TZID=America/Chicago:20221202T190000
DTSTAMP:20260425T090604
CREATED:20220624T200101Z
LAST-MODIFIED:20220725T185027Z
UID:10000246-1669986000-1670007600@brahmanevent.com
SUMMARY:Lone Star Angus Alliance Bull and Select Female Sale
DESCRIPTION:EventsMake plans to bid in the 2022 Lone Star Angus Alliance Bull and Select Female Sale! To learn more visit the ranch website here.
URL:https://brahmanevent.com/event/lone-star-angus-alliance-bull-and-select-female-sale/
LOCATION:Hallettsville\, Hallettsville\, TX\, United States
CATEGORIES:Sales
ATTACH;FMTTYPE=image/png:https://brahmanevent.com/wp-content/uploads/2021/12/Brahman-Event-logo.png
ORGANIZER;CN="Lone Star Angus":MAILTO:emnbholt@gmail.com
GEO:29.4438528;-96.9410929
X-APPLE-STRUCTURED-LOCATION;VALUE=URI;X-ADDRESS=Hallettsville Hallettsville TX United States;X-APPLE-RADIUS=500;X-TITLE=Hallettsville:geo:-96.9410929,29.4438528
END:VEVENT
BEGIN:VEVENT
DTSTART;TZID=America/Chicago:20221202T080000
DTEND;TZID=America/Chicago:20221203T170000
DTSTAMP:20260425T090604
CREATED:20221116T145435Z
LAST-MODIFIED:20221128T194659Z
UID:10000330-1669968000-1670086800@brahmanevent.com
SUMMARY:MCA Annual Convention and Trade Show
DESCRIPTION:EventsMake plans to attend the MCA Annual Convention and Trade Show! Click HERE to view the full schedule. \nGuest Speakers\n- Cooper and Katie Hurst (Hunt Hill Cattle Company)\n- Don Schiefelbein (NCBA President)\n- Craig Slay (Palmer and Slay\, PLLC)\n- Derrell Peel (Oklahoma State University) \nLodging Information\n- Holiday Inn Pearl - Jackson Area\, IGH Hotel\n- Mention MCA for special rates
URL:https://brahmanevent.com/event/mca-annual-convention-and-trade-show/
LOCATION:Jackson\, MS\, United States
CATEGORIES:Conventions,Meetings
ATTACH;FMTTYPE=image/png:https://brahmanevent.com/wp-content/uploads/cropped-brahman-event-favicon-icon.png
END:VEVENT
BEGIN:VEVENT
DTSTART;TZID=America/Chicago:20221202T080000
DTEND;TZID=America/Chicago:20221202T170000
DTSTAMP:20260425T090604
CREATED:20221005T212249Z
LAST-MODIFIED:20221005T212249Z
UID:10000285-1669968000-1670000400@brahmanevent.com
SUMMARY:Lone Star Angus Alliance 22nd Annual Bull and Select Female Sale
DESCRIPTION:EventsMake plans to bid in the Lone Star Angus Alliance 22nd Annual Bull and Select Female Sale!
URL:https://brahmanevent.com/event/lone-star-angus-alliance-22nd-annual-bull-and-select-female-sale/
ATTACH;FMTTYPE=image/jpeg:https://brahmanevent.com/wp-content/uploads/LSAA_v1.jpg
END:VEVENT
BEGIN:VEVENT
DTSTART;TZID=America/Chicago:20221201T080000
DTEND;TZID=America/Chicago:20221203T190000
DTSTAMP:20260425T090604
CREATED:20221104T145001Z
LAST-MODIFIED:20221104T145002Z
UID:10000324-1669881600-1670094000@brahmanevent.com
SUMMARY:Midwest Fleck Online Sale
DESCRIPTION:EventsThis sale is being hosted on BestCattleSales.com \nDon't miss out because this sale is offering one feature offspring lot and pregnancies sired by Fairview KingPin 57H
URL:https://brahmanevent.com/event/midwest-fleck-online-sale/
LOCATION:Best Cattle Sales\, United States
CATEGORIES:Best Cattle Sales,Online Events,Sales
ATTACH;FMTTYPE=image/jpeg:https://brahmanevent.com/wp-content/uploads/2022-Jensen-POSTCARD-Front_PRINT.jpg
ORGANIZER;CN="Jensen Simmentals":MAILTO:jensensimmentals@gmail.com
GEO:37.09024;-95.712891
END:VEVENT
BEGIN:VEVENT
DTSTART;TZID=America/Chicago:20221130T080000
DTEND;TZID=America/Chicago:20221201T190000
DTSTAMP:20260425T090604
CREATED:20220825T191320Z
LAST-MODIFIED:20220825T191321Z
UID:10000268-1669795200-1669921200@brahmanevent.com
SUMMARY:The Brahman Foundation Funding the Future VIII Online
DESCRIPTION:EventsTo learn more about this sale visit CattleInMotion.com
URL:https://brahmanevent.com/event/the-brahman-foundation-funding-the-future-viii-online/
LOCATION:Cattle In Motion
CATEGORIES:Online Events,Sales
ATTACH;FMTTYPE=image/png:https://brahmanevent.com/wp-content/uploads/BrahmanFoundation-LogoWeb-1.png
END:VEVENT
BEGIN:VEVENT
DTSTART;TZID=America/Chicago:20221128T080000
DTEND;TZID=America/Chicago:20221128T170000
DTSTAMP:20260425T090604
CREATED:20211029T200939Z
LAST-MODIFIED:20220414T204942Z
UID:10000136-1669622400-1669654800@brahmanevent.com
SUMMARY:Cyber Monday Online Sale VII - Moreno Ranches
DESCRIPTION:Make plans to bid in the 2022 Cyber Monday Online Sale VII – Moreno Ranches!
URL:https://brahmanevent.com/event/cyber-monday-online-sale-vii-moreno-ranches/
LOCATION:www.morenoranches.com
CATEGORIES:Sales
ATTACH;FMTTYPE=image/png:https://brahmanevent.com/wp-content/uploads/image-44.png
ORGANIZER;CN="Moreno Ranch":MAILTO:kelvin@morenoranches.com
END:VEVENT
BEGIN:VEVENT
DTSTART;TZID=America/Chicago:20221124T080000
DTEND;TZID=America/Chicago:20221126T170000
DTSTAMP:20260425T090604
CREATED:20211029T200821Z
LAST-MODIFIED:20220427T194635Z
UID:10000135-1669276800-1669482000@brahmanevent.com
SUMMARY:ABBA Office Closed
DESCRIPTION:EventsABBA Office is closed please contact them for your needs either before or after this date.
URL:https://brahmanevent.com/event/abba-office-closed-3/
LOCATION:ABBA Office\, 1920 W Villa Maria Rd. #302\, Bryan\, 77807\, United States
CATEGORIES:Meetings
ATTACH;FMTTYPE=image/jpeg:https://brahmanevent.com/wp-content/uploads/2021/08/ABBA.jpg
ORGANIZER;CN="ABBA":MAILTO:abba@brahman.org
GEO:30.6285204;-96.3851538
X-APPLE-STRUCTURED-LOCATION;VALUE=URI;X-ADDRESS=ABBA Office 1920 W Villa Maria Rd. #302 Bryan 77807 United States;X-APPLE-RADIUS=500;X-TITLE=1920 W Villa Maria Rd. #302:geo:-96.3851538,30.6285204
END:VEVENT
BEGIN:VEVENT
DTSTART;TZID=America/Chicago:20221119T080000
DTEND;TZID=America/Chicago:20221122T170000
DTSTAMP:20260425T090604
CREATED:20211029T200725Z
LAST-MODIFIED:20220414T204729Z
UID:10000134-1668844800-1669136400@brahmanevent.com
SUMMARY:8th Annual LMC & Friends Giving THANKS Online Sale
DESCRIPTION:EventsMake plans to bid in the 8th Annual LMC & Friends Giving THANKS Online Sale!
URL:https://brahmanevent.com/event/8th-annual-lmc-friends-giving-thanks-online-sale/
CATEGORIES:Sales
ATTACH;FMTTYPE=image/png:https://brahmanevent.com/wp-content/uploads/image-43.png
ORGANIZER;CN="La Muneca Cattle Co.":MAILTO:LaMunecaCattle@aol.com
END:VEVENT
BEGIN:VEVENT
DTSTART;TZID=America/Chicago:20221119T080000
DTEND;TZID=America/Chicago:20221120T080000
DTSTAMP:20260425T090604
CREATED:20220331T204914Z
LAST-MODIFIED:20220331T204914Z
UID:10000214-1668844800-1668931200@brahmanevent.com
SUMMARY:Hermanos Motta Sale
DESCRIPTION:EventsFor more information about Hermanos Motta click HERE.
URL:https://brahmanevent.com/event/hermanos-motta-sale-3/
CATEGORIES:Online Events,Sales
ATTACH;FMTTYPE=image/jpeg:https://brahmanevent.com/wp-content/uploads/Hermanos-Motta-Sales.jpg
ORGANIZER;CN="Hacienda Hermanos Motta":MAILTO:info@hermot.com
END:VEVENT
BEGIN:VEVENT
DTSTART;TZID=America/Chicago:20221118T080000
DTEND;TZID=America/Chicago:20221119T170000
DTSTAMP:20260425T090604
CREATED:20221021T221435Z
LAST-MODIFIED:20221021T221435Z
UID:10000190-1668758400-1668877200@brahmanevent.com
SUMMARY:XXVIII Feria Internacional De Ganaderia Tropical
DESCRIPTION:EventsMake plans to attend the XXVIII Feria Internacional De Ganaderia Tropical! \nNovember 18 at 11 A.M. - Brahman Heifers\nNovember 19 at 11 A.M. - Brahman Bulls \nClick here to view the full schedule of events! \n¡Haga clic aquí para ver el calendario de eventos!
URL:https://brahmanevent.com/event/xxviii-feria-internacional-de-ganaderia-tropical/
CATEGORIES:International,Open Shows
ATTACH;FMTTYPE=image/png:https://brahmanevent.com/wp-content/uploads/2021/12/Brahman-Event-logo.png
END:VEVENT
BEGIN:VEVENT
DTSTART;TZID=America/Chicago:20221117T080000
DTEND;TZID=America/Chicago:20221120T170000
DTSTAMP:20260425T090604
CREATED:20220816T161906Z
LAST-MODIFIED:20220819T235732Z
UID:10000259-1668672000-1668963600@brahmanevent.com
SUMMARY:Congreso Regional De Genética Y Tecnología De Carne
DESCRIPTION:Events¡Haga planes para asistir al Congreso Regional de Genética y Tecnología de Carne! \nMake plans to attend the Congreso Regional De Genética Y Tecnología De Carne!
URL:https://brahmanevent.com/event/congreso-regional-de-genetica-y-tecnologia-de-carne/
LOCATION:Guatemala\, Guatemala
CATEGORIES:International
ATTACH;FMTTYPE=image/png:https://brahmanevent.com/wp-content/uploads/image-7.png
END:VEVENT
BEGIN:VEVENT
DTSTART;TZID=America/Chicago:20221116T080000
DTEND;TZID=America/Chicago:20221120T170000
DTSTAMP:20260425T090604
CREATED:20220906T152601Z
LAST-MODIFIED:20221005T204820Z
UID:10000273-1668585600-1668963600@brahmanevent.com
SUMMARY:75 Feria Nacional Cebú
DESCRIPTION:EventsMake plans to attend the 75 Feria Nacional Cebú! \nClick here to view the full schedule of events! \n¡Haga clic aquí para ver el calendario de eventos! \nClick here for further information!
URL:https://brahmanevent.com/event/75-feria-nacional-cebu/
LOCATION:Bucaramanga\, Via Giron #Km 6\, Bucaramanga\, Girón Santander\, 680003\, Colombia
CATEGORIES:International,Open Shows
ATTACH;FMTTYPE=image/png:https://brahmanevent.com/wp-content/uploads/2021/12/Brahman-Event-logo.png
GEO:7.1287471;-73.1560368
X-APPLE-STRUCTURED-LOCATION;VALUE=URI;X-ADDRESS=Bucaramanga Via Giron #Km 6 Bucaramanga Girón Santander 680003 Colombia;X-APPLE-RADIUS=500;X-TITLE=Via Giron #Km 6:geo:-73.1560368,7.1287471
END:VEVENT
BEGIN:VEVENT
DTSTART;TZID=America/Chicago:20221116T080000
DTEND;TZID=America/Chicago:20221117T170000
DTSTAMP:20260425T090604
CREATED:20211029T200300Z
LAST-MODIFIED:20220427T194051Z
UID:10000025-1668585600-1668704400@brahmanevent.com
SUMMARY:Infinity Cattle Services "Progressive Partners" Online Sale
DESCRIPTION:EventsThis sale will be hosted on CattleInMotion.com
URL:https://brahmanevent.com/event/infinity-cattle-services-progressive-partners-online-sale-2/
CATEGORIES:Sales
ATTACH;FMTTYPE=image/png:https://brahmanevent.com/wp-content/uploads/infinitycattleservices.png
ORGANIZER;CN="Infinity Cattle Service":MAILTO:infinitycattleservices@gmail.com
END:VEVENT
BEGIN:VEVENT
DTSTART;TZID=America/Chicago:20221115T080000
DTEND;TZID=America/Chicago:20221118T170000
DTSTAMP:20260425T090604
CREATED:20211215T163530Z
LAST-MODIFIED:20220427T193055Z
UID:10000155-1668499200-1668790800@brahmanevent.com
SUMMARY:Bovine Elite AI Clinic
DESCRIPTION:EventsTo learn more and to register for this event click HERE.
URL:https://brahmanevent.com/event/bovine-elite-ai-clinic-7/
LOCATION:College Station\, TX\, TX\, United States
CATEGORIES:Clinic
ATTACH;FMTTYPE=image/jpeg:https://brahmanevent.com/wp-content/uploads/Bovine-Elite.jpg
END:VEVENT
BEGIN:VEVENT
DTSTART;TZID=America/Chicago:20221111T080000
DTEND;TZID=America/Chicago:20221112T190000
DTSTAMP:20260425T090604
CREATED:20220721T194949Z
LAST-MODIFIED:20220901T160641Z
UID:10000254-1668153600-1668279600@brahmanevent.com
SUMMARY:Southern Belles Heifer Sale - Bogue Chitto Cattle Co.
DESCRIPTION:EventsOffering haltered calves\, replacement females\, embryo and semen packages!
URL:https://brahmanevent.com/event/southern-belles-heifer-sale/
LOCATION:Best Cattle Sales\, United States
CATEGORIES:Best Cattle Sales,Online Events,Sales
ATTACH;FMTTYPE=image/png:https://brahmanevent.com/wp-content/uploads/BEST-CATTLE-SALES-WEB.png
GEO:37.09024;-95.712891
END:VEVENT
BEGIN:VEVENT
DTSTART;TZID=America/Chicago:20221109T080000
DTEND;TZID=America/Chicago:20221113T170000
DTSTAMP:20260425T090604
CREATED:20220217T194643Z
LAST-MODIFIED:20221014T194309Z
UID:10000178-1667980800-1668358800@brahmanevent.com
SUMMARY:2022 National Brahman Show - State Fair or Louisiana
DESCRIPTION:EventsJoin us at the 2022 National Brahman Show!! \nClick here to view the full schedule of events! \nClick here to view the sponsorship packet. \nABBA Committee Meeting Schedule - Click here to view full schedule.\nWednesday\, November 9\, 2022\n4:00 pm: Finance Committee - Livestock Sales Arena \n5:30 pm: Executive Committee - Livestock Sales Arena \nThursday\, November 10\, 2022\n8:00 am – 12:00pm: Research & Breed Improvement Committee - Livestock Sales Arena \n8:00am – 10:00am: Youth Activities Committee - Club 34 – Hirsch Coliseum \n8:00am – 10:00am: Marketing Committee - Concessions Area 1 – Hirsch Coliseum \n8:00am – 10:00am: International Committee - Conference Room – Hirsch Coliseum \n10:00am – 12:00pm: Show Committee - Club 34 – Hirsch Coliseum \n10:00am – 12:00 pm: Communications Committee - Concessions Area 1 – Hirsch Coliseum \n10:00am – 12:00pm: Membership & Member Services - Conference Room – Hirsch Coliseum \n12:00pm - 4:00pm: Director & Committee Member Lunch - Board of Directors Meeting - Louisiana Cattleman’s Kitchen – Fair Midway
URL:https://brahmanevent.com/event/2022-national-brahman-show-state-fair-or-louisiana/
LOCATION:State Fair of Louisiana\, 3701 Hudson Avenue\, Shreveport\, LA\, 71109\, United States
CATEGORIES:Open Shows
ATTACH;FMTTYPE=image/jpeg:https://brahmanevent.com/wp-content/uploads/IMG_0966.jpg
ORGANIZER;CN="State Fair of Louisiana ":MAILTO: livestock@statefairoflouisiana.com
GEO:32.4775289;-93.7867014
X-APPLE-STRUCTURED-LOCATION;VALUE=URI;X-ADDRESS=State Fair of Louisiana 3701 Hudson Avenue Shreveport LA 71109 United States;X-APPLE-RADIUS=500;X-TITLE=3701 Hudson Avenue:geo:-93.7867014,32.4775289
END:VEVENT
BEGIN:VEVENT
DTSTART;TZID=America/Chicago:20221109T080000
DTEND;TZID=America/Chicago:20221109T170000
DTSTAMP:20260425T090604
CREATED:20211029T200108Z
LAST-MODIFIED:20220725T163409Z
UID:10000024-1667980800-1668013200@brahmanevent.com
SUMMARY:Barber Ranch Annual Bull Sale
DESCRIPTION:EventsMake plans to attend the 2022 Barber Ranch Annual Bull Sale!
URL:https://brahmanevent.com/event/barber-ranch-annual-bull-sale-2/
CATEGORIES:Sales
ATTACH;FMTTYPE=image/png:https://brahmanevent.com/wp-content/uploads/image-46.png
END:VEVENT
BEGIN:VEVENT
DTSTART;TZID=America/New_York:20221104T170000
DTEND;TZID=America/New_York:20221104T170000
DTSTAMP:20260425T090604
CREATED:20220428T201522Z
LAST-MODIFIED:20220428T201538Z
UID:10000111-1667581200-1667581200@brahmanevent.com
SUMMARY:Greater Jacksonville Fair - Junior Brahman Show
DESCRIPTION:EventsMake plans to attend the Jacksonville Fair Junior Brahman Show! To learn more\, click here. 
URL:https://brahmanevent.com/event/greater-jacksonville-fair-junior-brahman-show/
CATEGORIES:Junior Shows
ATTACH;FMTTYPE=image/png:https://brahmanevent.com/wp-content/uploads/image-36.png
END:VEVENT
BEGIN:VEVENT
DTSTART;TZID=America/Chicago:20221104T130000
DTEND;TZID=America/Chicago:20221104T170000
DTSTAMP:20260425T090604
CREATED:20220919T221111Z
LAST-MODIFIED:20220919T221111Z
UID:10000280-1667566800-1667581200@brahmanevent.com
SUMMARY:Premium Power Bull Sale
DESCRIPTION:EventsMake plans to attend the Premium Power Bull Sale!
URL:https://brahmanevent.com/event/premium-power-bull-sale/
LOCATION:Hardee County Cattleman’s Arena\, 507 Civic Center Drive\, Wauchula\, FL\, 33873\, United States
CATEGORIES:Sales
ATTACH;FMTTYPE=image/jpeg:https://brahmanevent.com/wp-content/uploads/Lyssy_v1.jpg
GEO:27.5327592;-81.834375
X-APPLE-STRUCTURED-LOCATION;VALUE=URI;X-ADDRESS=Hardee County Cattleman’s Arena 507 Civic Center Drive Wauchula FL 33873 United States;X-APPLE-RADIUS=500;X-TITLE=507 Civic Center Drive:geo:-81.834375,27.5327592
END:VEVENT
END:VCALENDAR