BEGIN:VCALENDAR
VERSION:2.0
PRODID:-//Brahman Event - ECPv6.15.15//NONSGML v1.0//EN
CALSCALE:GREGORIAN
METHOD:PUBLISH
X-ORIGINAL-URL:https://brahmanevent.com
X-WR-CALDESC:Events for Brahman Event
REFRESH-INTERVAL;VALUE=DURATION:PT1H
X-Robots-Tag:noindex
X-PUBLISHED-TTL:PT1H
BEGIN:VTIMEZONE
TZID:America/Chicago
BEGIN:DAYLIGHT
TZOFFSETFROM:-0600
TZOFFSETTO:-0500
TZNAME:CDT
DTSTART:20280312T080000
END:DAYLIGHT
BEGIN:STANDARD
TZOFFSETFROM:-0500
TZOFFSETTO:-0600
TZNAME:CST
DTSTART:20281105T070000
END:STANDARD
BEGIN:DAYLIGHT
TZOFFSETFROM:-0600
TZOFFSETTO:-0500
TZNAME:CDT
DTSTART:20290311T080000
END:DAYLIGHT
BEGIN:STANDARD
TZOFFSETFROM:-0500
TZOFFSETTO:-0600
TZNAME:CST
DTSTART:20291104T070000
END:STANDARD
BEGIN:DAYLIGHT
TZOFFSETFROM:-0600
TZOFFSETTO:-0500
TZNAME:CDT
DTSTART:20300310T080000
END:DAYLIGHT
BEGIN:STANDARD
TZOFFSETFROM:-0500
TZOFFSETTO:-0600
TZNAME:CST
DTSTART:20301103T070000
END:STANDARD
BEGIN:DAYLIGHT
TZOFFSETFROM:-0600
TZOFFSETTO:-0500
TZNAME:CDT
DTSTART:20310309T080000
END:DAYLIGHT
BEGIN:STANDARD
TZOFFSETFROM:-0500
TZOFFSETTO:-0600
TZNAME:CST
DTSTART:20311102T070000
END:STANDARD
END:VTIMEZONE
BEGIN:VEVENT
DTSTART;TZID=America/Chicago:20290601T080000
DTEND;TZID=America/Chicago:20290601T170000
DTSTAMP:20260419T161519
CREATED:20240802T221241Z
LAST-MODIFIED:20250113T183136Z
UID:10000736-1874995200-1875027600@brahmanevent.com
SUMMARY:Cattle Innovation Station Podcast Drop
DESCRIPTION:EventsBe sure to check out the Cattle Innovation Station Podcast Drop on the 1st of every month! The podcast is available on Pandora\, Apple Podcast\, Spotify\, Amazon Music\, Pocket Casts\, iHeart Radio\, and Castbox. Don't forget to leave your review and comments to show your support!
URL:https://brahmanevent.com/event/cattle-innovation-station-podcast-drop/2029-06-01/
LOCATION:TX
CATEGORIES:Online Events,Other
ATTACH;FMTTYPE=image/jpeg:https://brahmanevent.com/wp-content/uploads/WhatsApp-Image-2024-08-02-at-17.09.53_ecf1a75d.jpg
ORGANIZER;CN="Cattle Innovation Station":MAILTO:bbwtopnotchcattle@gmail.com
END:VEVENT
BEGIN:VEVENT
DTSTART;TZID=America/Chicago:20290601T080000
DTEND;TZID=America/Chicago:20290601T170000
DTSTAMP:20260419T161519
CREATED:20241025T150822Z
LAST-MODIFIED:20241025T172515Z
UID:10000858-1874995200-1875027600@brahmanevent.com
SUMMARY:Heritage Cattle Company First Friday Genetic Drop
DESCRIPTION:EventsVisit ShopBrahman.com to see the genetic drop
URL:https://brahmanevent.com/event/heritage-cattle-company-first-friday-genetic-drop-19/2029-06-01/
LOCATION:Heritage Cattle Company\, 1832 FM 1161 West\, Wharton\, TX\, 77448\, United States
CATEGORIES:Online Events,Sales
ATTACH;FMTTYPE=image/jpeg:https://brahmanevent.com/wp-content/uploads/HeritageCattle_Badge_Logo-01.jpg
ORGANIZER;CN="Heritage Cattle Company":MAILTO:heritagecattle1@yahoo.com
GEO:29.3996707;-96.105873
X-APPLE-STRUCTURED-LOCATION;VALUE=URI;X-ADDRESS=Heritage Cattle Company 1832 FM 1161 West Wharton TX 77448 United States;X-APPLE-RADIUS=500;X-TITLE=1832 FM 1161 West:geo:-96.105873,29.3996707
END:VEVENT
BEGIN:VEVENT
DTSTART;TZID=America/Chicago:20290701T080000
DTEND;TZID=America/Chicago:20290701T170000
DTSTAMP:20260419T161519
CREATED:20240802T221241Z
LAST-MODIFIED:20250113T183136Z
UID:10000737-1877587200-1877619600@brahmanevent.com
SUMMARY:Cattle Innovation Station Podcast Drop
DESCRIPTION:EventsBe sure to check out the Cattle Innovation Station Podcast Drop on the 1st of every month! The podcast is available on Pandora\, Apple Podcast\, Spotify\, Amazon Music\, Pocket Casts\, iHeart Radio\, and Castbox. Don't forget to leave your review and comments to show your support!
URL:https://brahmanevent.com/event/cattle-innovation-station-podcast-drop/2029-07-01/
LOCATION:TX
CATEGORIES:Online Events,Other
ATTACH;FMTTYPE=image/jpeg:https://brahmanevent.com/wp-content/uploads/WhatsApp-Image-2024-08-02-at-17.09.53_ecf1a75d.jpg
ORGANIZER;CN="Cattle Innovation Station":MAILTO:bbwtopnotchcattle@gmail.com
END:VEVENT
BEGIN:VEVENT
DTSTART;TZID=America/Chicago:20290706T080000
DTEND;TZID=America/Chicago:20290706T170000
DTSTAMP:20260419T161519
CREATED:20241025T150822Z
LAST-MODIFIED:20241025T172515Z
UID:10000859-1878019200-1878051600@brahmanevent.com
SUMMARY:Heritage Cattle Company First Friday Genetic Drop
DESCRIPTION:EventsVisit ShopBrahman.com to see the genetic drop
URL:https://brahmanevent.com/event/heritage-cattle-company-first-friday-genetic-drop-19/2029-07-06/
LOCATION:Heritage Cattle Company\, 1832 FM 1161 West\, Wharton\, TX\, 77448\, United States
CATEGORIES:Online Events,Sales
ATTACH;FMTTYPE=image/jpeg:https://brahmanevent.com/wp-content/uploads/HeritageCattle_Badge_Logo-01.jpg
ORGANIZER;CN="Heritage Cattle Company":MAILTO:heritagecattle1@yahoo.com
GEO:29.3996707;-96.105873
X-APPLE-STRUCTURED-LOCATION;VALUE=URI;X-ADDRESS=Heritage Cattle Company 1832 FM 1161 West Wharton TX 77448 United States;X-APPLE-RADIUS=500;X-TITLE=1832 FM 1161 West:geo:-96.105873,29.3996707
END:VEVENT
BEGIN:VEVENT
DTSTART;TZID=America/Chicago:20290801T080000
DTEND;TZID=America/Chicago:20290801T170000
DTSTAMP:20260419T161519
CREATED:20240802T221241Z
LAST-MODIFIED:20250113T183136Z
UID:10000738-1880265600-1880298000@brahmanevent.com
SUMMARY:Cattle Innovation Station Podcast Drop
DESCRIPTION:EventsBe sure to check out the Cattle Innovation Station Podcast Drop on the 1st of every month! The podcast is available on Pandora\, Apple Podcast\, Spotify\, Amazon Music\, Pocket Casts\, iHeart Radio\, and Castbox. Don't forget to leave your review and comments to show your support!
URL:https://brahmanevent.com/event/cattle-innovation-station-podcast-drop/2029-08-01/
LOCATION:TX
CATEGORIES:Online Events,Other
ATTACH;FMTTYPE=image/jpeg:https://brahmanevent.com/wp-content/uploads/WhatsApp-Image-2024-08-02-at-17.09.53_ecf1a75d.jpg
ORGANIZER;CN="Cattle Innovation Station":MAILTO:bbwtopnotchcattle@gmail.com
END:VEVENT
BEGIN:VEVENT
DTSTART;TZID=America/Chicago:20290803T080000
DTEND;TZID=America/Chicago:20290803T170000
DTSTAMP:20260419T161519
CREATED:20241025T150822Z
LAST-MODIFIED:20241025T172515Z
UID:10000860-1880438400-1880470800@brahmanevent.com
SUMMARY:Heritage Cattle Company First Friday Genetic Drop
DESCRIPTION:EventsVisit ShopBrahman.com to see the genetic drop
URL:https://brahmanevent.com/event/heritage-cattle-company-first-friday-genetic-drop-19/2029-08-03/
LOCATION:Heritage Cattle Company\, 1832 FM 1161 West\, Wharton\, TX\, 77448\, United States
CATEGORIES:Online Events,Sales
ATTACH;FMTTYPE=image/jpeg:https://brahmanevent.com/wp-content/uploads/HeritageCattle_Badge_Logo-01.jpg
ORGANIZER;CN="Heritage Cattle Company":MAILTO:heritagecattle1@yahoo.com
GEO:29.3996707;-96.105873
X-APPLE-STRUCTURED-LOCATION;VALUE=URI;X-ADDRESS=Heritage Cattle Company 1832 FM 1161 West Wharton TX 77448 United States;X-APPLE-RADIUS=500;X-TITLE=1832 FM 1161 West:geo:-96.105873,29.3996707
END:VEVENT
BEGIN:VEVENT
DTSTART;TZID=America/Chicago:20290901T080000
DTEND;TZID=America/Chicago:20290901T170000
DTSTAMP:20260419T161519
CREATED:20240802T221241Z
LAST-MODIFIED:20250113T183136Z
UID:10000927-1882944000-1882976400@brahmanevent.com
SUMMARY:Cattle Innovation Station Podcast Drop
DESCRIPTION:EventsBe sure to check out the Cattle Innovation Station Podcast Drop on the 1st of every month! The podcast is available on Pandora\, Apple Podcast\, Spotify\, Amazon Music\, Pocket Casts\, iHeart Radio\, and Castbox. Don't forget to leave your review and comments to show your support!
URL:https://brahmanevent.com/event/cattle-innovation-station-podcast-drop/2029-09-01/
LOCATION:TX
CATEGORIES:Online Events,Other
ATTACH;FMTTYPE=image/jpeg:https://brahmanevent.com/wp-content/uploads/WhatsApp-Image-2024-08-02-at-17.09.53_ecf1a75d.jpg
ORGANIZER;CN="Cattle Innovation Station":MAILTO:bbwtopnotchcattle@gmail.com
END:VEVENT
BEGIN:VEVENT
DTSTART;TZID=America/Chicago:20290907T080000
DTEND;TZID=America/Chicago:20290907T170000
DTSTAMP:20260419T161519
CREATED:20241025T150822Z
LAST-MODIFIED:20241025T172515Z
UID:10000861-1883462400-1883494800@brahmanevent.com
SUMMARY:Heritage Cattle Company First Friday Genetic Drop
DESCRIPTION:EventsVisit ShopBrahman.com to see the genetic drop
URL:https://brahmanevent.com/event/heritage-cattle-company-first-friday-genetic-drop-19/2029-09-07/
LOCATION:Heritage Cattle Company\, 1832 FM 1161 West\, Wharton\, TX\, 77448\, United States
CATEGORIES:Online Events,Sales
ATTACH;FMTTYPE=image/jpeg:https://brahmanevent.com/wp-content/uploads/HeritageCattle_Badge_Logo-01.jpg
ORGANIZER;CN="Heritage Cattle Company":MAILTO:heritagecattle1@yahoo.com
GEO:29.3996707;-96.105873
X-APPLE-STRUCTURED-LOCATION;VALUE=URI;X-ADDRESS=Heritage Cattle Company 1832 FM 1161 West Wharton TX 77448 United States;X-APPLE-RADIUS=500;X-TITLE=1832 FM 1161 West:geo:-96.105873,29.3996707
END:VEVENT
BEGIN:VEVENT
DTSTART;TZID=America/Chicago:20291001T080000
DTEND;TZID=America/Chicago:20291001T170000
DTSTAMP:20260419T161519
CREATED:20240802T221241Z
LAST-MODIFIED:20250113T183136Z
UID:10000928-1885536000-1885568400@brahmanevent.com
SUMMARY:Cattle Innovation Station Podcast Drop
DESCRIPTION:EventsBe sure to check out the Cattle Innovation Station Podcast Drop on the 1st of every month! The podcast is available on Pandora\, Apple Podcast\, Spotify\, Amazon Music\, Pocket Casts\, iHeart Radio\, and Castbox. Don't forget to leave your review and comments to show your support!
URL:https://brahmanevent.com/event/cattle-innovation-station-podcast-drop/2029-10-01/
LOCATION:TX
CATEGORIES:Online Events,Other
ATTACH;FMTTYPE=image/jpeg:https://brahmanevent.com/wp-content/uploads/WhatsApp-Image-2024-08-02-at-17.09.53_ecf1a75d.jpg
ORGANIZER;CN="Cattle Innovation Station":MAILTO:bbwtopnotchcattle@gmail.com
END:VEVENT
BEGIN:VEVENT
DTSTART;TZID=America/Chicago:20291005T080000
DTEND;TZID=America/Chicago:20291005T170000
DTSTAMP:20260419T161519
CREATED:20241025T150822Z
LAST-MODIFIED:20241025T172515Z
UID:10000862-1885881600-1885914000@brahmanevent.com
SUMMARY:Heritage Cattle Company First Friday Genetic Drop
DESCRIPTION:EventsVisit ShopBrahman.com to see the genetic drop
URL:https://brahmanevent.com/event/heritage-cattle-company-first-friday-genetic-drop-19/2029-10-05/
LOCATION:Heritage Cattle Company\, 1832 FM 1161 West\, Wharton\, TX\, 77448\, United States
CATEGORIES:Online Events,Sales
ATTACH;FMTTYPE=image/jpeg:https://brahmanevent.com/wp-content/uploads/HeritageCattle_Badge_Logo-01.jpg
ORGANIZER;CN="Heritage Cattle Company":MAILTO:heritagecattle1@yahoo.com
GEO:29.3996707;-96.105873
X-APPLE-STRUCTURED-LOCATION;VALUE=URI;X-ADDRESS=Heritage Cattle Company 1832 FM 1161 West Wharton TX 77448 United States;X-APPLE-RADIUS=500;X-TITLE=1832 FM 1161 West:geo:-96.105873,29.3996707
END:VEVENT
BEGIN:VEVENT
DTSTART;TZID=America/Chicago:20291101T080000
DTEND;TZID=America/Chicago:20291101T170000
DTSTAMP:20260419T161519
CREATED:20240802T221241Z
LAST-MODIFIED:20250113T183136Z
UID:10000929-1888214400-1888246800@brahmanevent.com
SUMMARY:Cattle Innovation Station Podcast Drop
DESCRIPTION:EventsBe sure to check out the Cattle Innovation Station Podcast Drop on the 1st of every month! The podcast is available on Pandora\, Apple Podcast\, Spotify\, Amazon Music\, Pocket Casts\, iHeart Radio\, and Castbox. Don't forget to leave your review and comments to show your support!
URL:https://brahmanevent.com/event/cattle-innovation-station-podcast-drop/2029-11-01/
LOCATION:TX
CATEGORIES:Online Events,Other
ATTACH;FMTTYPE=image/jpeg:https://brahmanevent.com/wp-content/uploads/WhatsApp-Image-2024-08-02-at-17.09.53_ecf1a75d.jpg
ORGANIZER;CN="Cattle Innovation Station":MAILTO:bbwtopnotchcattle@gmail.com
END:VEVENT
BEGIN:VEVENT
DTSTART;TZID=America/Chicago:20291201T080000
DTEND;TZID=America/Chicago:20291201T170000
DTSTAMP:20260419T161519
CREATED:20240802T221241Z
LAST-MODIFIED:20250113T183136Z
UID:10000930-1890806400-1890838800@brahmanevent.com
SUMMARY:Cattle Innovation Station Podcast Drop
DESCRIPTION:EventsBe sure to check out the Cattle Innovation Station Podcast Drop on the 1st of every month! The podcast is available on Pandora\, Apple Podcast\, Spotify\, Amazon Music\, Pocket Casts\, iHeart Radio\, and Castbox. Don't forget to leave your review and comments to show your support!
URL:https://brahmanevent.com/event/cattle-innovation-station-podcast-drop/2029-12-01/
LOCATION:TX
CATEGORIES:Online Events,Other
ATTACH;FMTTYPE=image/jpeg:https://brahmanevent.com/wp-content/uploads/WhatsApp-Image-2024-08-02-at-17.09.53_ecf1a75d.jpg
ORGANIZER;CN="Cattle Innovation Station":MAILTO:bbwtopnotchcattle@gmail.com
END:VEVENT
BEGIN:VEVENT
DTSTART;TZID=America/Chicago:20300101T080000
DTEND;TZID=America/Chicago:20300101T170000
DTSTAMP:20260419T161519
CREATED:20240802T221241Z
LAST-MODIFIED:20250113T183136Z
UID:10000931-1893484800-1893517200@brahmanevent.com
SUMMARY:Cattle Innovation Station Podcast Drop
DESCRIPTION:EventsBe sure to check out the Cattle Innovation Station Podcast Drop on the 1st of every month! The podcast is available on Pandora\, Apple Podcast\, Spotify\, Amazon Music\, Pocket Casts\, iHeart Radio\, and Castbox. Don't forget to leave your review and comments to show your support!
URL:https://brahmanevent.com/event/cattle-innovation-station-podcast-drop/2030-01-01/
LOCATION:TX
CATEGORIES:Online Events,Other
ATTACH;FMTTYPE=image/jpeg:https://brahmanevent.com/wp-content/uploads/WhatsApp-Image-2024-08-02-at-17.09.53_ecf1a75d.jpg
ORGANIZER;CN="Cattle Innovation Station":MAILTO:bbwtopnotchcattle@gmail.com
END:VEVENT
END:VCALENDAR