BEGIN:VCALENDAR
VERSION:2.0
PRODID:-//Brahman Event - ECPv6.15.15//NONSGML v1.0//EN
CALSCALE:GREGORIAN
METHOD:PUBLISH
X-WR-CALNAME:Brahman Event
X-ORIGINAL-URL:https://brahmanevent.com
X-WR-CALDESC:Events for Brahman Event
REFRESH-INTERVAL;VALUE=DURATION:PT1H
X-Robots-Tag:noindex
X-PUBLISHED-TTL:PT1H
BEGIN:VTIMEZONE
TZID:America/Chicago
BEGIN:DAYLIGHT
TZOFFSETFROM:-0600
TZOFFSETTO:-0500
TZNAME:CDT
DTSTART:20250309T080000
END:DAYLIGHT
BEGIN:STANDARD
TZOFFSETFROM:-0500
TZOFFSETTO:-0600
TZNAME:CST
DTSTART:20251102T070000
END:STANDARD
BEGIN:DAYLIGHT
TZOFFSETFROM:-0600
TZOFFSETTO:-0500
TZNAME:CDT
DTSTART:20260308T080000
END:DAYLIGHT
BEGIN:STANDARD
TZOFFSETFROM:-0500
TZOFFSETTO:-0600
TZNAME:CST
DTSTART:20261101T070000
END:STANDARD
BEGIN:DAYLIGHT
TZOFFSETFROM:-0600
TZOFFSETTO:-0500
TZNAME:CDT
DTSTART:20270314T080000
END:DAYLIGHT
BEGIN:STANDARD
TZOFFSETFROM:-0500
TZOFFSETTO:-0600
TZNAME:CST
DTSTART:20271107T070000
END:STANDARD
END:VTIMEZONE
BEGIN:VEVENT
DTSTART;VALUE=DATE:20260416
DTEND;VALUE=DATE:20260428
DTSTAMP:20260424T015048
CREATED:20251120T203259Z
LAST-MODIFIED:20260318T170351Z
UID:10001150-1776297600-1777334399@brahmanevent.com
SUMMARY:Expo San Carlos
DESCRIPTION:Events¡Haga planes para asistir a la Expo San Carlos!
URL:https://brahmanevent.com/event/expo-san-carlos/
LOCATION:Expo San Carlos Internacional\, Platanar\, San Carlos\, Costa Rica
CATEGORIES:International,Open Shows
ATTACH;FMTTYPE=image/png:https://brahmanevent.com/wp-content/uploads/brahman-event-feature-image.png
END:VEVENT
BEGIN:VEVENT
DTSTART;TZID=America/Chicago:20260423T080000
DTEND;TZID=America/Chicago:20260503T170000
DTSTAMP:20260424T015048
CREATED:20260311T225902Z
LAST-MODIFIED:20260311T231433Z
UID:10001219-1776931200-1777827600@brahmanevent.com
SUMMARY:X Expo Cebú - Panamá 2026
DESCRIPTION:Events\nMake plans to attend the X Expo Cebú - Panamá 2026!
URL:https://brahmanevent.com/event/x-expo-cebu-panama-2026/
LOCATION:Panamá\, Chiriqui\, Panama
CATEGORIES:International,Open Shows,Other Breed Show
ATTACH;FMTTYPE=image/jpeg:https://brahmanevent.com/wp-content/uploads/Expo-Panama-Event.jpg
ORGANIZER;CN="CRICEPA":MAILTO:info@cricepa.org
GEO:8.584898;-82.3885783
END:VEVENT
BEGIN:VEVENT
DTSTART;TZID=America/Chicago:20260424T120000
DTEND;TZID=America/Chicago:20260424T170000
DTSTAMP:20260424T015048
CREATED:20251120T202951Z
LAST-MODIFIED:20260318T170458Z
UID:10001149-1777032000-1777050000@brahmanevent.com
SUMMARY:Miami International Magic City Sale
DESCRIPTION:EventsMake plans to attend the Miami International Magic City Sale!
URL:https://brahmanevent.com/event/miami-international-magic-city-sale/
LOCATION:Tropical Park\, Ronald Raegan Equestrian Center\, 7900 SW 40 Street\, Miami\, FL\, 33155\, United States
CATEGORIES:Sales
ATTACH;FMTTYPE=image/jpeg:https://brahmanevent.com/wp-content/uploads/615403983_1469320655195895_7838495598444420513_n-1.jpg
ORGANIZER;CN="Miami International Show":MAILTO:kelvin@morenoranches.com
GEO:25.7300061;-80.3237043
X-APPLE-STRUCTURED-LOCATION;VALUE=URI;X-ADDRESS=Tropical Park Ronald Raegan Equestrian Center 7900 SW 40 Street Miami FL 33155 United States;X-APPLE-RADIUS=500;X-TITLE=7900 SW 40 Street:geo:-80.3237043,25.7300061
END:VEVENT
END:VCALENDAR