BEGIN:VCALENDAR
VERSION:2.0
PRODID:-//Brahman Event - ECPv6.15.15//NONSGML v1.0//EN
CALSCALE:GREGORIAN
METHOD:PUBLISH
X-WR-CALNAME:Brahman Event
X-ORIGINAL-URL:https://brahmanevent.com
X-WR-CALDESC:Events for Brahman Event
REFRESH-INTERVAL;VALUE=DURATION:PT1H
X-Robots-Tag:noindex
X-PUBLISHED-TTL:PT1H
BEGIN:VTIMEZONE
TZID:America/Chicago
BEGIN:DAYLIGHT
TZOFFSETFROM:-0600
TZOFFSETTO:-0500
TZNAME:CDT
DTSTART:20250309T080000
END:DAYLIGHT
BEGIN:STANDARD
TZOFFSETFROM:-0500
TZOFFSETTO:-0600
TZNAME:CST
DTSTART:20251102T070000
END:STANDARD
BEGIN:DAYLIGHT
TZOFFSETFROM:-0600
TZOFFSETTO:-0500
TZNAME:CDT
DTSTART:20260308T080000
END:DAYLIGHT
BEGIN:STANDARD
TZOFFSETFROM:-0500
TZOFFSETTO:-0600
TZNAME:CST
DTSTART:20261101T070000
END:STANDARD
BEGIN:DAYLIGHT
TZOFFSETFROM:-0600
TZOFFSETTO:-0500
TZNAME:CDT
DTSTART:20270314T080000
END:DAYLIGHT
BEGIN:STANDARD
TZOFFSETFROM:-0500
TZOFFSETTO:-0600
TZNAME:CST
DTSTART:20271107T070000
END:STANDARD
END:VTIMEZONE
BEGIN:VEVENT
DTSTART;VALUE=DATE:20260416
DTEND;VALUE=DATE:20260428
DTSTAMP:20260420T023015
CREATED:20251120T203259Z
LAST-MODIFIED:20260318T170351Z
UID:10001150-1776297600-1777334399@brahmanevent.com
SUMMARY:Expo San Carlos
DESCRIPTION:Events¡Haga planes para asistir a la Expo San Carlos!
URL:https://brahmanevent.com/event/expo-san-carlos/
LOCATION:Expo San Carlos Internacional\, Platanar\, San Carlos\, Costa Rica
CATEGORIES:International,Open Shows
ATTACH;FMTTYPE=image/png:https://brahmanevent.com/wp-content/uploads/brahman-event-feature-image.png
END:VEVENT
BEGIN:VEVENT
DTSTART;TZID=America/Chicago:20260420T080000
DTEND;TZID=America/Chicago:20260421T170000
DTSTAMP:20260420T023015
CREATED:20260109T215550Z
LAST-MODIFIED:20260325T173537Z
UID:10001203-1776672000-1776790800@brahmanevent.com
SUMMARY:PARTIN & PARTIN HEART BAR RANCH “HEART OF THE HERD” ONLINE PERFORMANCE BULL & HEIFER SALE
DESCRIPTION:EventsMake plans to bid in the PARTIN & PARTIN HEART BAR RANCH “HEART OF THE HERD” ONLINE PERFORMANCE BULL & HEIFER SALE! \nIf you are on a computer look to the side bar for more information. If you are on a phone or tablet scroll down for more information!
URL:https://brahmanevent.com/event/partin-partin-heart-bar-ranch-heart-of-the-herd-online-performance-bull-heifer-sale/
LOCATION:Best Cattle Sales\, United States
CATEGORIES:Best Cattle Sales
ATTACH;FMTTYPE=image/jpeg:https://brahmanevent.com/wp-content/uploads/2025-bkgd_Partin-April2026-V4-2.jpg
GEO:37.09024;-95.712891
END:VEVENT
END:VCALENDAR