BEGIN:VCALENDAR
VERSION:2.0
PRODID:-//Brahman Event - ECPv6.15.15//NONSGML v1.0//EN
CALSCALE:GREGORIAN
METHOD:PUBLISH
X-ORIGINAL-URL:https://brahmanevent.com
X-WR-CALDESC:Events for Brahman Event
REFRESH-INTERVAL;VALUE=DURATION:PT1H
X-Robots-Tag:noindex
X-PUBLISHED-TTL:PT1H
BEGIN:VTIMEZONE
TZID:America/Chicago
BEGIN:DAYLIGHT
TZOFFSETFROM:-0600
TZOFFSETTO:-0500
TZNAME:CDT
DTSTART:20240310T080000
END:DAYLIGHT
BEGIN:STANDARD
TZOFFSETFROM:-0500
TZOFFSETTO:-0600
TZNAME:CST
DTSTART:20241103T070000
END:STANDARD
BEGIN:DAYLIGHT
TZOFFSETFROM:-0600
TZOFFSETTO:-0500
TZNAME:CDT
DTSTART:20250309T080000
END:DAYLIGHT
BEGIN:STANDARD
TZOFFSETFROM:-0500
TZOFFSETTO:-0600
TZNAME:CST
DTSTART:20251102T070000
END:STANDARD
BEGIN:DAYLIGHT
TZOFFSETFROM:-0600
TZOFFSETTO:-0500
TZNAME:CDT
DTSTART:20260308T080000
END:DAYLIGHT
BEGIN:STANDARD
TZOFFSETFROM:-0500
TZOFFSETTO:-0600
TZNAME:CST
DTSTART:20261101T070000
END:STANDARD
END:VTIMEZONE
BEGIN:VTIMEZONE
TZID:America/Chicago
BEGIN:DAYLIGHT
TZOFFSETFROM:-0600
TZOFFSETTO:-0500
TZNAME:CDT
DTSTART:20240310T080000
END:DAYLIGHT
BEGIN:STANDARD
TZOFFSETFROM:-0500
TZOFFSETTO:-0600
TZNAME:CST
DTSTART:20241103T070000
END:STANDARD
BEGIN:DAYLIGHT
TZOFFSETFROM:-0600
TZOFFSETTO:-0500
TZNAME:CDT
DTSTART:20250309T080000
END:DAYLIGHT
BEGIN:STANDARD
TZOFFSETFROM:-0500
TZOFFSETTO:-0600
TZNAME:CST
DTSTART:20251102T070000
END:STANDARD
BEGIN:DAYLIGHT
TZOFFSETFROM:-0600
TZOFFSETTO:-0500
TZNAME:CDT
DTSTART:20260308T080000
END:DAYLIGHT
BEGIN:STANDARD
TZOFFSETFROM:-0500
TZOFFSETTO:-0600
TZNAME:CST
DTSTART:20261101T070000
END:STANDARD
END:VTIMEZONE
BEGIN:VEVENT
DTSTART;TZID=America/Chicago:20250626T080000
DTEND;TZID=America/Chicago:20250701T190000
DTSTAMP:20260421T063840
CREATED:20250122T192455Z
LAST-MODIFIED:20250701T161136Z
UID:10000941-1750924800-1751396400@brahmanevent.com
SUMMARY:2025 Feria Nacional Campo Agas\, San Pedro Sula\, Honduras
DESCRIPTION:EventsLa Feria Nacional Campo Agas se realizará en San Pedro Sula\, Honduras del 26 de junio al 6 de julio del 2025.
URL:https://brahmanevent.com/event/2025-feria-nacional-campo-agas-san-pedro-sula-honduras/
LOCATION:San Pedro Sula\, Honduras\, Honduras
CATEGORIES:International,Open Shows
ATTACH;FMTTYPE=image/png:https://brahmanevent.com/wp-content/uploads/2025-image.png
END:VEVENT
BEGIN:VEVENT
DTSTART;TZID=America/Chicago:20250701T080000
DTEND;TZID=America/Chicago:20250701T170000
DTSTAMP:20260421T063840
CREATED:20240802T221241Z
LAST-MODIFIED:20250113T183136Z
UID:10000689-1751356800-1751389200@brahmanevent.com
SUMMARY:Cattle Innovation Station Podcast Drop
DESCRIPTION:EventsBe sure to check out the Cattle Innovation Station Podcast Drop on the 1st of every month! The podcast is available on Pandora\, Apple Podcast\, Spotify\, Amazon Music\, Pocket Casts\, iHeart Radio\, and Castbox. Don't forget to leave your review and comments to show your support!
URL:https://brahmanevent.com/event/cattle-innovation-station-podcast-drop/2025-07-01/
CATEGORIES:Online Events,Other
ATTACH;FMTTYPE=image/jpeg:https://brahmanevent.com/wp-content/uploads/WhatsApp-Image-2024-08-02-at-17.09.53_ecf1a75d.jpg
ORGANIZER;CN="Cattle Innovation Station":MAILTO:bbwtopnotchcattle@gmail.com
END:VEVENT
BEGIN:VEVENT
DTSTART;TZID=America/Chicago:20250701T080000
DTEND;TZID=America/Chicago:20250708T170000
DTSTAMP:20260421T063840
CREATED:20241209T201306Z
LAST-MODIFIED:20250625T151551Z
UID:10000900-1751356800-1751994000@brahmanevent.com
SUMMARY:2025 AJBA 'All American'
DESCRIPTION:Events \n  \nMake plans to attend the 2025 AJBA 'All American'! \nJuly 1 - 8\, 2025 at the Brazos County Expo Center in Bryan\, TX! \nTo enter the show\, click here \nEntry Deadlines \n05/20 - Early Pricing Entry Deadline \n05/21 - Regular Pricing Entry Deadline \n06/07 - Online Entries Close at Midnight (CDT)
URL:https://brahmanevent.com/event/2025-ajba-all-american/
LOCATION:Brazos County Expo Center\, 5827 Leonard Rd\, Bryan\, TX\, 77807\, United States
CATEGORIES:Junior Shows
ATTACH;FMTTYPE=image/jpeg:https://brahmanevent.com/wp-content/uploads/464911130_875913241407813_4926900924179320063_n.jpg
ORGANIZER;CN="ABBA":MAILTO:abba@brahman.org
GEO:30.6218544;-96.4160553
X-APPLE-STRUCTURED-LOCATION;VALUE=URI;X-ADDRESS=Brazos County Expo Center 5827 Leonard Rd Bryan TX 77807 United States;X-APPLE-RADIUS=500;X-TITLE=5827 Leonard Rd:geo:-96.4160553,30.6218544
END:VEVENT
END:VCALENDAR